Workbook

Sheet PLANILHA ORÇAMENTÁRIA 
A1: PLANILHA ORÇAMENTÁRIA DE CUSTOS
A2: PREFEITURA MUNICIPAL DE GLAUCILÂNDIA-MG
A3: OBRA: REFORMA DA UNIDADE DE ATENDIMENTO INTEGRADO (UAI) | G3: DATA: | I3: =TODAY() -> 46224
A4: LOCAL: Rua São João, 135 , Bela Vista, Olhos D'Água-MG. | G4: ART.:
A5: RESPONSÁVEL TECNICO: KÁREN MARIANA SOARES VIEIRA . | G5: FORMA DE EXECUÇÃO:
A6: REGIÃO/MÊS DE REFERÊNCIA: SINAPI 04/2026 DESONERADO / SETOP 01/2026 DESONERADO / SUDECAP 04/2026 DESONERADO / ORSE 04/2026 DESONERADO | G6: ( ) | H6: DIRETA | I6: ( X ) | J6: INDIRETA
A7: COMPOSIÇÃO/DEMONSTRATIVO DE BDI - EM ANEXO | G7: % ISS MUNICIPAL: | H7: 0.03 | I7: BDI: | J7: 0.2661
A9: ITEM | B9: CÓDIGO | C9: DESCRIÇÃO | D9: FONTE | E9: UNID | F9: QUANTIDADE | G9: PREÇO UNITÁRIO R$ | I9: PREÇO TOTAL R$
G10: SEM BDI | H10: COM BDI | I10: SEM BDI | J10: COM BDI
A11: 1 | B11: CONSTRUÇÃO DE UNIDADE DE ATENDIMENTO INTEGRADO (UAI) | I11: =ROUND(SUM(I12+I14+I21+I27+I29+I36+I45+I50+I58+I72+I86+I112+I157),20) -> 127541.82 | J11: =ROUND(SUM(J12+J14+J21+J27+J29+J36+J45+J50+J58+J72+J86+J112+J157),20) -> 161471.55
A12: 1.1 | B12: SERVIÇOS PRELIMINARES | I12: =ROUND(SUM(I13),2) -> 1187.1 | J12: =ROUND(SUM(J13),2) -> 1502.99
A13: 1.1.1 | B13: ED-28427 | C13: FORNECIMENTO E COLOCAÇÃO DE PLACA DE OBRA EM CHAPA GALVANIZADA #26, ESP. 0,45MM, DIMENSÃO (3X1,5)M, PLOTADA COM ADESIVO VINÍLICO, AFIXADA COM REBITES 4,8X40MM, EM ESTRUTURA METÁLICA DE METALON 20X20MM, ESP. 1,25MM, INCLUSIVE SUPORTE EM EUCALIPTO AUTOCLAVADO PINTADO COM TINTA PVA DUAS (2) DEMÃOS | D13: SICOR | E13: un | F13: ='MEMÓRIA DE CÁLCULO '!J12 -> 1 | G13: 1187.1 | H13: =ROUND(SUM(G13*(1+$J$7)),2) -> 1502.99 | I13: =ROUND(SUM(F13*G13),2) -> 1187.1 | J13: =ROUND(SUM(F13*H13),2) -> 1502.99
A14: 1.2 | B14: DEMOLIÇÃO E REMOÇÃO | I14: =ROUND(SUM(I15:I20),2) -> 2493.96 | J14: =ROUND(SUM(J15:J20),2) -> 3157.39
A15: 1.2.1 | B15: 97622 | C15: DEMOLIÇÃO DE ALVENARIA DE BLOCO FURADO, DE FORMA MANUAL, SEM REAPROVEITAMENTO. AF_09/2023 | D15: SINAPI | E15: M3 | F15: ='MEMÓRIA DE CÁLCULO '!J22 -> 6.28 | G15: 62.98 | H15: =ROUND(SUM(G15*(1+$J$7)),2) -> 79.74 | I15: =ROUND(SUM(F15*G15),2) -> 395.51 | J15: =ROUND(SUM(F15*H15),2) -> 500.77
A16: 1.2.2 | B16: ED-48480 | C16: DEMOLIÇÃO MANUAL DE PISO CERÂMICO OU LADRILHO HIDRÁULICO, INCLUSIVE AFASTAMENTO E EMPILHAMENTO, EXCLUSIVE DEMOLIÇÃO DE CONTRAPISO, TRANSPORTE E RETIRADA DO MATERIAL DEMOLIDO | D16: SICOR | E16: m2 | F16: ='MEMÓRIA DE CÁLCULO '!J28 -> 13.81 | G16: 19.28 | H16: =ROUND(SUM(G16*(1+$J$7)),2) -> 24.41 | I16: =ROUND(SUM(F16*G16),2) -> 266.26 | J16: =ROUND(SUM(F16*H16),2) -> 337.1
A17: 1.2.3 | B17: ED-48502 | C17: DEMOLIÇÃO MANUAL DE REVESTIMENTO CERÂMICO, AZULEJO OU LADRILHO HIDRÁULICO, INCLUSIVE AFASTAMENTO E EMPILHAMENTO, EXCLUSIVE DEMOLIÇÃO DO REBOCO OU EMBOÇO, TRANSPORTE E RETIRADA DO MATERIAL DEMOLIDO | D17: SICOR | E17: m2 | F17: ='MEMÓRIA DE CÁLCULO '!J34 -> 41.58 | G17: 24.1 | H17: =ROUND(SUM(G17*(1+$J$7)),2) -> 30.51 | I17: =ROUND(SUM(F17*G17),2) -> 1002.08 | J17: =ROUND(SUM(F17*H17),2) -> 1268.61
A18: 1.2.4 | B18: ED-48467 | C18: REMOÇÃO DE LOUÇAS (LAVATÓRIO, BANHEIRA, PIA, VASO SANITÁRIO, TANQUE), COM REAPROVEITAMENTO, INCLUSIVE AFASTAMENTO E EMPILHAMENTO, EXCLUSIVE TRANSPORTE E RETIRADA DO MATERIAL REMOVIDO NÃO REAPROVEITÁVEL | D18: SICOR | E18: un | F18: ='MEMÓRIA DE CÁLCULO '!J40 -> 9 | G18: 50.1 | H18: =ROUND(SUM(G18*(1+$J$7)),2) -> 63.43 | I18: =ROUND(SUM(F18*G18),2) -> 450.9 | J18: =ROUND(SUM(F18*H18),2) -> 570.87
A19: 1.2.5 | B19: ED-48494 | C19: REMOÇÃO MANUAL DE FOLHA DE PORTA OU JANELA DE MADEIRA OU METÁLICA, COM REAPROVEITAMENTO, INCLUSIVE AFASTAMENTO E EMPILHAMENTO, EXCLUSIVE TRANSPORTE E RETIRADA DO MATERIAL REMOVIDO NÃO REAPROVEITÁVEL | D19: SICOR | E19: m2 | F19: ='MEMÓRIA DE CÁLCULO '!J49 -> 20 | G19: 10.61 | H19: =ROUND(SUM(G19*(1+$J$7)),2) -> 13.43 | I19: =ROUND(SUM(F19*G19),2) -> 212.2 | J19: =ROUND(SUM(F19*H19),2) -> 268.6
A20: 1.2.6 | B20: 104790 | C20: DEMOLIÇÃO DE PISO DE CONCRETO SIMPLES, DE FORMA MECANIZADA COM MARTELETE, SEM REAPROVEITAMENTO. AF_09/2023 | D20: SINAPI | E20: M3 | F20: ='MEMÓRIA DE CÁLCULO '!J54 -> 1.38 | G20: 121.02 | H20: =ROUND(SUM(G20*(1+$J$7)),2) -> 153.22 | I20: =ROUND(SUM(F20*G20),2) -> 167.01 | J20: =ROUND(SUM(F20*H20),2) -> 211.44
A21: 1.3 | B21: ALVENARIA E REVESTIMENTO | I21: =ROUND(SUM(I22:I26),2) -> 15935.65 | J21: =ROUND(SUM(J22:J26),2) -> 20176.26
A22: 1.3.1 | B22: 103356 | C22: ALVENARIA DE VEDAÇÃO DE BLOCOS CERÂMICOS FURADOS NA HORIZONTAL DE 9X19X29 CM (ESPESSURA 9 CM) E ARGAMASSA DE ASSENTAMENTO COM PREPARO EM BETONEIRA. AF_12/2021 | D22: SINAPI | E22: M2 | F22: ='MEMÓRIA DE CÁLCULO '!J67 -> 20.32 | G22: 68.86 | H22: =ROUND(SUM(G22*(1+$J$7)),2) -> 87.18 | I22: =ROUND(SUM(F22*G22),2) -> 1399.24 | J22: =ROUND(SUM(F22*H22),2) -> 1771.5
A23: 1.3.2 | B23: 96360 | C23: PAREDE COM SISTEMA EM CHAPAS DE GESSO PARA DRYWALL, USO INTERNO, COM DUAS FACES SIMPLES E ESTRUTURA METÁLICA COM GUIAS DUPLAS, SEM VÃOS. AF_07/2023_PS | D23: SINAPI | E23: M2 | F23: ='MEMÓRIA DE CÁLCULO '!J72 -> 97.96 | G23: 125.89 | H23: =ROUND(SUM(G23*(1+$J$7)),2) -> 159.39 | I23: =ROUND(SUM(F23*G23),2) -> 12332.18 | J23: =ROUND(SUM(F23*H23),2) -> 15613.84
A24: 1.3.3 | B24: 87905 | C24: CHAPISCO APLICADO EM ALVENARIA (COM PRESENÇA DE VÃOS) E ESTRUTURAS DE CONCRETO DE FACHADA, COM COLHER DE PEDREIRO. ARGAMASSA TRAÇO 1:3 COM PREPARO EM BETONEIRA 400L. AF_10/2022 | D24: SINAPI | E24: M2 | F24: ='MEMÓRIA DE CÁLCULO '!J77 -> 40.64 | G24: 9.13 | H24: =ROUND(SUM(G24*(1+$J$7)),2) -> 11.56 | I24: =ROUND(SUM(F24*G24),2) -> 371.04 | J24: =ROUND(SUM(F24*H24),2) -> 469.8
A25: 1.3.4 | B25: ED-50761 | C25: REBOCO COM ARGAMASSA, TRAÇO 1:2:8 (CIMENTO, CAL E AREIA), ESP. 20MM, APLICAÇÃO MANUAL, INCLUSIVE ARGAMASSA COM PREPARO MECANIZADO, EXCLUSIVE CHAPISCO | D25: SICOR | E25: m2 | F25: ='MEMÓRIA DE CÁLCULO '!J82 -> 40.64 | G25: 40.65 | H25: =ROUND(SUM(G25*(1+$J$7)),2) -> 51.47 | I25: =ROUND(SUM(F25*G25),2) -> 1652.02 | J25: =ROUND(SUM(F25*H25),2) -> 2091.74
A26: 1.3.5 | B26: 105024 | C26: VERGA MOLDADA IN LOCO EM CONCRETO, ESPESSURA DE *10* CM. AF_03/2024 | D26: SINAPI | E26: M | F26: ='MEMÓRIA DE CÁLCULO '!J87 -> 3 | G26: 60.39 | H26: =ROUND(SUM(G26*(1+$J$7)),2) -> 76.46 | I26: =ROUND(SUM(F26*G26),2) -> 181.17 | J26: =ROUND(SUM(F26*H26),2) -> 229.38
A27: 1.4 | B27: COBERTURA | I27: =ROUND(SUM(I28:I28),2) -> 8169.02 | J27: =ROUND(SUM(J28:J28),2) -> 10342.8
A28: 1.4.1 | B28: ED-49685 | C28: FORRO EM PLACA DE GESSO LISO, DIMENSÃO (60X60)CM, COM FIXAÇÃO DO TIPO ARAMADO, EXCLUSIVE PERFIL TABICA, SANCA E MOLDURA, INCLUSIVE ACESSÓRIOS E FIXAÇÃO | D28: SICOR | E28: m2 | F28: ='MEMÓRIA DE CÁLCULO '!J100 -> 103.76 | G28: 78.73 | H28: =ROUND(SUM(G28*(1+$J$7)),2) -> 99.68 | I28: =ROUND(SUM(F28*G28),2) -> 8169.02 | J28: =ROUND(SUM(F28*H28),2) -> 10342.8
A29: 1.5 | B29: PISOS E REVESTIMENTOS | I29: =ROUND(SUM(I30:I35),2) -> 16721.46 | J29: =ROUND(SUM(J30:J35),2) -> 21170.21
A30: 1.5.1 | B30: 96616 | C30: LASTRO DE CONCRETO MAGRO, APLICADO EM BLOCOS DE COROAMENTO OU SAPATAS. AF_01/2024 | D30: SINAPI | E30: M3 | F30: ='MEMÓRIA DE CÁLCULO '!J106 -> 0.93 | G30: 936.74 | H30: =ROUND(SUM(G30*(1+$J$7)),2) -> 1186.01 | I30: =ROUND(SUM(F30*G30),2) -> 871.17 | J30: =ROUND(SUM(F30*H30),2) -> 1102.99
A31: 1.5.2 | B31: ED-50566 | C31: CONTRAPISO DESEMPENADO COM ARGAMASSA, TRAÇO 1:3 (CIMENTO E AREIA), ESP. 20MM, INCLUSIVE ARGAMASSA COM PREPARO MECANIZADO | D31: SICOR | E31: m2 | F31: ='MEMÓRIA DE CÁLCULO '!J112 -> 21.8 | G31: 40.79 | H31: =ROUND(SUM(G31*(1+$J$7)),2) -> 51.64 | I31: =ROUND(SUM(F31*G31),2) -> 889.22 | J31: =ROUND(SUM(F31*H31),2) -> 1125.75
A32: 1.5.3 | B32: 87257 | C32: REVESTIMENTO CERÂMICO PARA PISO COM PLACAS TIPO ESMALTADA DE DIMENSÕES 60X60 CM APLICADA EM AMBIENTES DE ÁREA MAIOR QUE 10 M2. AF_02/2023_PE | D32: SINAPI | E32: M2 | F32: ='MEMÓRIA DE CÁLCULO '!J130 -> 154.06 | G32: 63.52 | H32: =ROUND(SUM(G32*(1+$J$7)),2) -> 80.42 | I32: =ROUND(SUM(F32*G32),2) -> 9785.89 | J32: =ROUND(SUM(F32*H32),2) -> 12389.51
A33: 1.5.4 | B33: 88650 | C33: RODAPÉ CERÂMICO DE 7CM DE ALTURA COM PLACAS TIPO ESMALTADA DE DIMENSÕES 60X60CM. AF_02/2023 | D33: SINAPI | E33: M | F33: ='MEMÓRIA DE CÁLCULO '!J146 -> 95.14 | G33: 12.15 | H33: =ROUND(SUM(G33*(1+$J$7)),2) -> 15.38 | I33: =ROUND(SUM(F33*G33),2) -> 1155.95 | J33: =ROUND(SUM(F33*H33),2) -> 1463.25
A34: 1.5.5 | B34: 87273 | C34: REVESTIMENTO CERÂMICO PARA PAREDES INTERNAS COM PLACAS TIPO ESMALTADA DE DIMENSÕES 33X45 CM APLICADAS NA ALTURA INTEIRA DAS PAREDES. AF_02/2023_PE | D34: SINAPI | E34: M2 | F34: ='MEMÓRIA DE CÁLCULO '!J154 -> 55.17 | G34: 69.3 | H34: =ROUND(SUM(G34*(1+$J$7)),2) -> 87.74 | I34: =ROUND(SUM(F34*G34),2) -> 3823.28 | J34: =ROUND(SUM(F34*H34),2) -> 4840.62
A35: 1.5.6 | B35: ED-51002 | C35: SOLEIRA DE GRANITO, COR CINZA ANDORINHA, ESP. 2CM, ACABAMENTO POLIDO, ASSENTAMENTO COM ARGAMASSA INDUSTRIALIZADA, INCLUSIVE REJUNTAMENTO | D35: SICOR | E35: m2 | F35: ='MEMÓRIA DE CÁLCULO '!J160 -> 0.51 | G35: 384.22 | H35: =ROUND(SUM(G35*(1+$J$7)),2) -> 486.46 | I35: =ROUND(SUM(F35*G35),2) -> 195.95 | J35: =ROUND(SUM(F35*H35),2) -> 248.09
A36: 1.6 | B36: PINTURA | I36: =ROUND(SUM(I37:I44),2) -> 22137.48 | J36: =ROUND(SUM(J37:J44),2) -> 28023.25
A37: 1.6.1 | B37: ED-50505 | C37: LIXAMENTO MANUAL EM PAREDE PARA REMOÇÃO DE TINTA | D37: SICOR | E37: m2 | F37: ='MEMÓRIA DE CÁLCULO '!J168 -> 451.7 | G37: 3.51 | H37: =ROUND(SUM(G37*(1+$J$7)),2) -> 4.44 | I37: =ROUND(SUM(F37*G37),2) -> 1585.47 | J37: =ROUND(SUM(F37*H37),2) -> 2005.55
A38: 1.6.2 | B38: 88485 | C38: FUNDO SELADOR ACRÍLICO, APLICAÇÃO MANUAL EM PAREDE, UMA DEMÃO. AF_04/2023 | D38: SINAPI | E38: M2 | F38: ='MEMÓRIA DE CÁLCULO '!J187 -> 602.57 | G38: 4.79 | H38: =ROUND(SUM(G38*(1+$J$7)),2) -> 6.06 | I38: =ROUND(SUM(F38*G38),2) -> 2886.31 | J38: =ROUND(SUM(F38*H38),2) -> 3651.57
A39: 1.6.3 | B39: 88495 | C39: EMASSAMENTO COM MASSA LÁTEX, APLICAÇÃO EM PAREDE, UMA DEMÃO, LIXAMENTO MANUAL. AF_04/2023 | D39: SINAPI | E39: M2 | F39: ='MEMÓRIA DE CÁLCULO '!J192 -> 264.49 | G39: 13.16 | H39: =ROUND(SUM(G39*(1+$J$7)),2) -> 16.66 | I39: =ROUND(SUM(F39*G39),2) -> 3480.69 | J39: =ROUND(SUM(F39*H39),2) -> 4406.4
A40: 1.6.4 | B40: 104641 | C40: PINTURA LÁTEX ACRÍLICA ECONÔMICA, APLICAÇÃO MANUAL EM PAREDES, DUAS DEMÃOS. AF_04/2023 | D40: SINAPI | E40: M2 | F40: ='MEMÓRIA DE CÁLCULO '!J211 -> 602.57 | G40: 10.41 | H40: =ROUND(SUM(G40*(1+$J$7)),2) -> 13.18 | I40: =ROUND(SUM(F40*G40),2) -> 6272.75 | J40: =ROUND(SUM(F40*H40),2) -> 7941.87
A41: 1.6.5 | B41: ED-50486 | C41: EMASSAMENTO EM FORRO DE GESSO COM MASSA CORRIDA (PVA), UMA (1) DEMÃO, INCLUSIVE LIXAMENTO PARA PINTURA | D41: SICOR | E41: m2 | F41: ='MEMÓRIA DE CÁLCULO '!J223 -> 103.76 | G41: 18.8 | H41: =ROUND(SUM(G41*(1+$J$7)),2) -> 23.8 | I41: =ROUND(SUM(F41*G41),2) -> 1950.69 | J41: =ROUND(SUM(F41*H41),2) -> 2469.49
A42: 1.6.6 | B42: ED-50452 | C42: PINTURA ACRÍLICA EM TETO, DUAS (2) DEMÃOS, COM APLICAÇÃO MANUAL, EXCLUSIVE SELADOR ACRÍLICO E MASSA ACRÍLICA/CORRIDA (PVA) | D42: SICOR | E42: m2 | F42: ='MEMÓRIA DE CÁLCULO '!J241 -> 154.06 | G42: 21.3 | H42: =ROUND(SUM(G42*(1+$J$7)),2) -> 26.97 | I42: =ROUND(SUM(F42*G42),2) -> 3281.48 | J42: =ROUND(SUM(F42*H42),2) -> 4155
B43: 102220 | C43: PINTURA TINTA DE ACABAMENTO (PIGMENTADA) ESMALTE SINTÉTICO BRILHANTE EM MADEIRA, 2 DEMÃOS. AF_01/2021 | D43: SINAPI | E43: m2 | F43: ='MEMÓRIA DE CÁLCULO '!J248 -> 34.02 | G43: 19.29 | H43: =ROUND(SUM(G43*(1+$J$7)),2) -> 24.42 | I43: =ROUND(SUM(F43*G43),2) -> 656.25 | J43: =ROUND(SUM(F43*H43),2) -> 830.77
B44: ED-50497 | C44: PINTURA ESMALTE BASE SOLVENTE EM ESTRUTURA METÁLICA, DUAS (2) DEMÃOS, COM APLICAÇÃO MANUAL, INCLUSIVE UMA (1) DEMÃO FUNDO GALVANIZADO | D44: SICOR | E44: m2 | F44: ='MEMÓRIA DE CÁLCULO '!J258 -> 55.6 | G44: 36.4 | H44: =ROUND(SUM(G44*(1+$J$7)),2) -> 46.09 | I44: =ROUND(SUM(F44*G44),2) -> 2023.84 | J44: =ROUND(SUM(F44*H44),2) -> 2562.6
A45: 1.7 | B45: ESQUADRIAS | I45: =ROUND(SUM(I46:I49),2) -> 9273.07 | J45: =ROUND(SUM(J46:J49),2) -> 11740.66
A46: 1.7.1 | B46: 106142 | C46: PORTA-PRONTA DE MADEIRA, FOLHA LEVE OU MÉDIA, 70X210CM, FIXAÇÃO COM PREENCHIMENTO TOTAL DE ESPUMA EXPANSIVA - FORNECIMENTO E INSTALAÇÃO. AF_10/2025 | D46: SINAPI | E46: UN | F46: ='MEMÓRIA DE CÁLCULO '!J264 -> 1 | G46: 815.66 | H46: =ROUND(SUM(G46*(1+$J$7)),2) -> 1032.71 | I46: =ROUND(SUM(F46*G46),2) -> 815.66 | J46: =ROUND(SUM(F46*H46),2) -> 1032.71
A47: 1.7.2 | B47: 106143 | C47: PORTA-PRONTA DE MADEIRA, FOLHA LEVE OU MÉDIA, 80X210CM, FIXAÇÃO COM PREENCHIMENTO TOTAL DE ESPUMA EXPANSIVA - FORNECIMENTO E INSTALAÇÃO. AF_10/2025 | D47: SINAPI | E47: UN | F47: ='MEMÓRIA DE CÁLCULO '!J269 -> 7 | G47: 840.65 | H47: =ROUND(SUM(G47*(1+$J$7)),2) -> 1064.35 | I47: =ROUND(SUM(F47*G47),2) -> 5884.55 | J47: =ROUND(SUM(F47*H47),2) -> 7450.45
A48: 1.7.3 | B48: 91315 | C48: KIT DE PORTA DE MADEIRA PARA PINTURA, SEMI-OCA (LEVE OU MÉDIA), PADRÃO POPULAR, 90X210CM, ESPESSURA DE 3,5CM, ITENS INCLUSOS: DOBRADIÇAS, MONTAGEM E INSTALAÇÃO DO BATENTE, FECHADURA COM EXECUÇÃO DO FURO - FORNECIMENTO E INSTALAÇÃO. AF_10/2025 | D48: SINAPI | E48: UN | F48: ='MEMÓRIA DE CÁLCULO '!J274 -> 2 | G48: 1095.71 | H48: =ROUND(SUM(G48*(1+$J$7)),2) -> 1387.28 | I48: =ROUND(SUM(F48*G48),2) -> 2191.42 | J48: =ROUND(SUM(F48*H48),2) -> 2774.56
A49: 1.7.4 | B49: ED-29483 | C49: JANELA EM ALUMÍNIO FIXA COMPLETA, LINHA 25/SUPREMA, ACABAMENTO ANODIZADO NATURAL, INCLUSIVE PERFIS E VIDRO LISO 4MM E INSTALAÇÃO | D49: SICOR | E49: m2 | F49: ='MEMÓRIA DE CÁLCULO '!J279 -> 0.6 | G49: 635.73 | H49: =ROUND(SUM(G49*(1+$J$7)),2) -> 804.9 | I49: =ROUND(SUM(F49*G49),2) -> 381.44 | J49: =ROUND(SUM(F49*H49),2) -> 482.94
A50: 1.8 | B50: LOUÇAS, METAIS E BANCADAS | I50: =ROUND(SUM(I51:I57),2) -> 5691.2 | J50: =ROUND(SUM(J51:J57),2) -> 7205.62
A51: 1.8.1 | B51: ED-50301 | C51: BACIA SANITÁRIA (VASO) DE LOUÇA CONVENCIONAL ACESSÍVEL (PCR/PMR), COR BRANCA, INCLUSIVE SÓCULO NA BASE, ACESSÓRIOS DE FIXAÇÃO/VEDAÇÃO, VÁLVULA DE DESCARGA METÁLICA COM ACIONAMENTO DUPLO, TUBO DE LIGAÇÃO DE LATÃO COM CANOPLA,E REJUNTAMENTO, EXCLUSIVE ASSENTO | D51: SICOR | E51: un | F51: ='MEMÓRIA DE CÁLCULO '!J285 -> 2 | G51: 1073.05 | H51: =ROUND(SUM(G51*(1+$J$7)),2) -> 1358.59 | I51: =ROUND(SUM(F51*G51),2) -> 2146.1 | J51: =ROUND(SUM(F51*H51),2) -> 2717.18
A52: 1.8.2 | B52: 86900 | C52: CUBA DE EMBUTIR RETANGULAR DE AÇO INOXIDÁVEL, 46 X 30 X 12 CM - FORNECIMENTO E INSTALAÇÃO. AF_02/2026 | D52: SINAPI | E52: UN | F52: ='MEMÓRIA DE CÁLCULO '!J290 -> 1 | G52: 215.59 | H52: =ROUND(SUM(G52*(1+$J$7)),2) -> 272.96 | I52: =ROUND(SUM(F52*G52),2) -> 215.59 | J52: =ROUND(SUM(F52*H52),2) -> 272.96
A53: 1.8.3 | B53: 00036521 | C53: LAVATORIO DE CANTO DE LOUCA BRANCA, SUSPENSO (SEM COLUNA), DIMENSOES *40 X 30* CM (L X C) | D53: SINAPI | E53: UN | F53: ='MEMÓRIA DE CÁLCULO '!J295 -> 2 | G53: 175.92 | H53: =ROUND(SUM(G53*(1+$J$7)),2) -> 222.73 | I53: =ROUND(SUM(F53*G53),2) -> 351.84 | J53: =ROUND(SUM(F53*H53),2) -> 445.46
A54: 1.8.4 | B54: ED-48160 | C54: BARRA DE APOIO EM AÇO INOX POLIDO RETA, DIÂMETRO DE 1.1/4", PARA ACESSIBILIDADE (PMR/PCR), COMPRIMENTO 80CM, INSTALADO EM PAREDE, INCLUSIVE ACESSÓRIOS PARA FIXAÇÃO | D54: SICOR | E54: un | F54: ='MEMÓRIA DE CÁLCULO '!J300 -> 4 | G54: 155.11 | H54: =ROUND(SUM(G54*(1+$J$7)),2) -> 196.38 | I54: =ROUND(SUM(F54*G54),2) -> 620.44 | J54: =ROUND(SUM(F54*H54),2) -> 785.52
A55: 1.8.5 | B55: ED-48163 | C55: BARRA DE APOIO EM AÇO INOX POLIDO RETA, DIÂMETRO DE 1.1/4", PARA ACESSIBILIDADE (PMR/PCR), COMPRIMENTO 40CM, INSTALADO EM PORTA/PAREDE, INCLUSIVE ACESSÓRIOS PARA FIXAÇÃO | D55: SICOR | E55: un | F55: ='MEMÓRIA DE CÁLCULO '!J305 -> 2 | G55: 141.33 | H55: =ROUND(SUM(G55*(1+$J$7)),2) -> 178.94 | I55: =ROUND(SUM(F55*G55),2) -> 282.66 | J55: =ROUND(SUM(F55*H55),2) -> 357.88
A56: 1.8.6 | B56: ED-21631 | C56: BANCADA EM GRANITO, COR CINZA ANDORINHA, ESP. 2CM, ACABAMENTO POLIDO, APOIADA EM CONSOLE DE METALON (50X30)MM, EXCLUSIVE RODABANCA/FRONTÃO, TESTEIRA/FAIXA, FURO EM BANCADA, CUBA METÁLICA, VÁLVULA, SIFÃO, TORNEIRA E ENGATE FLEXÍVEL | D56: SICOR | E56: m2 | F56: 3.13 | G56: 476.5 | H56: =ROUND(SUM(G56*(1+$J$7)),2) -> 603.3 | I56: =ROUND(SUM(F56*G56),2) -> 1491.45 | J56: =ROUND(SUM(F56*H56),2) -> 1888.33
A57: 1.8.7 | B57: 86874 | C57: TANQUE DE LOUÇA BRANCA SUSPENSO, *20*L OU EQUIVALENTE - FORNECIMENTO E INSTALAÇÃO. AF_02/2026 | D57: SINAPI | E57: UN | F57: 1 | G57: 583.12 | H57: =ROUND(SUM(G57*(1+$J$7)),2) -> 738.29 | I57: =ROUND(SUM(F57*G57),2) -> 583.12 | J57: =ROUND(SUM(F57*H57),2) -> 738.29
A58: 1.9 | B58: CLIMATIZAÇÃO | I58: =ROUND(SUM(I59:I71),2) -> 4885.07 | J58: =ROUND(SUM(J59:J71),2) -> 6184.77
A59: 1.9.1 | B59: S14057 | C59: Caixa de passagem polar para ar condicionado Split | D59: ORSE | E59: un | F59: 7 | G59: 58.53 | H59: =ROUND(SUM(G59*(1+$J$7)),2) -> 74.1 | I59: =ROUND(SUM(F59*G59),2) -> 409.71 | J59: =ROUND(SUM(F59*H59),2) -> 518.7
A60: 1.9.2 | B60: 89489 | C60: CURVA 90 GRAUS, PVC, SOLDÁVEL, DN 25MM, INSTALADO EM PRUMADA DE ÁGUA - FORNECIMENTO E INSTALAÇÃO. AF_06/2022 | D60: SINAPI | E60: UN | F60: 13 | G60: 8.55 | H60: =ROUND(SUM(G60*(1+$J$7)),2) -> 10.83 | I60: =ROUND(SUM(F60*G60),2) -> 111.15 | J60: =ROUND(SUM(F60*H60),2) -> 140.79
A61: 1.9.3 | B61: 89865 | C61: TUBO, PVC, SOLDÁVEL, DE 25MM, INSTALADO EM DRENO DE AR-CONDICIONADO - FORNECIMENTO E INSTALAÇÃO. AF_08/2022 | D61: SINAPI | E61: M | F61: 60.86 | G61: 19.37 | H61: =ROUND(SUM(G61*(1+$J$7)),2) -> 24.52 | I61: =ROUND(SUM(F61*G61),2) -> 1178.86 | J61: =ROUND(SUM(F61*H61),2) -> 1492.29
A62: 1.9.4 | B62: S11412 | C62: Cabo de cobre PP Cordplast 4 x 2,5 mm2, 450/750v - fornecimento e instalação | D62: ORSE | E62: M | F62: 18.33 | G62: 17.64 | H62: =ROUND(SUM(G62*(1+$J$7)),2) -> 22.33 | I62: =ROUND(SUM(F62*G62),2) -> 323.34 | J62: =ROUND(SUM(F62*H62),2) -> 409.31
A63: 1.9.5 | B63: S11506 | C63: Fornecimento e instalação de tubo esponjoso d=1/4" | D63: ORSE | E63: m | F63: 15.85 | G63: 6.65 | H63: =ROUND(SUM(G63*(1+$J$7)),2) -> 8.42 | I63: =ROUND(SUM(F63*G63),2) -> 105.4 | J63: =ROUND(SUM(F63*H63),2) -> 133.46
A64: 1.9.6 | B64: S11507 | C64: Fornecimento e instalação de tubo esponjoso d=3/8" | D64: ORSE | E64: m | F64: 3.79 | G64: 7.1 | H64: =ROUND(SUM(G64*(1+$J$7)),2) -> 8.99 | I64: =ROUND(SUM(F64*G64),2) -> 26.91 | J64: =ROUND(SUM(F64*H64),2) -> 34.07
A65: 1.9.7 | B65: S09837 | C65: Fornecimento e instalação de tubo esponjoso d=5/8" | D65: ORSE | E65: m | F65: 5.19 | G65: 7.07 | H65: =ROUND(SUM(G65*(1+$J$7)),2) -> 8.95 | I65: =ROUND(SUM(F65*G65),2) -> 36.69 | J65: =ROUND(SUM(F65*H65),2) -> 46.45
A66: 1.9.8 | B66: 97327 | C66: TUBO EM COBRE FLEXÍVEL, DN 1/4", COM ISOLAMENTO, INSTALADO EM RAMAL DE ALIMENTAÇÃO DE AR-CONDICIONADO - FORNECIMENTO E INSTALAÇÃO. AF_07/2025 | D66: SINAPI | E66: M | F66: 15.85 | G66: 41.33 | H66: =ROUND(SUM(G66*(1+$J$7)),2) -> 52.33 | I66: =ROUND(SUM(F66*G66),2) -> 655.08 | J66: =ROUND(SUM(F66*H66),2) -> 829.43
A67: 1.9.9 | B67: 97328 | C67: TUBO EM COBRE FLEXÍVEL, DN 3/8", COM ISOLAMENTO, INSTALADO EM RAMAL DE ALIMENTAÇÃO DE AR-CONDICIONADO - FORNECIMENTO E INSTALAÇÃO. AF_07/2025 | D67: SINAPI | E67: M | F67: 3.79 | G67: 66.82 | H67: =ROUND(SUM(G67*(1+$J$7)),2) -> 84.6 | I67: =ROUND(SUM(F67*G67),2) -> 253.25 | J67: =ROUND(SUM(F67*H67),2) -> 320.63
A68: 1.9.10 | B68: 97330 | C68: TUBO EM COBRE FLEXÍVEL, DN 5/8", COM ISOLAMENTO, INSTALADO EM RAMAL DE ALIMENTAÇÃO DE AR-CONDICIONADO - FORNECIMENTO E INSTALAÇÃO. AF_07/2025 | D68: SINAPI | E68: M | F68: 5.19 | G68: 107.61 | H68: =ROUND(SUM(G68*(1+$J$7)),2) -> 136.25 | I68: =ROUND(SUM(F68*G68),2) -> 558.5 | J68: =ROUND(SUM(F68*H68),2) -> 707.14
A69: 1.9.11 | B69: 89869 | C69: TE, PVC, SOLDÁVEL, DN 25MM, INSTALADO EM DRENO DE AR-CONDICIONADO - FORNECIMENTO E INSTALAÇÃO. AF_08/2022 | D69: SINAPI | E69: UN | F69: 5 | G69: 11.5 | H69: =ROUND(SUM(G69*(1+$J$7)),2) -> 14.56 | I69: =ROUND(SUM(F69*G69),2) -> 57.5 | J69: =ROUND(SUM(F69*H69),2) -> 72.8
A70: 1.9.12 | B70: S11508 | C70: Fornecimento e instalação de tubo esponjoso d=1/2" | D70: ORSE | E70: m | F70: 11.83 | G70: 7.16 | H70: =ROUND(SUM(G70*(1+$J$7)),2) -> 9.07 | I70: =ROUND(SUM(F70*G70),2) -> 84.7 | J70: =ROUND(SUM(F70*H70),2) -> 107.3
A71: 1.9.13 | B71: 103291 | C71: TUBO EM COBRE FLEXÍVEL, DN 1/2", COM ISOLAMENTO, INSTALADO EM FORRO, PARA RAMAL DE ALIMENTAÇÃO DE AR CONDICIONADO, INCLUSO FIXADOR. AF_11/2021 | D71: SINAPI | E71: M | F71: 11.83 | G71: 91.63 | H71: =ROUND(SUM(G71*(1+$J$7)),2) -> 116.01 | I71: =ROUND(SUM(F71*G71),2) -> 1083.98 | J71: =ROUND(SUM(F71*H71),2) -> 1372.4
A72: 1.10 | B72: CABEAMENTO ESTRUTURADO | I72: =ROUND(SUM(I73:I85),2) -> 8494.92 | J72: =ROUND(SUM(J73:J85),2) -> 10754.25
A73: 1.10.1 | B73: ED-9195 | C73: CONECTOR/PLUG MACHO RJ45, CATEGORIA 6, INCLUSIVE CAPA PROTETORA E CRIMPAGEM, EXCLUSIVE CERTIFICAÇÃO | D73: SICOR | E73: un | F73: 30 | G73: 2.54 | H73: =ROUND(SUM(G73*(1+$J$7)),2) -> 3.22 | I73: =ROUND(SUM(F73*G73),2) -> 76.2 | J73: =ROUND(SUM(F73*H73),2) -> 96.6
A74: 1.10.2 | B74: 98301 | C74: PATCH PANEL 24 PORTAS, CATEGORIA 5E - FORNECIMENTO E INSTALAÇÃO. AF_08/2025 | D74: SINAPI | E74: UN | F74: 1 | G74: 641.94 | H74: =ROUND(SUM(G74*(1+$J$7)),2) -> 812.76 | I74: =ROUND(SUM(F74*G74),2) -> 641.94 | J74: =ROUND(SUM(F74*H74),2) -> 812.76
A75: 1.10.3 | B75: ED-9195 | C75: CONECTOR/PLUG MACHO RJ45, CATEGORIA 6, INCLUSIVE CAPA PROTETORA E CRIMPAGEM, EXCLUSIVE CERTIFICAÇÃO | D75: SICOR | E75: un | F75: 96 | G75: 2.54 | H75: =ROUND(SUM(G75*(1+$J$7)),2) -> 3.22 | I75: =ROUND(SUM(F75*G75),2) -> 243.84 | J75: =ROUND(SUM(F75*H75),2) -> 309.12
A76: 1.10.4 | B76: I07615 | C76: Switch 24 portas 10/100 Mbps | D76: ORSE | E76: Un | F76: 1 | G76: 520 | H76: =ROUND(SUM(G76*(1+$J$7)),2) -> 658.37 | I76: =ROUND(SUM(F76*G76),2) -> 520 | J76: =ROUND(SUM(F76*H76),2) -> 658.37
A77: 1.10.5 | B77: 74.26.05 | C77: CALHA COM 8 TOMADAS 19" | D77: SUDECAP | E77: UN | F77: 4 | G77: 91.34 | H77: =ROUND(SUM(G77*(1+$J$7)),2) -> 115.65 | I77: =ROUND(SUM(F77*G77),2) -> 365.36 | J77: =ROUND(SUM(F77*H77),2) -> 462.6
A78: 1.10.6 | B78: I01089 | C78: Guia de cabos fechado 19" 1U | D78: ORSE | E78: un | F78: 2 | G78: 18.6 | H78: =ROUND(SUM(G78*(1+$J$7)),2) -> 23.55 | I78: =ROUND(SUM(F78*G78),2) -> 37.2 | J78: =ROUND(SUM(F78*H78),2) -> 47.1
A79: 1.10.7 | B79: 92868 | C79: CAIXA RETANGULAR 4" X 2" MÉDIA (1,30 M DO PISO), METÁLICA, INSTALADA EM PAREDE - FORNECIMENTO E INSTALAÇÃO. AF_03/2023 | D79: SINAPI | E79: UN | F79: 13 | G79: 19.12 | H79: =ROUND(SUM(G79*(1+$J$7)),2) -> 24.21 | I79: =ROUND(SUM(F79*G79),2) -> 248.56 | J79: =ROUND(SUM(F79*H79),2) -> 314.73
A80: 1.10.8 | B80: 11.80.20 | C80: CABO UTP 4 PARES - CATEGORIA 5E - FURUKAWA/EQUIVALENTE | D80: SUDECAP | E80: M | F80: 361 | G80: 6.44 | H80: =ROUND(SUM(G80*(1+$J$7)),2) -> 8.15 | I80: =ROUND(SUM(F80*G80),2) -> 2324.84 | J80: =ROUND(SUM(F80*H80),2) -> 2942.15
A81: 1.10.9 | B81: I14370 | C81: Placa 4" x 2" para tomada rj-45 cat.6 - p/ 01 módulos | D81: ORSE | E81: un | F81: 13 | G81: 4 | H81: =ROUND(SUM(G81*(1+$J$7)),2) -> 5.06 | I81: =ROUND(SUM(F81*G81),2) -> 52 | J81: =ROUND(SUM(F81*H81),2) -> 65.78
A82: 1.10.10 | B82: 91835 | C82: ELETRODUTO FLEXÍVEL CORRUGADO REFORÇADO, PVC, DN 25 MM (3/4"), PARA CIRCUITOS TERMINAIS, INSTALADO EM FORRO - FORNECIMENTO E INSTALAÇÃO. AF_03/2023 | D82: SINAPI | E82: M | F82: 115.32 | G82: 19.7 | H82: =ROUND(SUM(G82*(1+$J$7)),2) -> 24.94 | I82: =ROUND(SUM(F82*G82),2) -> 2271.8 | J82: =ROUND(SUM(F82*H82),2) -> 2876.08
A83: 1.10.11 | B83: 00000400 | C83: ABRACADEIRA EM ACO PARA AMARRACAO DE ELETRODUTOS, TIPO D, COM 3/4" E PARAFUSO DE FIXACAO | D83: SINAPI | E83: UN | F83: 23 | G83: 1.63 | H83: =ROUND(SUM(G83*(1+$J$7)),2) -> 2.06 | I83: =ROUND(SUM(F83*G83),2) -> 37.49 | J83: =ROUND(SUM(F83*H83),2) -> 47.38
A84: 1.10.12 | B84: 100555 | C84: RACK ABERTO EM COLUNA 44U PARA SERVIDOR - FORNECIMENTO E INSTALAÇÃO. AF_08/2025 | D84: SINAPI | E84: UN | F84: 1 | G84: 1413.49 | H84: =ROUND(SUM(G84*(1+$J$7)),2) -> 1789.62 | I84: =ROUND(SUM(F84*G84),2) -> 1413.49 | J84: =ROUND(SUM(F84*H84),2) -> 1789.62
A85: 1.10.13 | B85: I11100 | C85: Tomada para lógica no piso, metal, RJ45 | D85: ORSE | E85: un | F85: 4 | G85: 65.55 | H85: =ROUND(SUM(G85*(1+$J$7)),2) -> 82.99 | I85: =ROUND(SUM(F85*G85),2) -> 262.2 | J85: =ROUND(SUM(F85*H85),2) -> 331.96
A86: 1.11 | B86: INSTALAÇÕES ELÉTRICAS | I86: =ROUND(SUM(I87:I111),2) -> 21609.7 | J86: =ROUND(SUM(J87:J111),2) -> 27358.29
A87: 1.11.1 | B87: 91941 | C87: CAIXA RETANGULAR 4" X 2" BAIXA (0,30 M DO PISO), PVC, INSTALADA EM PAREDE - FORNECIMENTO E INSTALAÇÃO. AF_03/2023 | D87: SINAPI | E87: UN | F87: 66 | G87: 13.59 | H87: =ROUND(SUM(G87*(1+$J$7)),2) -> 17.21 | I87: =ROUND(SUM(F87*G87),2) -> 896.94 | J87: =ROUND(SUM(F87*H87),2) -> 1135.86
A88: 1.11.2 | B88: 91924 | C88: CABO DE COBRE FLEXÍVEL ISOLADO, 1,5 MM², ANTI-CHAMA 450/750 V, PARA CIRCUITOS TERMINAIS - FORNECIMENTO E INSTALAÇÃO. AF_03/2023 | D88: SINAPI | E88: M | F88: 371.2 | G88: 3.58 | H88: =ROUND(SUM(G88*(1+$J$7)),2) -> 4.53 | I88: =ROUND(SUM(F88*G88),2) -> 1328.9 | J88: =ROUND(SUM(F88*H88),2) -> 1681.54
A89: 1.11.3 | B89: 91934 | C89: CABO DE COBRE FLEXÍVEL ISOLADO, 16 MM², ANTI-CHAMA 450/750 V, PARA CIRCUITOS TERMINAIS - FORNECIMENTO E INSTALAÇÃO. AF_03/2023 | D89: SINAPI | E89: M | F89: 2.65 | G89: 29.47 | H89: =ROUND(SUM(G89*(1+$J$7)),2) -> 37.31 | I89: =ROUND(SUM(F89*G89),2) -> 78.1 | J89: =ROUND(SUM(F89*H89),2) -> 98.87
A90: 1.11.4 | B90: 91926 | C90: CABO DE COBRE FLEXÍVEL ISOLADO, 2,5 MM², ANTI-CHAMA 450/750 V, PARA CIRCUITOS TERMINAIS - FORNECIMENTO E INSTALAÇÃO. AF_03/2023 | D90: SINAPI | E90: M | F90: 760.54 | G90: 5.23 | H90: =ROUND(SUM(G90*(1+$J$7)),2) -> 6.62 | I90: =ROUND(SUM(F90*G90),2) -> 3977.62 | J90: =ROUND(SUM(F90*H90),2) -> 5034.77
A91: 1.11.5 | B91: 91928 | C91: CABO DE COBRE FLEXÍVEL ISOLADO, 4 MM², ANTI-CHAMA 450/750 V, PARA CIRCUITOS TERMINAIS - FORNECIMENTO E INSTALAÇÃO. AF_03/2023 | D91: SINAPI | E91: M | F91: 294.1 | G91: 8.12 | H91: =ROUND(SUM(G91*(1+$J$7)),2) -> 10.28 | I91: =ROUND(SUM(F91*G91),2) -> 2388.09 | J91: =ROUND(SUM(F91*H91),2) -> 3023.35
A92: 1.11.6 | B92: ED-49165 | C92: CAIXA DE PASSAGEM PARA PISO EM ALUMÍNIO, TAMPA REVERSÍVEL (ANTIDERRAPANTE OU LISA), DIMENSÃO (200X200X100)MM, INCLUSIVE ACESSÓRIOS E FIXAÇÃO | D92: SICOR | E92: un | F92: 1 | G92: 129.9 | H92: =ROUND(SUM(G92*(1+$J$7)),2) -> 164.47 | I92: =ROUND(SUM(F92*G92),2) -> 129.9 | J92: =ROUND(SUM(F92*H92),2) -> 164.47
A93: 1.11.7 | B93: 91953 | C93: INTERRUPTOR SIMPLES (1 MÓDULO), 10A/250V, INCLUINDO SUPORTE E PLACA - FORNECIMENTO E INSTALAÇÃO. AF_03/2023 | D93: SINAPI | E93: UN | F93: 10 | G93: 31.54 | H93: =ROUND(SUM(G93*(1+$J$7)),2) -> 39.93 | I93: =ROUND(SUM(F93*G93),2) -> 315.4 | J93: =ROUND(SUM(F93*H93),2) -> 399.3
A94: 1.11.8 | B94: 91954 | C94: INTERRUPTOR PARALELO (1 MÓDULO), 10A/250V, SEM SUPORTE E SEM PLACA - FORNECIMENTO E INSTALAÇÃO. AF_03/2023 | D94: SINAPI | E94: UN | F94: 4 | G94: 26.86 | H94: =ROUND(SUM(G94*(1+$J$7)),2) -> 34.01 | I94: =ROUND(SUM(F94*G94),2) -> 107.44 | J94: =ROUND(SUM(F94*H94),2) -> 136.04
A95: 1.11.9 | B95: 91959 | C95: INTERRUPTOR SIMPLES (2 MÓDULOS), 10A/250V, INCLUINDO SUPORTE E PLACA - FORNECIMENTO E INSTALAÇÃO. AF_03/2023 | D95: SINAPI | E95: UN | F95: 2 | G95: 47.85 | H95: =ROUND(SUM(G95*(1+$J$7)),2) -> 60.58 | I95: =ROUND(SUM(F95*G95),2) -> 95.7 | J95: =ROUND(SUM(F95*H95),2) -> 121.16
A96: 1.11.10 | B96: 92029 | C96: INTERRUPTOR PARALELO (1 MÓDULO) COM 1 TOMADA DE EMBUTIR 2P+T 10 A, INCLUINDO SUPORTE E PLACA - FORNECIMENTO E INSTALAÇÃO. AF_03/2023 | D96: SINAPI | E96: UN | F96: 1 | G96: 60.63 | H96: =ROUND(SUM(G96*(1+$J$7)),2) -> 76.76 | I96: =ROUND(SUM(F96*G96),2) -> 60.63 | J96: =ROUND(SUM(F96*H96),2) -> 76.76
A97: 1.11.11 | B97: 92008 | C97: TOMADA BAIXA DE EMBUTIR (2 MÓDULOS), 2P+T 10 A, INCLUINDO SUPORTE E PLACA - FORNECIMENTO E INSTALAÇÃO. AF_03/2023 | D97: SINAPI | E97: UN | F97: 12 | G97: 50.73 | H97: =ROUND(SUM(G97*(1+$J$7)),2) -> 64.23 | I97: =ROUND(SUM(F97*G97),2) -> 608.76 | J97: =ROUND(SUM(F97*H97),2) -> 770.76
A98: 1.11.12 | B98: 92001 | C98: TOMADA BAIXA DE EMBUTIR (1 MÓDULO), 2P+T 20 A, INCLUINDO SUPORTE E PLACA - FORNECIMENTO E INSTALAÇÃO. AF_03/2023 | D98: SINAPI | E98: UN | F98: 2 | G98: 35.02 | H98: =ROUND(SUM(G98*(1+$J$7)),2) -> 44.34 | I98: =ROUND(SUM(F98*G98),2) -> 70.04 | J98: =ROUND(SUM(F98*H98),2) -> 88.68
... A111: 1.11.25 | B111: S00780 | C111: Tomada 2p+t, ABNT, 10 A, para piso, com placa em metal amarelo e caixa pvc | D111: ORSE | E111: un | F111: 4 | G111: 89.59 | H111: =ROUND(SUM(G111*(1+$J$7)),2) -> 113.43 | I111: =ROUND(SUM(F111*G111),2) -> 358.36 | J111: =ROUND(SUM(F111*H111),2) -> 453.72
A112: 1.12 | B112: INSTALAÇÕES HIDROSSANITÁRIAS | I112: =ROUND(SUM(I113:I156),2) -> 8343.78 | J112: =ROUND(SUM(J113:J156),2) -> 10564.13
A113: 1.12.1 | B113: 86909 | C113: TORNEIRA CROMADA TUBO MÓVEL, DE MESA, 1/2" OU 3/4", PARA PIA DE COZINHA, PADRÃO ALTO - FORNECIMENTO E INSTALAÇÃO. AF_02/2026 | D113: SINAPI | E113: UN | F113: 1 | G113: 133.46 | H113: =ROUND(SUM(G113*(1+$J$7)),2) -> 168.97 | I113: =ROUND(SUM(F113*G113),2) -> 133.46 | J113: =ROUND(SUM(F113*H113),2) -> 168.97
...

Sheet MEMÓRIA DE CÁLCULO 
A1: OBRA : | B1: REFORMA DA UNIDADE DE ATENDIMENTO INTEGRADO (UAI)
A2: DESCRIÇÃO DA OBRA: | B2: CONSTRUÇÃO DE UNIDADE DE ATENDIMENTO INTEGRADO (UAI), NO MUNICÍPIO DE OLHOS D' ÁGUA-MG, ACOMPANHADA DE PLANILHA ORÇAMENTÁRIA, MEMORIAL DE CÁLCULO, PROJETOS EXECUTIVOS, CRONOGRAMA FÍSICO-FINANCEIRO, MEMORIAL DESCRITIVO E DEMAIS DOCUMENTOS TÉCNICOS NECESSÁRIOS.
A3: ENDEREÇO: | B3: Rua São João, 135 , Bela Vista, Olhos D'Água-MG. | H3: Data: | I3: =TODAY() -> 46224
A4: RESPONSÁVEL TECNICO: | B4: KÁREN MARIANA SOARES VIEIRA | H4: Art.:
A5: PREFEITURA MUNICIPAL DE OLHOS D'ÁGUA-MG | H5: ISS: | I5: 0.03 | J5: BDI: | K5: 0.2661
A7: 1.0 | C7: CONSTRUÇÃO DE NOVO QUARTEL MILITAR NO MUNICÍPIO DE GLAUCILÂNDIA-MG (2º ETAPA)
A8: 1.1 | C8: SERVIÇOS PRELIMINARES
A9: ITEM: | B9: 1.1.1 | C9: ='PLANILHA ORÇAMENTÁRIA '!C13 -> FORNECIMENTO E COLOCAÇÃO DE PLACA DE OBRA EM CHAPA GALVANIZADA #26, ESP. 0,45MM, DIMENSÃO (3X1,5)M, PLOTADA COM ADESIVO VINÍLICO, AFIXADA COM REBITES 4,8X40MM, EM ESTRUTURA METÁLICA DE METALON 20X20MM, ESP. 1,25MM, INCLUSIVE SUPORTE EM EUCALIPTO AUTOCLAVADO PINTADO COM TINTA PVA DUAS (2) DEMÃOS
A10: Descrição | I10: Repetição | J10: Unidade (UNID) | K10: Observações
A11: Placa de Obra (3,00x1,50) | I11: 1 | J11: =I11 -> 1
A12: TOTAL | J12: =ROUND(SUM(J11:J11),2) -> 1
A14: 1.2 | C14: REMOÇÃO E DEMOLIÇÃO
A15: ITEM: | B15: 1.2.1 | C15: ='PLANILHA ORÇAMENTÁRIA '!C15 -> DEMOLIÇÃO DE ALVENARIA DE BLOCO FURADO, DE FORMA MANUAL, SEM REAPROVEITAMENTO. AF_09/2023
A16: Descrição | D16: Comprimento (m) | E16: Altura (m) | F16: Espessura (m) | I16: Repetição | J16: Volume Tota (m³) | K16: Observações
A17: ALVENÁRIA H=2,50M | C17: 4,8+1+1+3,55 | D17: =4.8+1+1+3.55 -> 10.35 | E17: 2.5 | F17: 0.15 | I17: 1 | J17: =ROUND(SUM(D17*I17*E17*F17),2) -> 3.88
A18: ALVENÁRIA H=2,10M | D18: 0.8 | E18: 2.1 | F18: 0.15 | I18: 1 | J18: =ROUND(SUM(D18*I18*E18*F18),2) -> 0.25
A19: ALVENARIA H=1,10M | D19: 1.6 | E19: 1.1 | F19: 0.15 | I19: 1 | J19: =ROUND(SUM(D19*I19*E19*F19),2) -> 0.26
A20: ALVENARIA H=2,30M | C20: 0,45+0,45 | D20: =0.45+0.45 -> 0.9 | E20: 2.3 | F20: 0.15 | I20: 1 | J20: =ROUND(SUM(D20*I20*E20*F20),2) -> 0.31
A21: ALVENARIA H=2,50M | C21: 2,25+1,95 | D21: =2.25+1.95 -> 4.2 | E21: 2.5 | F21: 0.15 | I21: 1 | J21: =ROUND(SUM(D21*I21*E21*F21),2) -> 1.58
A22: TOTAL | J22: =ROUND(SUM(J17:J21),2) -> 6.28
A24: ITEM: | B24: 1.2.2 | C24: ='PLANILHA ORÇAMENTÁRIA '!C16 -> DEMOLIÇÃO MANUAL DE PISO CERÂMICO OU LADRILHO HIDRÁULICO, INCLUSIVE AFASTAMENTO E EMPILHAMENTO, EXCLUSIVE DEMOLIÇÃO DE CONTRAPISO, TRANSPORTE E RETIRADA DO MATERIAL DEMOLIDO
A25: Descrição | D25: Área (m²) | I25: Repetição | J25: Área Total (m²) | K25: Observações
A26: W.C Feminino | D26: 6.21 | I26: 1 | J26: =ROUND(SUM(D26*I26),2) -> 6.21
A27: W.C Masculino | D27: 7.6 | I27: 1 | J27: =ROUND(SUM(D27*I27),2) -> 7.6
A28: TOTAL | J28: =ROUND(SUM(J26:J27),2) -> 13.81
A30: ITEM: | B30: 1.2.3 | C30: ='PLANILHA ORÇAMENTÁRIA '!C17 -> DEMOLIÇÃO MANUAL DE REVESTIMENTO CERÂMICO, AZULEJO OU LADRILHO HIDRÁULICO, INCLUSIVE AFASTAMENTO E EMPILHAMENTO, EXCLUSIVE DEMOLIÇÃO DO REBOCO OU EMBOÇO, TRANSPORTE E RETIRADA DO MATERIAL DEMOLIDO
A31: Descrição | D31: Comprimento (m) | E31: Atura (m) | I31: Repetição | J31: Comprimento Total (m) | K31: Observações
A32: =A26 -> W.C Feminino | C32: 2,7+2,3+2,7+2,3 | D32: =2.7+2.3+2.7+2.3 -> 10 | E32: 1.8 | I32: 1 | J32: =ROUND(SUM(D32*I32*E32),2) -> 18
A33: =A27 -> W.C Masculino | C33: 2,35+3,7+2,25+1+1,1+2,7 | D33: =2.35+3.7+2.25+1+1.1+2.7 -> 13.1 | E33: 1.8 | I33: 1 | J33: =ROUND(SUM(D33*I33*E33),2) -> 23.58
A34: TOTAL | J34: =ROUND(SUM(J32:J33),2) -> 41.58
A36: ITEM: | B36: 1.2.4 | C36: ='PLANILHA ORÇAMENTÁRIA '!C18 -> REMOÇÃO DE LOUÇAS (LAVATÓRIO, BANHEIRA, PIA, VASO SANITÁRIO, TANQUE), COM REAPROVEITAMENTO, INCLUSIVE AFASTAMENTO E EMPILHAMENTO, EXCLUSIVE TRANSPORTE E RETIRADA DO MATERIAL REMOVIDO NÃO REAPROVEITÁVEL
A37: Descrição | D37: Unidades | I37: Repetição | J37: Unidades (Unid) | K37: Observações
A38: Vaso | D38: 5 | I38: 1 | J38: =ROUND(SUM(D38*I38),2) -> 5
A39: Pia com cuba BANHEIRO | D39: 4 | I39: 1 | J39: =ROUND(SUM(D39*I39),2) -> 4
A40: TOTAL | J40: =ROUND(SUM(J38:J39),2) -> 9
A42: ITEM: | B42: 1.2.5 | C42: ='PLANILHA ORÇAMENTÁRIA '!C19 -> REMOÇÃO MANUAL DE FOLHA DE PORTA OU JANELA DE MADEIRA OU METÁLICA, COM REAPROVEITAMENTO, INCLUSIVE AFASTAMENTO E EMPILHAMENTO, EXCLUSIVE TRANSPORTE E RETIRADA DO MATERIAL REMOVIDO NÃO REAPROVEITÁVEL
A43: Descrição | D43: Comprimento (m) | E43: Altura (m) | I43: Repetição | J43: Área Total (m²) | K43: Observações
A44: PORTA 90X210 | D44: 0.9 | E44: 2.1 | I44: 2 | J44: =ROUND(SUM(D44*I44*E44),2) -> 3.78
A45: PORTA 80X210 | D45: 0.8 | E45: 2.1 | I45: 2 | J45: =ROUND(SUM(D45*I45*E45),2) -> 3.36
A46: PORTA 60X210 | D46: 0.6 | E46: 2.1 | I46: 3 | J46: =ROUND(SUM(D46*I46*E46),2) -> 3.78
A47: PORTA 60X180 | D47: 0.6 | E47: 1.8 | I47: 5 | J47: =ROUND(SUM(D47*I47*E47),2) -> 5.4
A48: PORTA 160X230 | D48: 1.6 | E48: 2.3 | I48: 1 | J48: =ROUND(SUM(D48*I48*E48),2) -> 3.68
A49: TOTAL | J49: =ROUND(SUM(J44:J48),2) -> 20
A51: ITEM: | B51: 1.2.6 | C51: ='PLANILHA ORÇAMENTÁRIA '!C20 -> DEMOLIÇÃO DE PISO DE CONCRETO SIMPLES, DE FORMA MECANIZADA COM MARTELETE, SEM REAPROVEITAMENTO. AF_09/2023
A52: Descrição | D52: Área (m²) | E52: Espessura (m) | I52: Repetição | J52: Volume Total (m³) | K52: Observações
A53: NOVA TUBULAÇÃO SANITÁRIA | C53: 6,21+7,60 | D53: =6.21+7.6 -> 13.81 | E53: 0.1 | I53: 1 | J53: =ROUND(SUM(D53*I53*E53),2) -> 1.38
A54: TOTAL | J54: =ROUND(SUM(J53:J53),2) -> 1.38
A56: ITEM: | B56: 1.2.7 | C56: REMOÇÃO DE DIVISÓRIA
A57: Descrição | D57: Comprimento (m) | E57: Altura (m) | I57: Repetição | J57: Área Total (m²) | K57: Observações
A58: DIVISÓRIAS EXISTENTES | C58: 1,23*4+2,7+1,86 | D58: =1.23*4+2.7+1.86 -> 9.48 | E58: 1.8 | I58: 2 | J58: =ROUND(SUM(D58*I58*E58),2) -> 34.13
A59: TOTAL | J59: =ROUND(SUM(J58:J58),2) -> 34.13
A61: 1.3 | C61: ALVENARIA
A62: ITEM: | B62: 1.3.1 | C62: ='PLANILHA ORÇAMENTÁRIA '!C22 -> ALVENARIA DE VEDAÇÃO DE BLOCOS CERÂMICOS FURADOS NA HORIZONTAL DE 9X19X29 CM (ESPESSURA 9 CM) E ARGAMASSA DE ASSENTAMENTO COM PREPARO EM BETONEIRA. AF_12/2021
A63: Descrição | D63: Comprimento (m) | E63: Altura (m) | I63: Repetição | J63: Área Total (m²) | K63: Observações
A64: Alvenária H=2,50m | C64: 2,35+2,3 | D64: =2.35+2.3 -> 4.65 | E64: 2.5 | I64: 1 | J64: =ROUND(SUM(D64*I64*E64),2) -> 11.63
A65: Alvenária H=2,10m | C65: 0,9+0,9+0,8 | D65: =0.9+0.9+0.8 -> 2.6 | E65: 2.1 | I65: 1 | J65: =ROUND(SUM(D65*I65*E65),2) -> 5.46
A66: Complemetação da alvenária central H=40CM | D66: 8.07 | E66: 0.4 | I66: 1 | J66: =ROUND(SUM(D66*I66*E66),2) -> 3.23
A67: TOTAL | J67: =ROUND(SUM(J64:J66),2) -> 20.32
A69: ITEM: | B69: 1.3.2 | C69: ='PLANILHA ORÇAMENTÁRIA '!C23 -> PAREDE COM SISTEMA EM CHAPAS DE GESSO PARA DRYWALL, USO INTERNO, COM DUAS FACES SIMPLES E ESTRUTURA METÁLICA COM GUIAS DUPLAS, SEM VÃOS. AF_07/2023_PS
A70: Descrição | D70: Comprimento (m) | E70: Altura (m) | I70: Repetição | J70: Área Total (m²) | K70: Observações
A71: PAREDE EM DRYWALL | C71: 1,5+1,86+4,16+1,20+3,14+4,30+0,6+5,40+6,76+4,06+2,06+1,24 | D71: =1.5+1.86+4.16+1.2+3.14+4.3+0.6+5.4+6.76+4.06+2.06+1.24 -> 36.28 | E71: 2.7 | I71: 1 | J71: =ROUND(SUM(D71*I71*E71),2) -> 97.96 | K71: VERIFICAR LOCAIS ONDE SERÁ ALVENÁRIA EM DRYWALL
A72: TOTAL | J72: =ROUND(SUM(J71:J71),2) -> 97.96
A74: ITEM: | B74: 1.3.3 | C74: ='PLANILHA ORÇAMENTÁRIA '!C24 -> CHAPISCO APLICADO EM ALVENARIA (COM PRESENÇA DE VÃOS) E ESTRUTURAS DE CONCRETO DE FACHADA, COM COLHER DE PEDREIRO. ARGAMASSA TRAÇO 1:3 COM PREPARO EM BETONEIRA 400L. AF_10/2022
A75: Descrição | D75: Área (m²) | E75: Nº de Lados | I75: Repetição | J75: Área Total (m²) | K75: Observações
A76: Área de Alvenária | D76: =J67 -> 20.32 | E76: 2 | I76: 1 | J76: =ROUND(SUM(D76*I76*E76),2) -> 40.64
A77: TOTAL | J77: =ROUND(SUM(J76:J76),2) -> 40.64
A79: ITEM: | B79: 1.3.4 | C79: ='PLANILHA ORÇAMENTÁRIA '!C25 -> REBOCO COM ARGAMASSA, TRAÇO 1:2:8 (CIMENTO, CAL E AREIA), ESP. 20MM, APLICAÇÃO MANUAL, INCLUSIVE ARGAMASSA COM PREPARO MECANIZADO, EXCLUSIVE CHAPISCO
A80: Descrição | D80: Área (m²) | E80: Nº de Lados | I80: Repetição | J80: Área Total (m²) | K80: Observações
A81: Área de Alvenária | D81: =D76 -> 20.32 | E81: 2 | I81: 1 | J81: =ROUND(SUM(D81*I81*E81),2) -> 40.64
A82: TOTAL | J82: =ROUND(SUM(J81:J81),2) -> 40.64
A84: ITEM: | B84: 1.3.5 | C84: ='PLANILHA ORÇAMENTÁRIA '!C26 -> VERGA MOLDADA IN LOCO EM CONCRETO, ESPESSURA DE *10* CM. AF_03/2024
A85: Descrição | D85: Comprimento (m) + 0,30m para cada lado | I85: Repetição | J85: Comprimento (m) | K85: Observações
A86: Porta PN-03 | D86: =0.3+0.3+0.9 -> 1.5 | I86: 2 | J86: =ROUND(SUM(D86*I86),2) -> 3 | K86: APENAS ONDE SERÁ EXECUTADA ALVENÁRIA NOVAS
A87: TOTAL | J87: =ROUND(SUM(J86:J86),2) -> 3
A89: 1.4 | C89: COBERTURA
A90: ITEM: | B90: 1.4.1 | C90: ='PLANILHA ORÇAMENTÁRIA '!C28 -> FORRO EM PLACA DE GESSO LISO, DIMENSÃO (60X60)CM, COM FIXAÇÃO DO TIPO ARAMADO, EXCLUSIVE PERFIL TABICA, SANCA E MOLDURA, INCLUSIVE ACESSÓRIOS E FIXAÇÃO
A91: Descrição | D91: Área (m²) | I91: Repetição | J91: Área Total (m²) | K91: Observações
A92: COPA | D92: 13.23 | I92: 1 | J92: =ROUND(SUM(D92*I92),2) -> 13.23
A93: DML | D93: 2.8 | I93: 1 | J93: =ROUND(SUM(D93*I93),2) -> 2.8
A94: SALA COORDENAÇÃO | D94: 16.2 | I94: 1 | J94: =ROUND(SUM(D94*I94),2) -> 16.2
A95: SUDESE/SINE | D95: 13.45 | I95: 1 | J95: =ROUND(SUM(D95*I95),2) -> 13.45
A96: IIMG | D96: 13.45 | I96: 1 | J96: =ROUND(SUM(D96*I96),2) -> 13.45
A97: CIRCULAÇÃO | D97: 8.12 | I97: 1 | J97: =ROUND(SUM(D97*I97),2) -> 8.12
A98: PROVA DETRAN | D98: 12.5 | I98: 1 | J98: =ROUND(SUM(D98*I98),2) -> 12.5
A99: SALA DE ATENDIMENTO | D99: 24.01 | I99: 1 | J99: =ROUND(SUM(D99*I99),2) -> 24.01
A100: TOTAL | J100: =ROUND(SUM(J92:J99),2) -> 103.76
A102: 1.5 | C102: PISOS E REVESTIMENTOS
A103: ITEM: | B103: 1.5.2 | C103: ='PLANILHA ORÇAMENTÁRIA '!C30 -> LASTRO DE CONCRETO MAGRO, APLICADO EM BLOCOS DE COROAMENTO OU SAPATAS. AF_01/2024
A104: Descrição | D104: Comprimento (m) | E104: Largura (m) | F104: Espessura (m) | I104: Repetição | J104: Volume Total (m³) | K104: Observações
A105: Piso Grosso (Área Ampliada) | D105: =2.3+2.35 -> 4.65 | E105: =2+2 -> 4 | F105: 0.05 | I105: 1 | J105: =ROUND(SUM(D105*I105*E105*F105),2) -> 0.93 | K105: LOCAL ONDE TERÁ OS NOVOS PONTOS SANITÁRIOS
A106: TOTAL | J106: =ROUND(SUM(J105:J105),2) -> 0.93
A108: ITEM: | B108: 1.5.3 | C108: ='PLANILHA ORÇAMENTÁRIA '!C31 -> CONTRAPISO DESEMPENADO COM ARGAMASSA, TRAÇO 1:3 (CIMENTO E AREIA), ESP. 20MM, INCLUSIVE ARGAMASSA COM PREPARO MECANIZADO
A109: Descrição | D109: Comprimento (m) | E109: Largura (m) | I109: Repetição | J109: Área Total (m²) | K109: Observações
A110: Piso Grosso (Área Ampliada) | D110: =D105 -> 4.65 | E110: =E105 -> 4 | I110: 1 | J110: =ROUND(SUM(D110*I110*E110),2) -> 18.6 | K110: LOCAL ONDE TERÁ OS NOVOS PONTOS SANITÁRIOS
A111: RAMPA ENTRADA | D111: 2 | E111: 1.6 | I111: 1 | J111: =ROUND(SUM(D111*I111*E111),2) -> 3.2
A112: TOTAL | J112: =ROUND(SUM(J110:J111),2) -> 21.8
A114: ITEM: | B114: 1.5.4 | C114: ='PLANILHA ORÇAMENTÁRIA '!C32 -> REVESTIMENTO CERÂMICO PARA PISO COM PLACAS TIPO ESMALTADA DE DIMENSÕES 60X60 CM APLICADA EM AMBIENTES DE ÁREA MAIOR QUE 10 M2. AF_02/2023_PE
A115: Descrição | D115: Área (m²) | I115: Repetição | J115: Área Total (m²) | K115: Observações
A116: =A92 -> COPA | D116: =D92 -> 13.23 | I116: 1 | J116: =ROUND(SUM(D116*I116),2) -> 13.23
A117: =A93 -> DML | D117: =D93 -> 2.8 | I117: 1 | J117: =ROUND(SUM(D117*I117),2) -> 2.8
...

Sheet CRONOGRAMA
A1: CRONOGRAMA FÍSICO-FINANCEIRO
A3: OBRA: REFORMA DA UNIDADE DE ATENDIMENTO INTEGRADO (UAI) | G3: DATA: | I3: =TODAY() -> 46224
A4: LOCAL: Rua São João, 135 , Bela Vista, Olhos D'Água-MG. | G4: ART.:
A5: RESPONSÁVEL TECNICO: KÁREN MARIANA SOARES VIEIRA | G5: FORMA DE EXECUÇÃO:
A6: REGIÃO/MÊS DE REFERÊNCIA: SINAPI 002/2026 DESONERADO / SETOP 01/2026 DESONERADO / SUDECAP 01/2026 DESONERADO / ORSE 02/2026 DESONERADO | G6: ( ) | H6: DIRETA | I6: ( X ) | J6: INDIRETA
A7: COMPOSIÇÃO/DEMONSTRATIVO DE BDI - EM ANEXO | G7: % ISS MUNICIPAL: | H7: 0.04 | I7: BDI: | J7: ='PLANILHA ORÇAMENTÁRIA '!J7 -> 0.2661
A9: 1 | B9: ETAPAS/DESCRIÇÃO | C9: FÍSICO/ FINANCEIRO | D9: TOTAL ETAPAS | E9: PREVISÃO DE EXECUÇÃO DAS OBRAS: 3 MÊS | G9: PREVISÃO DE EXECUÇÃO DAS OBRAS: 3 MÊS | I9: PREVISÃO DE EXECUÇÃO DAS OBRAS: 3 MÊS
E11: MÊS 1 | G11: MÊS 2 | I11: MÊS 3
A12: 1.1 | B12: ='PLANILHA ORÇAMENTÁRIA '!B12:H12 -> SERVIÇOS PRELIMINARES | C12: Físico % | D12: =(D13/$D$39) -> 0.0093080793 | E12: 1 | K12: =E12+G12+I12 -> 1
C13: Financeiro | D13: ='PLANILHA ORÇAMENTÁRIA '!J12 -> 1502.99 | E13: =ROUND(SUM(E12*D13),2) -> 1502.99
A14: 1.2 | B14: ='PLANILHA ORÇAMENTÁRIA '!B14:H14 -> DEMOLIÇÃO E REMOÇÃO | C14: Físico % | D14: =(D15/$D$39) -> 0.019553847 | E14: 1 | K14: =E14+G14+I14 -> 1
C15: Financeiro | D15: ='PLANILHA ORÇAMENTÁRIA '!J14 -> 3157.39 | E15: =ROUND(SUM(E14*D15),2) -> 3157.39
A16: 1.3 | B16: ='PLANILHA ORÇAMENTÁRIA '!B21:H21 -> ALVENARIA E REVESTIMENTO | C16: Físico % | D16: =(D17/$D$39) -> 0.12495241 | E16: 0.3 | G16: 0.7 | K16: =E16+G16+I16 -> 1
C17: Financeiro | D17: ='PLANILHA ORÇAMENTÁRIA '!J21 -> 20176.26 | E17: =ROUND(SUM(E16*D17),2) -> 6052.88 | G17: =ROUND(SUM(G16*D17),2) -> 14123.38
A18: 1.4 | B18: ='PLANILHA ORÇAMENTÁRIA '!B27:H27 -> COBERTURA | C18: Físico % | D18: =(D19/$D$39) -> 0.064053389 | G18: 1 | K18: =E18+G18+I18 -> 1
C19: Financeiro | D19: ='PLANILHA ORÇAMENTÁRIA '!J27 -> 10342.8 | G19: =ROUND(SUM(G18*D19),2) -> 10342.8
A20: 1.5 | B20: ='PLANILHA ORÇAMENTÁRIA '!B29:H29 -> PISOS E REVESTIMENTOS | C20: Físico % | D20: =(D21/$D$39) -> 0.13110799 | E20: 1 | K20: =E20+G20+I20 -> 1
C21: Financeiro | D21: ='PLANILHA ORÇAMENTÁRIA '!J29 -> 21170.21 | E21: =ROUND(SUM(E20*D21),2) -> 21170.21
A22: 1.6 | B22: ='PLANILHA ORÇAMENTÁRIA '!B36:H36 -> PINTURA | C22: Físico % | D22: =(D23/$D$39) -> 0.17354915 | I22: 1 | K22: =E22+G22+I22 -> 1
C23: Financeiro | D23: ='PLANILHA ORÇAMENTÁRIA '!J36 -> 28023.25 | I23: =ROUND(SUM(I22*D23),2) -> 28023.25
A24: 1.7 | B24: ='PLANILHA ORÇAMENTÁRIA '!B45:H45 -> ESQUADRIAS | C24: Físico % | D24: =(D25/$D$39) -> 0.072710394 | I24: 1 | K24: =E24+G24+I24 -> 1
C25: Financeiro | D25: ='PLANILHA ORÇAMENTÁRIA '!J45 -> 11740.66 | I25: =ROUND(SUM(I24*D25),2) -> 11740.66
A26: 1.8 | B26: ='PLANILHA ORÇAMENTÁRIA '!B50:H50 -> LOUÇAS, METAIS E BANCADAS | C26: Físico % | D26: =(D27/$D$39) -> 0.044624703 | I26: 1 | K26: =E26+G26+I26 -> 1
C27: Financeiro | D27: ='PLANILHA ORÇAMENTÁRIA '!J50 -> 7205.62 | I27: =ROUND(SUM(I26*D27),2) -> 7205.62
A28: 1.9 | B28: ='PLANILHA ORÇAMENTÁRIA '!B58:H58 -> CLIMATIZAÇÃO | C28: Físico % | D28: =(D29/$D$39) -> 0.038302537 | G28: 1 | K28: =E28+G28+I28 -> 1
C29: Financeiro | D29: ='PLANILHA ORÇAMENTÁRIA '!J58 -> 6184.77 | G29: =ROUND(SUM(G28*D29),2) -> 6184.77
A30: 1.10 | B30: ='PLANILHA ORÇAMENTÁRIA '!B72:H72 -> CABEAMENTO ESTRUTURADO | C30: Físico % | D30: =(D31/$D$39) -> 0.066601516 | G30: 1 | K30: =E30+G30+I30 -> 1
C31: Financeiro | D31: ='PLANILHA ORÇAMENTÁRIA '!J72 -> 10754.25 | G31: =ROUND(SUM(G30*D31),2) -> 10754.25
A32: 1.11 | B32: ='PLANILHA ORÇAMENTÁRIA '!B86:H86 -> INSTALAÇÕES ELÉTRICAS | C32: Físico % | D32: =(D33/$D$39) -> 0.16943102 | E32: 0.25 | G32: 0.5 | I32: 0.25 | K32: =E32+G32+I32 -> 1
C33: Financeiro | D33: ='PLANILHA ORÇAMENTÁRIA '!J86 -> 27358.29 | E33: =ROUND(SUM(E32*D33),2) -> 6839.57 | G33: =ROUND(SUM(G32*D33),2) -> 13679.15 | I33: =ROUND(SUM(I32*D33),2) -> 6839.57
A34: 1.12 | B34: ='PLANILHA ORÇAMENTÁRIA '!B112:H112 -> INSTALAÇÕES HIDROSSANITÁRIAS | C34: Físico % | D34: =(D35/$D$39) -> 0.065424095 | E34: 1 | K34: =E34+G34+I34 -> 1
C35: Financeiro | D35: ='PLANILHA ORÇAMENTÁRIA '!J112 -> 10564.13 | E35: =ROUND(SUM(E34*D35),2) -> 10564.13
A36: 1.13 | B36: ='PLANILHA ORÇAMENTÁRIA '!B157:H157 -> SERVIÇOS PRELIMINARES | C36: Físico % | D36: =(D37/$D$39) -> 0.020380866 | I36: 1 | K36: =E36+G36+I36 -> 1
C37: Financeiro | D37: ='PLANILHA ORÇAMENTÁRIA '!J157 -> 3290.93 | I37: =ROUND(SUM(I36*D37),2) -> 3290.93
A38: TOTAL | C38: Físico % | D38: =ROUND(SUM(D12+D14+D16+D18+D20+D22+D24+D26+D28+D30+D32+D34+D36),2) -> 1 | E38: =SUM(E39/$D$39) -> 0.30523749 | G38: =SUM(G39/$D$39) -> 0.34113966 | I38: =SUM(I39/$D$39) -> 0.35362285 | K38: =E38+G38+I38 -> 1
C39: Financeiro | D39: =ROUND(D13+D15+D17+D19+D21+D23+D25+D27+D29+D31+D33+D35+D37,2) -> 161471.55 | E39: =ROUND(SUM(E13+E15+E17+E19+E21+E23+E25+E27+E29+E31+E33+E35+E37),2) -> 49287.17 | G39: =ROUND(SUM(G13+G15+G17+G19+G21+G23+G25+G27+G29+G31+G33+G35+G37),2) -> 55084.35 | I39: =ROUND(SUM(I13+I15+I17+I19+I21+I23+I25+I27+I29+I31+I33+I35+I37),2) -> 57100.03
B48: KÁREN MARIANA SOARES VIEIRA | F48: RODRIGO VIEIRA DE MATOS
B49: ENGENHEIRA CIVIL 332.425/D-MG | F49: PREFEITO MUNICIPAL DE OLHOS D'ÁGUA-MG
