Workbook

Sheet PLANILHA ORÇAMENTÁRIA 
A1: PLANILHA ORÇAMENTÁRIA DE CUSTOS
A2: PREFEITURA MUNICIPAL DE GLAUCILÂNDIA-MG
A3: OBRA: REFORMA DA UNIDADE DE ATENDIMENTO INTEGRADO (UAI) | G3: DATA: | I3: =TODAY() -> 46224
A4: LOCAL: Rua São João, 135 , Bela Vista, Olhos D'Água-MG. | G4: ART.:
A5: RESPONSÁVEL TECNICO: KÁREN MARIANA SOARES VIEIRA . | G5: FORMA DE EXECUÇÃO:
A6: REGIÃO/MÊS DE REFERÊNCIA: SINAPI 04/2026 DESONERADO / SETOP 01/2026 DESONERADO / SUDECAP 04/2026 DESONERADO / ORSE 04/2026 DESONERADO | G6: ( ) | H6: DIRETA | I6: ( X ) | J6: INDIRETA
A7: COMPOSIÇÃO/DEMONSTRATIVO DE BDI - EM ANEXO | G7: % ISS MUNICIPAL: | H7: 0.03 | I7: BDI: | J7: 0.2661
A9: ITEM | B9: CÓDIGO | C9: DESCRIÇÃO | D9: FONTE | E9: UNID | F9: QUANTIDADE | G9: PREÇO UNITÁRIO R$ | I9: PREÇO TOTAL R$
G10: SEM BDI | H10: COM BDI | I10: SEM BDI | J10: COM BDI
A11: 1 | B11: CONSTRUÇÃO DE UNIDADE DE ATENDIMENTO INTEGRADO (UAI) | I11: =ROUND(SUM(I12+I14+I21+I27+I29+I36+I45+I50+I58+I72+I86+I112+I157),20) -> 127541.82 | J11: =ROUND(SUM(J12+J14+J21+J27+J29+J36+J45+J50+J58+J72+J86+J112+J157),20) -> 161471.55
A12: 1.1 | B12: SERVIÇOS PRELIMINARES | I12: =ROUND(SUM(I13),2) -> 1187.1 | J12: =ROUND(SUM(J13),2) -> 1502.99
A13: 1.1.1 | B13: ED-28427 | C13: FORNECIMENTO E COLOCAÇÃO DE PLACA DE OBRA EM CHAPA GALVANIZADA #26, ESP. 0,45MM, DIMENSÃO (3X1,5)M, PLOTADA COM ADESIVO VINÍLICO, AFIXADA COM REBITES 4,8X40MM, EM ESTRUTURA METÁLICA DE METALON 20X20MM, ESP. 1,25MM, INCLUSIVE SUPORTE EM EUCALIPTO AUTOCLAVADO PINTADO COM TINTA PVA DUAS (2) DEMÃOS | D13: SICOR | E13: un | F13: ='MEMÓRIA DE CÁLCULO '!J12 -> 1 | G13: 1187.1 | H13: =ROUND(SUM(G13*(1+$J$7)),2) -> 1502.99 | I13: =ROUND(SUM(F13*G13),2) -> 1187.1 | J13: =ROUND(SUM(F13*H13),2) -> 1502.99
A14: 1.2 | B14: DEMOLIÇÃO E REMOÇÃO | I14: =ROUND(SUM(I15:I20),2) -> 2493.96 | J14: =ROUND(SUM(J15:J20),2) -> 3157.39
A15: 1.2.1 | B15: 97622 | C15: DEMOLIÇÃO DE ALVENARIA DE BLOCO FURADO, DE FORMA MANUAL, SEM REAPROVEITAMENTO. AF_09/2023 | D15: SINAPI | E15: M3 | F15: ='MEMÓRIA DE CÁLCULO '!J22 -> 6.28 | G15: 62.98 | H15: =ROUND(SUM(G15*(1+$J$7)),2) -> 79.74 | I15: =ROUND(SUM(F15*G15),2) -> 395.51 | J15: =ROUND(SUM(F15*H15),2) -> 500.77
A16: 1.2.2 | B16: ED-48480 | C16: DEMOLIÇÃO MANUAL DE PISO CERÂMICO OU LADRILHO HIDRÁULICO, INCLUSIVE AFASTAMENTO E EMPILHAMENTO, EXCLUSIVE DEMOLIÇÃO DE CONTRAPISO, TRANSPORTE E RETIRADA DO MATERIAL DEMOLIDO | D16: SICOR | E16: m2 | F16: ='MEMÓRIA DE CÁLCULO '!J28 -> 13.81 | G16: 19.28 | H16: =ROUND(SUM(G16*(1+$J$7)),2) -> 24.41 | I16: =ROUND(SUM(F16*G16),2) -> 266.26 | J16: =ROUND(SUM(F16*H16),2) -> 337.1
A17: 1.2.3 | B17: ED-48502 | C17: DEMOLIÇÃO MANUAL DE REVESTIMENTO CERÂMICO, AZULEJO OU LADRILHO HIDRÁULICO, INCLUSIVE AFASTAMENTO E EMPILHAMENTO, EXCLUSIVE DEMOLIÇÃO DO REBOCO OU EMBOÇO, TRANSPORTE E RETIRADA DO MATERIAL DEMOLIDO | D17: SICOR | E17: m2 | F17: ='MEMÓRIA DE CÁLCULO '!J34 -> 41.58 | G17: 24.1 | H17: =ROUND(SUM(G17*(1+$J$7)),2) -> 30.51 | I17: =ROUND(SUM(F17*G17),2) -> 1002.08 | J17: =ROUND(SUM(F17*H17),2) -> 1268.61
A18: 1.2.4 | B18: ED-48467 | C18: REMOÇÃO DE LOUÇAS (LAVATÓRIO, BANHEIRA, PIA, VASO SANITÁRIO, TANQUE), COM REAPROVEITAMENTO, INCLUSIVE AFASTAMENTO E EMPILHAMENTO, EXCLUSIVE TRANSPORTE E RETIRADA DO MATERIAL REMOVIDO NÃO REAPROVEITÁVEL | D18: SICOR | E18: un | F18: ='MEMÓRIA DE CÁLCULO '!J40 -> 9 | G18: 50.1 | H18: =ROUND(SUM(G18*(1+$J$7)),2) -> 63.43 | I18: =ROUND(SUM(F18*G18),2) -> 450.9 | J18: =ROUND(SUM(F18*H18),2) -> 570.87
A19: 1.2.5 | B19: ED-48494 | C19: REMOÇÃO MANUAL DE FOLHA DE PORTA OU JANELA DE MADEIRA OU METÁLICA, COM REAPROVEITAMENTO, INCLUSIVE AFASTAMENTO E EMPILHAMENTO, EXCLUSIVE TRANSPORTE E RETIRADA DO MATERIAL REMOVIDO NÃO REAPROVEITÁVEL | D19: SICOR | E19: m2 | F19: ='MEMÓRIA DE CÁLCULO '!J49 -> 20 | G19: 10.61 | H19: =ROUND(SUM(G19*(1+$J$7)),2) -> 13.43 | I19: =ROUND(SUM(F19*G19),2) -> 212.2 | J19: =ROUND(SUM(F19*H19),2) -> 268.6
A20: 1.2.6 | B20: 104790 | C20: DEMOLIÇÃO DE PISO DE CONCRETO SIMPLES, DE FORMA MECANIZADA COM MARTELETE, SEM REAPROVEITAMENTO. AF_09/2023 | D20: SINAPI | E20: M3 | F20: ='MEMÓRIA DE CÁLCULO '!J54 -> 1.38 | G20: 121.02 | H20: =ROUND(SUM(G20*(1+$J$7)),2) -> 153.22 | I20: =ROUND(SUM(F20*G20),2) -> 167.01 | J20: =ROUND(SUM(F20*H20),2) -> 211.44
A21: 1.3 | B21: ALVENARIA E REVESTIMENTO | I21: =ROUND(SUM(I22:I26),2) -> 15935.65 | J21: =ROUND(SUM(J22:J26),2) -> 20176.26
A22: 1.3.1 | B22: 103356 | C22: ALVENARIA DE VEDAÇÃO DE BLOCOS CERÂMICOS FURADOS NA HORIZONTAL DE 9X19X29 CM (ESPESSURA 9 CM) E ARGAMASSA DE ASSENTAMENTO COM PREPARO EM BETONEIRA. AF_12/2021 | D22: SINAPI | E22: M2 | F22: ='MEMÓRIA DE CÁLCULO '!J67 -> 20.32 | G22: 68.86 | H22: =ROUND(SUM(G22*(1+$J$7)),2) -> 87.18 | I22: =ROUND(SUM(F22*G22),2) -> 1399.24 | J22: =ROUND(SUM(F22*H22),2) -> 1771.5
A23: 1.3.2 | B23: 96360 | C23: PAREDE COM SISTEMA EM CHAPAS DE GESSO PARA DRYWALL, USO INTERNO, COM DUAS FACES SIMPLES E ESTRUTURA METÁLICA COM GUIAS DUPLAS, SEM VÃOS. AF_07/2023_PS | D23: SINAPI | E23: M2 | F23: ='MEMÓRIA DE CÁLCULO '!J72 -> 97.96 | G23: 125.89 | H23: =ROUND(SUM(G23*(1+$J$7)),2) -> 159.39 | I23: =ROUND(SUM(F23*G23),2) -> 12332.18 | J23: =ROUND(SUM(F23*H23),2) -> 15613.84
A24: 1.3.3 | B24: 87905 | C24: CHAPISCO APLICADO EM ALVENARIA (COM PRESENÇA DE VÃOS) E ESTRUTURAS DE CONCRETO DE FACHADA, COM COLHER DE PEDREIRO. ARGAMASSA TRAÇO 1:3 COM PREPARO EM BETONEIRA 400L. AF_10/2022 | D24: SINAPI | E24: M2 | F24: ='MEMÓRIA DE CÁLCULO '!J77 -> 40.64 | G24: 9.13 | H24: =ROUND(SUM(G24*(1+$J$7)),2) -> 11.56 | I24: =ROUND(SUM(F24*G24),2) -> 371.04 | J24: =ROUND(SUM(F24*H24),2) -> 469.8
A25: 1.3.4 | B25: ED-50761 | C25: REBOCO COM ARGAMASSA, TRAÇO 1:2:8 (CIMENTO, CAL E AREIA), ESP. 20MM, APLICAÇÃO MANUAL, INCLUSIVE ARGAMASSA COM PREPARO MECANIZADO, EXCLUSIVE CHAPISCO | D25: SICOR | E25: m2 | F25: ='MEMÓRIA DE CÁLCULO '!J82 -> 40.64 | G25: 40.65 | H25: =ROUND(SUM(G25*(1+$J$7)),2) -> 51.47 | I25: =ROUND(SUM(F25*G25),2) -> 1652.02 | J25: =ROUND(SUM(F25*H25),2) -> 2091.74
A26: 1.3.5 | B26: 105024 | C26: VERGA MOLDADA IN LOCO EM CONCRETO, ESPESSURA DE *10* CM. AF_03/2024 | D26: SINAPI | E26: M | F26: ='MEMÓRIA DE CÁLCULO '!J87 -> 3 | G26: 60.39 | H26: =ROUND(SUM(G26*(1+$J$7)),2) -> 76.46 | I26: =ROUND(SUM(F26*G26),2) -> 181.17 | J26: =ROUND(SUM(F26*H26),2) -> 229.38
A27: 1.4 | B27: COBERTURA | I27: =ROUND(SUM(I28:I28),2) -> 8169.02 | J27: =ROUND(SUM(J28:J28),2) -> 10342.8
A28: 1.4.1 | B28: ED-49685 | C28: FORRO EM PLACA DE GESSO LISO, DIMENSÃO (60X60)CM, COM FIXAÇÃO DO TIPO ARAMADO, EXCLUSIVE PERFIL TABICA, SANCA E MOLDURA, INCLUSIVE ACESSÓRIOS E FIXAÇÃO | D28: SICOR | E28: m2 | F28: ='MEMÓRIA DE CÁLCULO '!J100 -> 103.76 | G28: 78.73 | H28: =ROUND(SUM(G28*(1+$J$7)),2) -> 99.68 | I28: =ROUND(SUM(F28*G28),2) -> 8169.02 | J28: =ROUND(SUM(F28*H28),2) -> 10342.8
A29: 1.5 | B29: PISOS E REVESTIMENTOS | I29: =ROUND(SUM(I30:I35),2) -> 16721.46 | J29: =ROUND(SUM(J30:J35),2) -> 21170.21
A30: 1.5.1 | B30: 96616 | C30: LASTRO DE CONCRETO MAGRO, APLICADO EM BLOCOS DE COROAMENTO OU SAPATAS. AF_01/2024 | D30: SINAPI | E30: M3 | F30: ='MEMÓRIA DE CÁLCULO '!J106 -> 0.93 | G30: 936.74 | H30: =ROUND(SUM(G30*(1+$J$7)),2) -> 1186.01 | I30: =ROUND(SUM(F30*G30),2) -> 871.17 | J30: =ROUND(SUM(F30*H30),2) -> 1102.99
A31: 1.5.2 | B31: ED-50566 | C31: CONTRAPISO DESEMPENADO COM ARGAMASSA, TRAÇO 1:3 (CIMENTO E AREIA), ESP. 20MM, INCLUSIVE ARGAMASSA COM PREPARO MECANIZADO | D31: SICOR | E31: m2 | F31: ='MEMÓRIA DE CÁLCULO '!J112 -> 21.8 | G31: 40.79 | H31: =ROUND(SUM(G31*(1+$J$7)),2) -> 51.64 | I31: =ROUND(SUM(F31*G31),2) -> 889.22 | J31: =ROUND(SUM(F31*H31),2) -> 1125.75
A32: 1.5.3 | B32: 87257 | C32: REVESTIMENTO CERÂMICO PARA PISO COM PLACAS TIPO ESMALTADA DE DIMENSÕES 60X60 CM APLICADA EM AMBIENTES DE ÁREA MAIOR QUE 10 M2. AF_02/2023_PE | D32: SINAPI | E32: M2 | F32: ='MEMÓRIA DE CÁLCULO '!J130 -> 154.06 | G32: 63.52 | H32: =ROUND(SUM(G32*(1+$J$7)),2) -> 80.42 | I32: =ROUND(SUM(F32*G32),2) -> 9785.89 | J32: =ROUND(SUM(F32*H32),2) -> 12389.51
A33: 1.5.4 | B33: 88650 | C33: RODAPÉ CERÂMICO DE 7CM DE ALTURA COM PLACAS TIPO ESMALTADA DE DIMENSÕES 60X60CM. AF_02/2023 | D33: SINAPI | E33: M | F33: ='MEMÓRIA DE CÁLCULO '!J146 -> 95.14 | G33: 12.15 | H33: =ROUND(SUM(G33*(1+$J$7)),2) -> 15.38 | I33: =ROUND(SUM(F33*G33),2) -> 1155.95 | J33: =ROUND(SUM(F33*H33),2) -> 1463.25
A34: 1.5.5 | B34: 87273 | C34: REVESTIMENTO CERÂMICO PARA PAREDES INTERNAS COM PLACAS TIPO ESMALTADA DE DIMENSÕES 33X45 CM APLICADAS NA ALTURA INTEIRA DAS PAREDES. AF_02/2023_PE | D34: SINAPI | E34: M2 | F34: ='MEMÓRIA DE CÁLCULO '!J154 -> 55.17 | G34: 69.3 | H34: =ROUND(SUM(G34*(1+$J$7)),2) -> 87.74 | I34: =ROUND(SUM(F34*G34),2) -> 3823.28 | J34: =ROUND(SUM(F34*H34),2) -> 4840.62
A35: 1.5.6 | B35: ED-51002 | C35: SOLEIRA DE GRANITO, COR CINZA ANDORINHA, ESP. 2CM, ACABAMENTO POLIDO, ASSENTAMENTO COM ARGAMASSA INDUSTRIALIZADA, INCLUSIVE REJUNTAMENTO | D35: SICOR | E35: m2 | F35: ='MEMÓRIA DE CÁLCULO '!J160 -> 0.51 | G35: 384.22 | H35: =ROUND(SUM(G35*(1+$J$7)),2) -> 486.46 | I35: =ROUND(SUM(F35*G35),2) -> 195.95 | J35: =ROUND(SUM(F35*H35),2) -> 248.09
A36: 1.6 | B36: PINTURA | I36: =ROUND(SUM(I37:I44),2) -> 22137.48 | J36: =ROUND(SUM(J37:J44),2) -> 28023.25
A37: 1.6.1 | B37: ED-50505 | C37: LIXAMENTO MANUAL EM PAREDE PARA REMOÇÃO DE TINTA | D37: SICOR | E37: m2 | F37: ='MEMÓRIA DE CÁLCULO '!J168 -> 451.7 | G37: 3.51 | H37: =ROUND(SUM(G37*(1+$J$7)),2) -> 4.44 | I37: =ROUND(SUM(F37*G37),2) -> 1585.47 | J37: =ROUND(SUM(F37*H37),2) -> 2005.55
A38: 1.6.2 | B38: 88485 | C38: FUNDO SELADOR ACRÍLICO, APLICAÇÃO MANUAL EM PAREDE, UMA DEMÃO. AF_04/2023 | D38: SINAPI | E38: M2 | F38: ='MEMÓRIA DE CÁLCULO '!J187 -> 602.57 | G38: 4.79 | H38: =ROUND(SUM(G38*(1+$J$7)),2) -> 6.06 | I38: =ROUND(SUM(F38*G38),2) -> 2886.31 | J38: =ROUND(SUM(F38*H38),2) -> 3651.57
A39: 1.6.3 | B39: 88495 | C39: EMASSAMENTO COM MASSA LÁTEX, APLICAÇÃO EM PAREDE, UMA DEMÃO, LIXAMENTO MANUAL. AF_04/2023 | D39: SINAPI | E39: M2 | F39: ='MEMÓRIA DE CÁLCULO '!J192 -> 264.49 | G39: 13.16 | H39: =ROUND(SUM(G39*(1+$J$7)),2) -> 16.66 | I39: =ROUND(SUM(F39*G39),2) -> 3480.69 | J39: =ROUND(SUM(F39*H39),2) -> 4406.4
A40: 1.6.4 | B40: 104641 | C40: PINTURA LÁTEX ACRÍLICA ECONÔMICA, APLICAÇÃO MANUAL EM PAREDES, DUAS DEMÃOS. AF_04/2023 | D40: SINAPI | E40: M2 | F40: ='MEMÓRIA DE CÁLCULO '!J211 -> 602.57 | G40: 10.41 | H40: =ROUND(SUM(G40*(1+$J$7)),2) -> 13.18 | I40: =ROUND(SUM(F40*G40),2) -> 6272.75 | J40: =ROUND(SUM(F40*H40),2) -> 7941.87
A41: 1.6.5 | B41: ED-50486 | C41: EMASSAMENTO EM FORRO DE GESSO COM MASSA CORRIDA (PVA), UMA (1) DEMÃO, INCLUSIVE LIXAMENTO PARA PINTURA | D41: SICOR | E41: m2 | F41: ='MEMÓRIA DE CÁLCULO '!J223 -> 103.76 | G41: 18.8 | H41: =ROUND(SUM(G41*(1+$J$7)),2) -> 23.8 | I41: =ROUND(SUM(F41*G41),2) -> 1950.69 | J41: =ROUND(SUM(F41*H41),2) -> 2469.49
...

Sheet MEMÓRIA DE CÁLCULO 
A1: OBRA : | B1: REFORMA DA UNIDADE DE ATENDIMENTO INTEGRADO (UAI)
A2: DESCRIÇÃO DA OBRA: | B2: CONSTRUÇÃO DE UNIDADE DE ATENDIMENTO INTEGRADO (UAI), NO MUNICÍPIO DE OLHOS D' ÁGUA-MG, ACOMPANHADA DE PLANILHA ORÇAMENTÁRIA, MEMORIAL DE CÁLCULO, PROJETOS EXECUTIVOS, CRONOGRAMA FÍSICO-FINANCEIRO, MEMORIAL DESCRITIVO E DEMAIS DOCUMENTOS TÉCNICOS NECESSÁRIOS.
A3: ENDEREÇO: | B3: Rua São João, 135 , Bela Vista, Olhos D'Água-MG. | H3: Data: | I3: =TODAY() -> 46224
A4: RESPONSÁVEL TECNICO: | B4: KÁREN MARIANA SOARES VIEIRA | H4: Art.:
A5: PREFEITURA MUNICIPAL DE OLHOS D'ÁGUA-MG | H5: ISS: | I5: 0.03 | J5: BDI: | K5: 0.2661
A7: 1.0 | C7: CONSTRUÇÃO DE NOVO QUARTEL MILITAR NO MUNICÍPIO DE GLAUCILÂNDIA-MG (2º ETAPA)
A8: 1.1 | C8: SERVIÇOS PRELIMINARES
A9: ITEM: | B9: 1.1.1 | C9: ='PLANILHA ORÇAMENTÁRIA '!C13 -> FORNECIMENTO E COLOCAÇÃO DE PLACA DE OBRA EM CHAPA GALVANIZADA #26, ESP. 0,45MM, DIMENSÃO (3X1,5)M, PLOTADA COM ADESIVO VINÍLICO, AFIXADA COM REBITES 4,8X40MM, EM ESTRUTURA METÁLICA DE METALON 20X20MM, ESP. 1,25MM, INCLUSIVE SUPORTE EM EUCALIPTO AUTOCLAVADO PINTADO COM TINTA PVA DUAS (2) DEMÃOS
A10: Descrição | I10: Repetição | J10: Unidade (UNID) | K10: Observações
A11: Placa de Obra (3,00x1,50) | I11: 1 | J11: =I11 -> 1
A12: TOTAL | J12: =ROUND(SUM(J11:J11),2) -> 1
A14: 1.2 | C14: REMOÇÃO E DEMOLIÇÃO
A15: ITEM: | B15: 1.2.1 | C15: ='PLANILHA ORÇAMENTÁRIA '!C15 -> DEMOLIÇÃO DE ALVENARIA DE BLOCO FURADO, DE FORMA MANUAL, SEM REAPROVEITAMENTO. AF_09/2023
A16: Descrição | D16: Comprimento (m) | E16: Altura (m) | F16: Espessura (m) | I16: Repetição | J16: Volume Tota (m³) | K16: Observações
A17: ALVENÁRIA H=2,50M | C17: 4,8+1+1+3,55 | D17: =4.8+1+1+3.55 -> 10.35 | E17: 2.5 | F17: 0.15 | I17: 1 | J17: =ROUND(SUM(D17*I17*E17*F17),2) -> 3.88
A18: ALVENÁRIA H=2,10M | D18: 0.8 | E18: 2.1 | F18: 0.15 | I18: 1 | J18: =ROUND(SUM(D18*I18*E18*F18),2) -> 0.25
A19: ALVENARIA H=1,10M | D19: 1.6 | E19: 1.1 | F19: 0.15 | I19: 1 | J19: =ROUND(SUM(D19*I19*E19*F19),2) -> 0.26
A20: ALVENARIA H=2,30M | C20: 0,45+0,45 | D20: =0.45+0.45 -> 0.9 | E20: 2.3 | F20: 0.15 | I20: 1 | J20: =ROUND(SUM(D20*I20*E20*F20),2) -> 0.31
A21: ALVENARIA H=2,50M | C21: 2,25+1,95 | D21: =2.25+1.95 -> 4.2 | E21: 2.5 | F21: 0.15 | I21: 1 | J21: =ROUND(SUM(D21*I21*E21*F21),2) -> 1.58
A22: TOTAL | J22: =ROUND(SUM(J17:J21),2) -> 6.28
A24: ITEM: | B24: 1.2.2 | C24: ='PLANILHA ORÇAMENTÁRIA '!C16 -> DEMOLIÇÃO MANUAL DE PISO CERÂMICO OU LADRILHO HIDRÁULICO, INCLUSIVE AFASTAMENTO E EMPILHAMENTO, EXCLUSIVE DEMOLIÇÃO DE CONTRAPISO, TRANSPORTE E RETIRADA DO MATERIAL DEMOLIDO
A25: Descrição | D25: Área (m²) | I25: Repetição | J25: Área Total (m²) | K25: Observações
A26: W.C Feminino | D26: 6.21 | I26: 1 | J26: =ROUND(SUM(D26*I26),2) -> 6.21
A27: W.C Masculino | D27: 7.6 | I27: 1 | J27: =ROUND(SUM(D27*I27),2) -> 7.6
A28: TOTAL | J28: =ROUND(SUM(J26:J27),2) -> 13.81
A30: ITEM: | B30: 1.2.3 | C30: ='PLANILHA ORÇAMENTÁRIA '!C17 -> DEMOLIÇÃO MANUAL DE REVESTIMENTO CERÂMICO, AZULEJO OU LADRILHO HIDRÁULICO, INCLUSIVE AFASTAMENTO E EMPILHAMENTO, EXCLUSIVE DEMOLIÇÃO DO REBOCO OU EMBOÇO, TRANSPORTE E RETIRADA DO MATERIAL DEMOLIDO
A31: Descrição | D31: Comprimento (m) | E31: Atura (m) | I31: Repetição | J31: Comprimento Total (m) | K31: Observações
A32: =A26 -> W.C Feminino | C32: 2,7+2,3+2,7+2,3 | D32: =2.7+2.3+2.7+2.3 -> 10 | E32: 1.8 | I32: 1 | J32: =ROUND(SUM(D32*I32*E32),2) -> 18
A33: =A27 -> W.C Masculino | C33: 2,35+3,7+2,25+1+1,1+2,7 | D33: =2.35+3.7+2.25+1+1.1+2.7 -> 13.1 | E33: 1.8 | I33: 1 | J33: =ROUND(SUM(D33*I33*E33),2) -> 23.58
A34: TOTAL | J34: =ROUND(SUM(J32:J33),2) -> 41.58
A36: ITEM: | B36: 1.2.4 | C36: ='PLANILHA ORÇAMENTÁRIA '!C18 -> REMOÇÃO DE LOUÇAS (LAVATÓRIO, BANHEIRA, PIA, VASO SANITÁRIO, TANQUE), COM REAPROVEITAMENTO, INCLUSIVE AFASTAMENTO E EMPILHAMENTO, EXCLUSIVE TRANSPORTE E RETIRADA DO MATERIAL REMOVIDO NÃO REAPROVEITÁVEL
A37: Descrição | D37: Unidades | I37: Repetição | J37: Unidades (Unid) | K37: Observações
A38: Vaso | D38: 5 | I38: 1 | J38: =ROUND(SUM(D38*I38),2) -> 5
A39: Pia com cuba BANHEIRO | D39: 4 | I39: 1 | J39: =ROUND(SUM(D39*I39),2) -> 4
A40: TOTAL | J40: =ROUND(SUM(J38:J39),2) -> 9
A42: ITEM: | B42: 1.2.5 | C42: ='PLANILHA ORÇAMENTÁRIA '!C19 -> REMOÇÃO MANUAL DE FOLHA DE PORTA OU JANELA DE MADEIRA OU METÁLICA, COM REAPROVEITAMENTO, INCLUSIVE AFASTAMENTO E EMPILHAMENTO, EXCLUSIVE TRANSPORTE E RETIRADA DO MATERIAL REMOVIDO NÃO REAPROVEITÁVEL
A43: Descrição | D43: Comprimento (m) | E43: Altura (m) | I43: Repetição | J43: Área Total (m²) | K43: Observações
A44: PORTA 90X210 | D44: 0.9 | E44: 2.1 | I44: 2 | J44: =ROUND(SUM(D44*I44*E44),2) -> 3.78
A45: PORTA 80X210 | D45: 0.8 | E45: 2.1 | I45: 2 | J45: =ROUND(SUM(D45*I45*E45),2) -> 3.36
A46: PORTA 60X210 | D46: 0.6 | E46: 2.1 | I46: 3 | J46: =ROUND(SUM(D46*I46*E46),2) -> 3.78
...

Sheet CRONOGRAMA
A1: CRONOGRAMA FÍSICO-FINANCEIRO
A3: OBRA: REFORMA DA UNIDADE DE ATENDIMENTO INTEGRADO (UAI) | G3: DATA: | I3: =TODAY() -> 46224
A4: LOCAL: Rua São João, 135 , Bela Vista, Olhos D'Água-MG. | G4: ART.:
A5: RESPONSÁVEL TECNICO: KÁREN MARIANA SOARES VIEIRA | G5: FORMA DE EXECUÇÃO:
A6: REGIÃO/MÊS DE REFERÊNCIA: SINAPI 002/2026 DESONERADO / SETOP 01/2026 DESONERADO / SUDECAP 01/2026 DESONERADO / ORSE 02/2026 DESONERADO | G6: ( ) | H6: DIRETA | I6: ( X ) | J6: INDIRETA
A7: COMPOSIÇÃO/DEMONSTRATIVO DE BDI - EM ANEXO | G7: % ISS MUNICIPAL: | H7: 0.04 | I7: BDI: | J7: ='PLANILHA ORÇAMENTÁRIA '!J7 -> 0.2661
A9: 1 | B9: ETAPAS/DESCRIÇÃO | C9: FÍSICO/ FINANCEIRO | D9: TOTAL ETAPAS | E9: PREVISÃO DE EXECUÇÃO DAS OBRAS: 3 MÊS | G9: PREVISÃO DE EXECUÇÃO DAS OBRAS: 3 MÊS | I9: PREVISÃO DE EXECUÇÃO DAS OBRAS: 3 MÊS
E11: MÊS 1 | G11: MÊS 2 | I11: MÊS 3
A12: 1.1 | B12: ='PLANILHA ORÇAMENTÁRIA '!B12:H12 -> SERVIÇOS PRELIMINARES | C12: Físico % | D12: =(D13/$D$39) -> 0.0093080793 | E12: 1 | K12: =E12+G12+I12 -> 1
C13: Financeiro | D13: ='PLANILHA ORÇAMENTÁRIA '!J12 -> 1502.99 | E13: =ROUND(SUM(E12*D13),2) -> 1502.99
A14: 1.2 | B14: ='PLANILHA ORÇAMENTÁRIA '!B14:H14 -> DEMOLIÇÃO E REMOÇÃO | C14: Físico % | D14: =(D15/$D$39) -> 0.019553847 | E14: 1 | K14: =E14+G14+I14 -> 1
C15: Financeiro | D15: ='PLANILHA ORÇAMENTÁRIA '!J14 -> 3157.39 | E15: =ROUND(SUM(E14*D15),2) -> 3157.39
A16: 1.3 | B16: ='PLANILHA ORÇAMENTÁRIA '!B21:H21 -> ALVENARIA E REVESTIMENTO | C16: Físico % | D16: =(D17/$D$39) -> 0.12495241 | E16: 0.3 | G16: 0.7 | K16: =E16+G16+I16 -> 1
C17: Financeiro | D17: ='PLANILHA ORÇAMENTÁRIA '!J21 -> 20176.26 | E17: =ROUND(SUM(E16*D17),2) -> 6052.88 | G17: =ROUND(SUM(G16*D17),2) -> 14123.38
A18: 1.4 | B18: ='PLANILHA ORÇAMENTÁRIA '!B27:H27 -> COBERTURA | C18: Físico % | D18: =(D19/$D$39) -> 0.064053389 | G18: 1 | K18: =E18+G18+I18 -> 1
C19: Financeiro | D19: ='PLANILHA ORÇAMENTÁRIA '!J27 -> 10342.8 | G19: =ROUND(SUM(G18*D19),2) -> 10342.8
A20: 1.5 | B20: ='PLANILHA ORÇAMENTÁRIA '!B29:H29 -> PISOS E REVESTIMENTOS | C20: Físico % | D20: =(D21/$D$39) -> 0.13110799 | E20: 1 | K20: =E20+G20+I20 -> 1
C21: Financeiro | D21: ='PLANILHA ORÇAMENTÁRIA '!J29 -> 21170.21 | E21: =ROUND(SUM(E20*D21),2) -> 21170.21
A22: 1.6 | B22: ='PLANILHA ORÇAMENTÁRIA '!B36:H36 -> PINTURA | C22: Físico % | D22: =(D23/$D$39) -> 0.17354915 | I22: 1 | K22: =E22+G22+I22 -> 1
C23: Financeiro | D23: ='PLANILHA ORÇAMENTÁRIA '!J36 -> 28023.25 | I23: =ROUND(SUM(I22*D23),2) -> 28023.25
A24: 1.7 | B24: ='PLANILHA ORÇAMENTÁRIA '!B45:H45 -> ESQUADRIAS | C24: Físico % | D24: =(D25/$D$39) -> 0.072710394 | I24: 1 | K24: =E24+G24+I24 -> 1
C25: Financeiro | D25: ='PLANILHA ORÇAMENTÁRIA '!J45 -> 11740.66 | I25: =ROUND(SUM(I24*D25),2) -> 11740.66
A26: 1.8 | B26: ='PLANILHA ORÇAMENTÁRIA '!B50:H50 -> LOUÇAS, METAIS E BANCADAS | C26: Físico % | D26: =(D27/$D$39) -> 0.044624703 | I26: 1 | K26: =E26+G26+I26 -> 1
C27: Financeiro | D27: ='PLANILHA ORÇAMENTÁRIA '!J50 -> 7205.62 | I27: =ROUND(SUM(I26*D27),2) -> 7205.62
A28: 1.9 | B28: ='PLANILHA ORÇAMENTÁRIA '!B58:H58 -> CLIMATIZAÇÃO | C28: Físico % | D28: =(D29/$D$39) -> 0.038302537 | G28: 1 | K28: =E28+G28+I28 -> 1
C29: Financeiro | D29: ='PLANILHA ORÇAMENTÁRIA '!J58 -> 6184.77 | G29: =ROUND(SUM(G28*D29),2) -> 6184.77
A30: 1.10 | B30: ='PLANILHA ORÇAMENTÁRIA '!B72:H72 -> CABEAMENTO ESTRUTURADO | C30: Físico % | D30: =(D31/$D$39) -> 0.066601516 | G30: 1 | K30: =E30+G30+I30 -> 1
C31: Financeiro | D31: ='PLANILHA ORÇAMENTÁRIA '!J72 -> 10754.25 | G31: =ROUND(SUM(G30*D31),2) -> 10754.25
A32: 1.11 | B32: ='PLANILHA ORÇAMENTÁRIA '!B86:H86 -> INSTALAÇÕES ELÉTRICAS | C32: Físico % | D32: =(D33/$D$39) -> 0.16943102 | E32: 0.25 | G32: 0.5 | I32: 0.25 | K32: =E32+G32+I32 -> 1
C33: Financeiro | D33: ='PLANILHA ORÇAMENTÁRIA '!J86 -> 27358.29 | E33: =ROUND(SUM(E32*D33),2) -> 6839.57 | G33: =ROUND(SUM(G32*D33),2) -> 13679.15 | I33: =ROUND(SUM(I32*D33),2) -> 6839.57
A34: 1.12 | B34: ='PLANILHA ORÇAMENTÁRIA '!B112:H112 -> INSTALAÇÕES HIDROSSANITÁRIAS | C34: Físico % | D34: =(D35/$D$39) -> 0.065424095 | E34: 1 | K34: =E34+G34+I34 -> 1
C35: Financeiro | D35: ='PLANILHA ORÇAMENTÁRIA '!J112 -> 10564.13 | E35: =ROUND(SUM(E34*D35),2) -> 10564.13
A36: 1.13 | B36: ='PLANILHA ORÇAMENTÁRIA '!B157:H157 -> SERVIÇOS PRELIMINARES | C36: Físico % | D36: =(D37/$D$39) -> 0.020380866 | I36: 1 | K36: =E36+G36+I36 -> 1
C37: Financeiro | D37: ='PLANILHA ORÇAMENTÁRIA '!J157 -> 3290.93 | I37: =ROUND(SUM(I36*D37),2) -> 3290.93
A38: TOTAL | C38: Físico % | D38: =ROUND(SUM(D12+D14+D16+D18+D20+D22+D24+D26+D28+D30+D32+D34+D36),2) -> 1 | E38: =SUM(E39/$D$39) -> 0.30523749 | G38: =SUM(G39/$D$39) -> 0.34113966 | I38: =SUM(I39/$D$39) -> 0.35362285 | K38: =E38+G38+I38 -> 1
C39: Financeiro | D39: =ROUND(D13+D15+D17+D19+D21+D23+D25+D27+D29+D31+D33+D35+D37,2) -> 161471.55 | E39: =ROUND(SUM(E13+E15+E17+E19+E21+E23+E25+E27+E29+E31+E33+E35+E37),2) -> 49287.17 | G39: =ROUND(SUM(G13+G15+G17+G19+G21+G23+G25+G27+G29+G31+G33+G35+G37),2) -> 55084.35 | I39: =ROUND(SUM(I13+I15+I17+I19+I21+I23+I25+I27+I29+I31+I33+I35+I37),2) -> 57100.03
B48: KÁREN MARIANA SOARES VIEIRA | F48: RODRIGO VIEIRA DE MATOS
B49: ENGENHEIRA CIVIL 332.425/D-MG | F49: PREFEITO MUNICIPAL DE OLHOS D'ÁGUA-MG
