Workbook
Name JR_PAGE_ANCHOR_0_1: #REF!

Sheet PLANILHA ORÇAMENTÁRIA
A1: PLANILHA ORÇAMENTÁRIA DE CUSTO
A2: OBRA: REFORMA E AMPLIAÇÃO DA ESCOLA MUNICIPAL JOAQUIM PESSOA, NA COMUNIDADE MACAUBAS CURRAL NO MUNICÍPIO DE OLHOS D' ÁGUA-MG | G2: DATA: | I2: =TODAY() -> 46161
A3: LOCAL: COMUNIDADE DE MACAUBAS CURRAL, NO MUNICÍPIO DE OLHOS D'ÁGUA-MG | G3: ART.:
A4: RESPONSÁVEL TECNICO: KÁREN MARIANA SOARES VIEIRA | G4: FORMA DE EXECUÇÃO:
A5: REGIÃO/MÊS DE REFERÊNCIA: SETOP 01/2026 DES. | G5: ( ) | H5: DIRETA | I5: ( X ) | J5: INDIRETA
A6: COMPOSIÇÃO/DEMONSTRATIVO DE BDI - EM ANEXO | G6: % ISS MUNICIPAL: | H6: 0.03 | I6: BDI: | J6: 0.2649
A8: ITEM | B8: CÓDIGO | C8: DESCRIÇÃO | D8: FONTE | E8: UNID | F8: QUANTIDADE | G8: PREÇO UNITÁRIO R$ | I8: PREÇO TOTAL R$
G9: SEM BDI | H9: COM BDI | I9: SEM BDI | J9: COM BDI
A10: 1.0 | B10: REFORMA E AMPLIAÇÃO DA ESCOLA MUNICIPAL JOAQUIM PESSOA | I10: =ROUND(SUM(I11+I13+I67+I83+I138),2) -> 208382.06 | J10: =ROUND(SUM(J11+J13+J67+J83+J138),2) -> 263575.52
A11: 1.1 | B11: SERVIÇOS PRELIMINARES | I11: =ROUND(SUM(I12),2) -> 1187.1 | J11: =ROUND(SUM(J12),2) -> 1501.56
A12: 1.1.1 | B12: ED-28427 | C12: FORNECIMENTO E COLOCAÇÃO DE PLACA DE OBRA EM CHAPA GALVANIZADA #26, ESP. 0,45MM, DIMENSÃO (3X1,5)M, PLOTADA COM ADESIVO VINÍLICO, AFIXADA COM REBITES 4,8X40MM, EM ESTRUTURA METÁLICA DE METALON 20X20MM, ESP. 1,25MM, INCLUSIVE SUPORTE EM EUCALIPTO AUTOCLAVADO PINTADO COM TINTA PVA DUAS (2) DEMÃOS | D12: SETOP | E12: un | F12: ='MEMÓRIA DE CALCULO'!I13 -> 1 | G12: 1187.1 | H12: =ROUND(SUM(G12*(1+$J$6)),2) -> 1501.56 | I12: =ROUND(SUM(F12*G12),2) -> 1187.1 | J12: =ROUND(SUM(F12*H12),2) -> 1501.56
A13: 1.2 | B13: AMPLIAÇÃO | I13: =ROUND(SUM(I24+I30+I35+I43+I54+I59+I62+I14),2) -> 144451.45 | J13: =ROUND(SUM(J24+J30+J35+J43+J54+J59+J62+J14),2) -> 182711.99
A14: 1.2.1 | B14: INFRAESTRUTURA | I14: =ROUND(SUM(I15:I23),2) -> 30465.7 | J14: =ROUND(SUM(J15:J23),2) -> 38532.06
A15: 1.2.1.1 | B15: ED-51110 | C15: ESCAVAÇÃO MANUAL DE TERRA (DESATERRO MANUAL), INCLUSIVE DESCARGA LATERAL, EXCLUSIVE RETIRADA E TRANSPORTE DO MATERIAL ESCAVADO | D15: SETOP | E15: m3 | F15: ='MEMÓRIA DE CALCULO'!I26 -> 33.84 | G15: 47.14 | H15: =ROUND(SUM(G15*(1+$J$6)),2) -> 59.63 | I15: =ROUND(SUM(F15*G15),2) -> 1595.22 | J15: =ROUND(SUM(F15*H15),2) -> 2017.88
A16: 1.2.1.2 | B16: ED-51093 | C16: APILOAMENTO MANUAL EM FUNDO DE VALA COM SOQUETE, EXCLUSIVE ESCAVAÇÃO | D16: SETOP | E16: m2 | F16: ='MEMÓRIA DE CALCULO'!I37 -> 53.93 | G16: 27.13 | H16: =ROUND(SUM(G16*(1+$J$6)),2) -> 34.32 | I16: =ROUND(SUM(F16*G16),2) -> 1463.12 | J16: =ROUND(SUM(F16*H16),2) -> 1850.88
A17: 1.2.1.3 | B17: ED-49812 | C17: LASTRO DE CONCRETO MAGRO, INCLUSIVE TRANSPORTE, LANÇAMENTO E ADENSAMENTO | D17: SETOP | E17: m3 | F17: ='MEMÓRIA DE CALCULO'!I48 -> 2.7 | G17: =0.9*630.36 -> 567.324 | H17: =ROUND(SUM(G17*(1+$J$6)),2) -> 717.61 | I17: =ROUND(SUM(F17*G17),2) -> 1531.77 | J17: =ROUND(SUM(F17*H17),2) -> 1937.55
A18: 1.2.1.4 | B18: ED-48298 | C18: CORTE, DOBRA E MONTAGEM DE AÇO CA-50/60, INCLUSIVE ESPAÇADOR | D18: SETOP | E18: Kg | F18: ='MEMÓRIA DE CALCULO'!I55 -> 858.5 | G18: =0.9*13.76 -> 12.384 | H18: =ROUND(SUM(G18*(1+$J$6)),2) -> 15.66 | I18: =ROUND(SUM(F18*G18),2) -> 10631.66 | J18: =ROUND(SUM(F18*H18),2) -> 13444.11
A19: 1.2.1.5 | B19: ED-49647 | C19: FÔRMA E DESFORMA DE COMPENSADO PLASTIFICADO, ESP. 12MM, REAPROVEITAMENTO (5X), EXCLUSIVE ESCORAMENTO | D19: SETOP | E19: m2 | F19: ='MEMÓRIA DE CALCULO'!I62 -> 50.5 | G19: 58.06 | H19: =ROUND(SUM(G19*(1+$J$6)),2) -> 73.44 | I19: =ROUND(SUM(F19*G19),2) -> 2932.03 | J19: =ROUND(SUM(F19*H19),2) -> 3708.72
A20: 1.2.1.6 | B20: ED-8495 | C20: CONCRETO ESTRUTURAL, PREPARADO EM OBRA COM BETONEIRA, CONTROLE "A", COM FCK 25MPA, BRITA Nº (1), CONSISTÊNCIA PARA VIBRAÇÃO (FABRICAÇÃO) | D20: SETOP | E20: m3 | F20: ='MEMÓRIA DE CALCULO'!I69 -> 11.64 | G20: =0.9*593.18 -> 533.862 | H20: =ROUND(SUM(G20*(1+$J$6)),2) -> 675.28 | I20: =ROUND(SUM(F20*G20),2) -> 6214.15 | J20: =ROUND(SUM(F20*H20),2) -> 7860.26
A21: 1.2.1.7 | B21: ED-50174 | C21: IMPERMEABILIZAÇÃO COM EMULSÃO ASFÁLTICA, DUAS (2) DEMÃOS | D21: SETOP | E21: m2 | F21: ='MEMÓRIA DE CALCULO'!I74 -> 55.44 | G21: 33.71 | H21: =ROUND(SUM(G21*(1+$J$6)),2) -> 42.64 | I21: =ROUND(SUM(F21*G21),2) -> 1868.88 | J21: =ROUND(SUM(F21*H21),2) -> 2363.96
A22: 1.2.1.8 | B22: ED-51121 | C22: REATERRO MANUAL DE VALA, INCLUSIVE ESPALHAMENTO E COMPACTAÇÃO MECANIZADA COM PLACA VIBRATÓRIA | D22: SETOP | E22: m3 | F22: ='MEMÓRIA DE CALCULO'!I80 -> 84.9 | G22: 49.81 | H22: =ROUND(SUM(G22*(1+$J$6)),2) -> 63 | I22: =ROUND(SUM(F22*G22),2) -> 4228.87 | J22: =ROUND(SUM(F22*H22),2) -> 5348.7
A23: 1.2.1.9 | B23: COMP-01 | C23: MATERIAL DO ATERRO E TRANSPORTE DO ATERRO A CARGO DA PREFEITURA | D23: PRÓPRIA | E23: m3 | F23: ='MEMÓRIA DE CALCULO'!I85 -> 65.4 | G23: Á CARGO DA PREFEITURA
A24: 1.2.2 | B24: SUPRAESTRUTURA | I24: =ROUND(SUM(I25:I29),2) -> 14170.26 | J24: =ROUND(SUM(J25:J29),2) -> 17922.04
A25: 1.2.2.1 | B25: ED-48298 | C25: CORTE, DOBRA E MONTAGEM DE AÇO CA-50/60, INCLUSIVE ESPAÇADOR | D25: SETOP | E25: Kg | F25: ='MEMÓRIA DE CALCULO'!I91 -> 445.6 | G25: =G18 -> 12.384 | H25: =ROUND(SUM(G25*(1+$J$6)),2) -> 15.66 | I25: =ROUND(SUM(F25*G25),2) -> 5518.31 | J25: =ROUND(SUM(F25*H25),2) -> 6978.1
A26: 1.2.2.2 | B26: ED-49647 | C26: FÔRMA E DESFORMA DE COMPENSADO PLASTIFICADO, ESP. 12MM, REAPROVEITAMENTO (5X), EXCLUSIVE ESCORAMENTO | D26: SETOP | E26: m2 | F26: ='MEMÓRIA DE CALCULO'!I96 -> 33.58 | G26: 58.06 | H26: =ROUND(SUM(G26*(1+$J$6)),2) -> 73.44 | I26: =ROUND(SUM(F26*G26),2) -> 1949.65 | J26: =ROUND(SUM(F26*H26),2) -> 2466.12
A27: 1.2.2.3 | B27: ED-49619 | C27: FORNECIMENTO DE CONCRETO ESTRUTURAL, PREPARADO EM OBRA, COM FCK 25MPA, INCLUSIVE LANÇAMENTO, ADENSAMENTO E ACABAMENTO | D27: SETOP | E27: m3 | F27: ='MEMÓRIA DE CALCULO'!I101 -> 6.35 | G27: =0.9*853.68 -> 768.312 | H27: =ROUND(SUM(G27*(1+$J$6)),2) -> 971.84 | I27: =ROUND(SUM(F27*G27),2) -> 4878.78 | J27: =ROUND(SUM(F27*H27),2) -> 6171.18
A28: 1.2.2.4 | B28: ED-19637 | C28: CIMBRAMENTO PARA LAJE PRÉ-MOLDADA COM ESCORAMENTO METÁLICO, TIPO "A", ALTURA DE (200 ATÉ 310)CM, INCLUSIVE DESCARGA, MONTAGEM, DESMONTAGEM E CARGA | D28: SETOP | E28: m2xmês | F28: ='MEMÓRIA DE CALCULO'!I111 -> 12 | G28: 23.55 | H28: =ROUND(SUM(G28*(1+$J$6)),2) -> 29.79 | I28: =ROUND(SUM(F28*G28),2) -> 282.6 | J28: =ROUND(SUM(F28*H28),2) -> 357.48
A29: 1.2.2.5 | B29: ED-50252 | C29: LAJE PRÉ-MOLDADA UNIDIRECIONAL COM ENCHIMENTO EM POLIESTIRENO EXPANDIDO (EPS), CAPEAMENTO DE 4CM, SOBRECARGA DE 100KG/M2, ALTURA TOTAL DE 11CM E VÃO LIVRE MÁXIMO DE 3M, INCLUSIVE CONCRETO ESTRUTURAL, USINADO BOMBEADO COM FCK DE 20MPA, EXCLUSIVE TELA ARMADA E CIMBRAMENTO | D29: SETOP | E29: m2 | F29: ='MEMÓRIA DE CALCULO'!I106 -> 12 | G29: 128.41 | H29: =ROUND(SUM(G29*(1+$J$6)),2) -> 162.43 | I29: =ROUND(SUM(F29*G29),2) -> 1540.92 | J29: =ROUND(SUM(F29*H29),2) -> 1949.16
A30: 1.2.3 | B30: ALVENARIA E REVESTIMENTO | I30: =ROUND(SUM(I31:I34),2) -> 14521.02 | J30: =ROUND(SUM(J31:J34),2) -> 18367.41
A31: 1.2.3.1 | B31: ED-48195 | C31: ALVENARIA DE VEDAÇÃO COM BLOCO DE CONCRETO, ESP. 14CM, INCLUSIVE ARGAMASSA PARA ASSENTAMENTO | D31: SETOP | E31: m2 | F31: ='MEMÓRIA DE CALCULO'!I125 -> 131.8 | G31: =0.9*79.93 -> 71.937 | H31: =ROUND(SUM(G31*(1+$J$6)),2) -> 90.99 | I31: =ROUND(SUM(F31*G31),2) -> 9481.3 | J31: =ROUND(SUM(F31*H31),2) -> 11992.48
A32: 1.2.3.2 | B32: ED-9906 | C32: VERGA OU CONTRAVERGA EM CONCRETO ESTRUTURAL PARA VÃOS ACIMA DE 150CM, PREPARADO EM OBRA COM BETONEIRA, CONTROLE "A", COM FCK 20 MPA, MOLDADA IN LOCO, INCLUSIVE ARMAÇÃO | D32: SETOP | E32: m3 | F32: ='MEMÓRIA DE CALCULO'!I134 -> 0.17 | G32: 3750.2 | H32: =ROUND(SUM(G32*(1+$J$6)),2) -> 4743.63 | I32: =ROUND(SUM(F32*G32),2) -> 637.53 | J32: =ROUND(SUM(F32*H32),2) -> 806.42
A33: 1.2.3.3 | B33: ED-50727 | C33: CHAPISCO COM ARGAMASSA, TRAÇO 1:3 (CIMENTO E AREIA), ESP. 5MM, APLICADO EM ALVENARIA/ESTRUTURA DE CONCRETO COM COLHER, INCLUSIVE ARGAMASSA COM PREPARO MECANIZADO | D33: SETOP | E33: m2 | F33: ='MEMÓRIA DE CALCULO'!I143 -> 97.08 | G33: 10.48 | H33: =ROUND(SUM(G33*(1+$J$6)),2) -> 13.26 | I33: =ROUND(SUM(F33*G33),2) -> 1017.4 | J33: =ROUND(SUM(F33*H33),2) -> 1287.28
A34: 1.2.3.4 | B34: ED-50732 | C34: EMBOÇO COM ARGAMASSA, TRAÇO 1:6 (CIMENTO E AREIA), ESP. 20MM, APLICAÇÃO MANUAL, INCLUSIVE ARGAMASSA COM PREPARO MECANIZADO, EXCLUSIVE CHAPISCO | D34: SETOP | E34: m2 | F34: ='MEMÓRIA DE CALCULO'!I149 -> 97.08 | G34: =0.9*38.74 -> 34.866 | H34: =ROUND(SUM(G34*(1+$J$6)),2) -> 44.1 | I34: =ROUND(SUM(F34*G34),2) -> 3384.79 | J34: =ROUND(SUM(F34*H34),2) -> 4281.23
A35: 1.2.4 | B35: PISOS E REVESTIMENTOS | I35: =ROUND(SUM(I36:I42),2) -> 30609.42 | J35: =ROUND(SUM(J36:J42),2) -> 38719.38
A36: 1.2.4.1 | B36: ED-51122 | C36: REGULARIZAÇÃO E COMPACTAÇÃO DE TERRENO MANUAL COM SOQUETE, EXCLUSIVE DESMATAMENTO, DESTOCAMENTO, LIMPEZA/ROÇADA DO TERRENO | D36: SETOP | E36: m2 | F36: ='MEMÓRIA DE CALCULO'!I164 -> 195.08 | G36: 11.55 | H36: =ROUND(SUM(G36*(1+$J$6)),2) -> 14.61 | I36: =ROUND(SUM(F36*G36),2) -> 2253.17 | J36: =ROUND(SUM(F36*H36),2) -> 2850.12
A37: 1.2.4.2 | B37: ED-49812 | C37: LASTRO DE CONCRETO MAGRO, INCLUSIVE TRANSPORTE, LANÇAMENTO E ADENSAMENTO | D37: SETOP | E37: m3 | F37: ='MEMÓRIA DE CALCULO'!I177 -> 3.93 | G37: =0.9*630.36 -> 567.324 | H37: =ROUND(SUM(G37*(1+$J$6)),2) -> 717.61 | I37: =ROUND(SUM(F37*G37),2) -> 2229.58 | J37: =ROUND(SUM(F37*H37),2) -> 2820.21
A38: 1.2.4.3 | B38: ED-50566 | C38: CONTRAPISO DESEMPENADO COM ARGAMASSA, TRAÇO 1:3 (CIMENTO E AREIA), ESP. 20MM, INCLUSIVE ARGAMASSA COM PREPARO MECANIZADO | D38: SETOP | E38: m2 | F38: ='MEMÓRIA DE CALCULO'!I190 -> 130.79 | G38: 40.79 | H38: =ROUND(SUM(G38*(1+$J$6)),2) -> 51.6 | I38: =ROUND(SUM(F38*G38),2) -> 5334.92 | J38: =ROUND(SUM(F38*H38),2) -> 6748.76
A39: 1.2.4.4 | B39: ED-50553 | C39: PISO CIMENTADO NATADO COM ARGAMASSA, ACABAMENTO QUEIMADO, TRAÇO 1:3 (CIMENTO E AREIA), ESP. 25MM, SEM JUNTA DE DILATAÇÃO | D39: SETOP | E39: m2 | F39: ='MEMÓRIA DE CALCULO'!I203 -> 130.79 | G39: 51.25 | H39: =ROUND(SUM(G39*(1+$J$6)),2) -> 64.83 | I39: =ROUND(SUM(F39*G39),2) -> 6702.99 | J39: =ROUND(SUM(F39*H39),2) -> 8479.12
A40: 1.2.4.5 | B40: ED-51145 | C40: PASSEIOS DE CONCRETO E = 6 CM, FCK = 10 MPA, JUNTA SECA | D40: SETOP | E40: m2 | F40: ='MEMÓRIA DE CALCULO'!I212 -> 81.62 | G40: 71.88 | H40: =ROUND(SUM(G40*(1+$J$6)),2) -> 90.92 | I40: =ROUND(SUM(F40*G40),2) -> 5866.85 | J40: =ROUND(SUM(F40*H40),2) -> 7420.89
A41: 1.2.4.6 | B41: ED-9081 | C41: REVESTIMENTO COM CERÂMICA APLICADO EM PAREDE, ACABAMENTO ESMALTADO, AMBIENTE INTERNO/EXTERNO, PADRÃO EXTRA, DIMENSÃO DA PEÇA ATÉ 2025 CM2, PEI III, ASSENTAMENTO COM ARGAMASSA INDUSTRIALIZADA, INCLUSIVE REJUNTAMENTO | D41: SETOP | E41: m2 | F41: ='MEMÓRIA DE CALCULO'!I222 -> 98.58 | G41: 79.94 | H41: =ROUND(SUM(G41*(1+$J$6)),2) -> 101.12 | I41: =ROUND(SUM(F41*G41),2) -> 7880.49 | J41: =ROUND(SUM(F41*H41),2) -> 9968.41
...

Sheet MEMÓRIA DE CALCULO
A1: OBRA : | B1: REFORMA E AMPLIAÇÃO DA ESCOLA MUNICIPAL JOAQUIM PESSOA, NA COMUNIDADE MACAUBAS CURRAL NO MUNICÍPIO DE OLHOS D' ÁGUA-MG
A2: DESCRIÇÃO DA OBRA: | B2: REFORMA E AMPLIAÇÃO ESCOLA MACAUBA CURRAL NO MUNICÍCIPIO DE OLHOS D' ÁGUA-MG ELABORAÇÃO DE PLANILHA ORÇAMENTÁRIA, MEMÓRIA DE CÁLCULO, CRONOGRAMA FÍSICO-FINANCEIRO, PROJETO ARQUITETÔNICO, PROJETOS COMPLEMENTARES E DOCUMENTAÇÃO COMPLEMENTAR.
A3: ENDEREÇO: | B3: COMUNIDADE DE MACAUBAS CURRAL, NO MUNICÍPIO DE OLHOS D'ÁGUA-MG | G3: Data: | H3: =TODAY() -> 46161
A4: RESPONSÁVEL TECNICO: | B4: KÁREN MARIANA SOARES VIEIRA | G4: Art.:
A5: PREFEITURA MUNICIPAL DE OLHOS D'ÁGUA-MG | G5: ISS: | H5: 0.03 | I5: BDI: | J5: ='PLANILHA ORÇAMENTÁRIA'!J6 -> 0.2649
A7: REFORMA E AMPLIAÇÃO DA ESCOLA MUNICIPAL JOAQUIM PESSOA
A8: 1.1 | B8: SERVIÇOS PRELIMINARES
A9: 1.1.1 | B9: DESCRIÇÃO: | C9: FORNECIMENTO E COLOCAÇÃO DE PLACA DE OBRA EM CHAPA GALVANIZADA #26, ESP. 0,45MM, DIMENSÃO (3X1,5)M, PLOTADA COM ADESIVO VINÍLICO, AFIXADA COM REBITES 4,8X40MM, EM ESTRUTURA METÁLICA DE METALON 20X20MM, ESP. 1,25MM, INCLUSIVE SUPORTE EM EUCALIPTO AUTOCLAVADO PINTADO COM TINTA PVA DUAS (2) DEMÃOS
A10: Código | B10: Localização
C11: Descrição | D11: Quantidade | H11: Repet. | I11: Total (und) | J11: OBS:
D12: 1 | H12: 1 | I12: =ROUND(PRODUCT(D12:F12)*H12,2) -> 1
A13: TOTAL | I13: =ROUND(SUM(I12),2) -> 1
A15: 1.2 | B15: AMPLIAÇÃO
A16: 1.2.1 | B16: INFRAESTRUTURA
B17: DESCRIÇÃO: | C17: ='PLANILHA ORÇAMENTÁRIA'!C15 -> ESCAVAÇÃO MANUAL DE TERRA (DESATERRO MANUAL), INCLUSIVE DESCARGA LATERAL, EXCLUSIVE RETIRADA E TRANSPORTE DO MATERIAL ESCAVADO
A18: Código | B18: Localização | C18: Descrição | D18: Comp. + 0,10 para cada lado (m) | E18: Largura + 0,10 para cada lado (m) | F18: Altura + 0,05 do lastro (m) | H18: Repetição | I18: Volume Total (m³) | J18: OBS:
A19: SAPATAS S1=S4=S5=S17=S18=S22 | B19: 95X95CM | D19: =0.95+0.1+0.1 -> 1.15 | E19: =0.95+0.1+0.1 -> 1.15 | F19: 1.05 | H19: 6 | I19: =ROUND(SUM(D19*E19*F19*H19),2) -> 8.33
A20: SAPATAS S2=S14 | B20: 75X75CM | D20: =0.75+0.1+0.1 -> 0.95 | E20: =0.75+0.1+0.1 -> 0.95 | F20: 1.05 | H20: 2 | I20: =ROUND(SUM(D20*E20*F20*H20),2) -> 1.9
A21: SAPATA S3=S21 | B21: 95X95CM | D21: =0.95+0.1+0.1 -> 1.15 | E21: =1.15+0.1+0.1 -> 1.35 | F21: 1.05 | H21: 2 | I21: =ROUND(SUM(D21*E21*F21*H21),2) -> 3.26
A22: SAPATA S6=S10=S11=S12=S13 | B22: 55X70CM | D22: =0.55+0.1+0.1 -> 0.75 | E22: =0.7+0.1+0.1 -> 0.9 | F22: 1.05 | H22: 5 | I22: =ROUND(SUM(D22*E22*F22*H22),2) -> 3.54
A23: SAPATA S7=S8=S9=S15=S16 | B23: 55X70CM | D23: =0.55+0.1+0.1 -> 0.75 | E23: =0.7+0.1+0.1 -> 0.9 | F23: 1.05 | H23: 5 | I23: =ROUND(SUM(D23*E23*F23*H23),2) -> 3.54
A24: SAPATA S19=S20 | B24: 75X75CM | D24: =0.75+0.1+0.1 -> 0.95 | E24: =0.75+0.1+0.1 -> 0.95 | F24: 1.05 | H24: 2 | I24: =ROUND(SUM(D24*E24*F24*H24),2) -> 1.9
A25: VIGAS BALDRAMES | C25: 5,31+1,49+7,21+7,21+8,68+3,63+7,21+11,75+1,85+4,20+5,11+11,87+3,99+3,99+4+4+4,08 | D25: =5.31+1.49+7.21+7.21+8.68+3.63+7.21+11.75+1.85+4.2+5.11+11.87+3.99+3.99+4+4+4.08 -> 95.58 | E25: =0.14+0.1+0.1 -> 0.34 | F25: 0.35 | H25: 1 | I25: =ROUND(SUM(D25*E25*F25*H25),2) -> 11.37
A26: TOTAL | I26: =ROUND(SUM(I19:I25),2) -> 33.84
B28: DESCRIÇÃO: | C28: ='PLANILHA ORÇAMENTÁRIA'!C16 -> APILOAMENTO MANUAL EM FUNDO DE VALA COM SOQUETE, EXCLUSIVE ESCAVAÇÃO
A29: Código | B29: Localização | C29: Descrição | D29: Comp. + 0,10 para cada lado (m) | E29: Largura + 0,10 para cada lado (m) | H29: Repetição | I29: Área Total (m²) | J29: OBS:
A30: =A19 -> SAPATAS S1=S4=S5=S17=S18=S22 | D30: =D19 -> 1.15 | E30: =E19 -> 1.15 | H30: =H19 -> 6 | I30: =ROUND(D30*E30*H30,2) -> 7.94
A31: =A20 -> SAPATAS S2=S14 | D31: =D20 -> 0.95 | E31: =E20 -> 0.95 | H31: =H20 -> 2 | I31: =ROUND(D31*E31*H31,2) -> 1.81
A32: =A21 -> SAPATA S3=S21 | D32: =D21 -> 1.15 | E32: =E21 -> 1.35 | H32: =H21 -> 2 | I32: =ROUND(D32*E32*H32,2) -> 3.11
A33: =A22 -> SAPATA S6=S10=S11=S12=S13 | D33: =D22 -> 0.75 | E33: =E22 -> 0.9 | H33: =H22 -> 5 | I33: =ROUND(D33*E33*H33,2) -> 3.38
A34: =A23 -> SAPATA S7=S8=S9=S15=S16 | D34: =D23 -> 0.75 | E34: =E23 -> 0.9 | H34: =H23 -> 5 | I34: =ROUND(D34*E34*H34,2) -> 3.38
A35: =A24 -> SAPATA S19=S20 | D35: =D24 -> 0.95 | E35: =E24 -> 0.95 | H35: =H24 -> 2 | I35: =ROUND(D35*E35*H35,2) -> 1.81
A36: =A25 -> VIGAS BALDRAMES | D36: =D25 -> 95.58 | E36: =E25 -> 0.34 | H36: =H25 -> 1 | I36: =ROUND(D36*E36*H36,2) -> 32.5
A37: TOTAL | I37: =ROUND(SUM(I30:I36),2) -> 53.93
B39: DESCRIÇÃO: | C39: ='PLANILHA ORÇAMENTÁRIA'!C17 -> LASTRO DE CONCRETO MAGRO, INCLUSIVE TRANSPORTE, LANÇAMENTO E ADENSAMENTO
A40: Código | B40: Localização | C40: Descrição | D40: Comprimento (m) | E40: Largura (m) | F40: Espessura (m) | H40: Repetição | I40: Volume Total (m³) | J40: OBS:
A41: =A30 -> SAPATAS S1=S4=S5=S17=S18=S22 | D41: =D30 -> 1.15 | E41: =E30 -> 1.15 | F41: 0.05 | H41: =H30 -> 6 | I41: =ROUND(D41*E41*F41*H41,2) -> 0.4
A42: =A31 -> SAPATAS S2=S14 | D42: =D31 -> 0.95 | E42: =E31 -> 0.95 | F42: 0.05 | H42: =H31 -> 2 | I42: =ROUND(D42*E42*F42*H42,2) -> 0.09
A43: =A32 -> SAPATA S3=S21 | D43: =D32 -> 1.15 | E43: =E32 -> 1.35 | F43: 0.05 | H43: =H32 -> 2 | I43: =ROUND(D43*E43*F43*H43,2) -> 0.16
A44: =A33 -> SAPATA S6=S10=S11=S12=S13 | D44: =D33 -> 0.75 | E44: =E33 -> 0.9 | F44: 0.05 | H44: =H33 -> 5 | I44: =ROUND(D44*E44*F44*H44,2) -> 0.17
...

Sheet CRONOGRAMA
A1: CRONOGRAMA FÍSICO-FINANCEIRO
A3: OBRA: REFORMA E AMPLIAÇÃO DA ESCOLA MUNICIPAL JOAQUIM PESSOA, NA COMUNIDADE MACAUBAS CURRAL NO MUNICÍPIO DE OLHOS D' ÁGUA-MG | E3: DATA: | G3: =TODAY() -> 46161
A4: LOCAL: COMUNIDADE DE MACAUBAS CURRAL, NO MUNICÍPIO DE OLHOS D'ÁGUA-MG | E4: ART.:
A5: RESPONSÁVEL TECNICO: KÁREN MARIANA SOARES VIEIRA | E5: FORMA DE EXECUÇÃO:
A6: REGIÃO/MÊS DE REFERÊNCIA: SINAPI 02/2026 DES. - SETOP 01/2026 DES. | C6: BDI: | D6: ='[1]PLANILHA ORÇAMENTÁRIA '!J7 -> 0.2466
A7: COMPOSIÇÃO/DEMONSTRATIVO DE BDI - EM ANEXO | C7: % ISS MUNICIPAL: | D7: 0.03 | E7: ( ) | F7: DIRETA | G7: ( X ) | H7: INDIRETA
A9: ='[2]Planilha Orcamentária'!A4 -> OBRA: | B9: ETAPAS/DESCRIÇÃO | C9: FÍSICO/ FINANCEIRO | D9: TOTAL ETAPAS | E9: PREVISÃO DE EXECUÇÃO DAS OBRAS: 4 MESES
E11: MÊS 1 | F11: MÊS 2 | G11: MÊS 3 | H11: MÊS 4
A12: 1 | B12: SERVIÇOS PRELIMINARES | C12: Físico % | D12: =D13/$D$23 -> 0.0056968872 | E12: 1
C13: Financeiro | D13: ='PLANILHA ORÇAMENTÁRIA'!J11 -> 1501.56 | E13: =E12*$D$13 -> 1501.56 | F13: =F12*$D$13 -> 0 | G13: =G12*$D$13 -> 0 | H13: =H12*$D$13 -> 0
A14: 2 | B14: AMPLIAÇÃO | C14: Físico % | D14: =D15/$D$23 -> 0.69320546 | E14: 0.3 | F14: 0.3 | G14: 0.3 | H14: 0.1
C15: Financeiro | D15: ='PLANILHA ORÇAMENTÁRIA'!J13 -> 182711.99 | E15: =E14*$D$15 -> 54813.597 | F15: =F14*$D$15 -> 54813.597 | G15: =G14*$D$15 -> 54813.597 | H15: =H14*$D$15 -> 18271.199
A16: 3 | B16: REFORMA | C16: Físico % | D16: =D17/$D$23 -> 0.1328291 | G16: 0.5 | H16: 0.5
C17: Financeiro | D17: ='PLANILHA ORÇAMENTÁRIA'!J67 -> 35010.5 | E17: =E16*$D$17 -> 0 | F17: =F16*$D$17 -> 0 | G17: =G16*$D$17 -> 17505.25 | H17: =H16*$D$17 -> 17505.25
A18: 4 | B18: SERVIÇOS DE INSTALAÇÕES | C18: Físico % | D18: =D19/$D$23 -> 0.16215967 | E18: 0.3 | F18: 0.4 | G18: 0.3
C19: Financeiro | D19: ='PLANILHA ORÇAMENTÁRIA'!J83 -> 42741.32 | E19: =E18*$D$19 -> 12822.396 | F19: =F18*$D$19 -> 17096.528 | G19: =G18*$D$19 -> 12822.396 | H19: =H18*$D$19 -> 0
A20: 5 | B20: SERVIÇOS COMPLEMENTARES | C20: Físico % | D20: =D21/$D$23 -> 0.0061088754 | H20: 1
C21: Financeiro | D21: ='PLANILHA ORÇAMENTÁRIA'!J138 -> 1610.15 | E21: =E20*$D$21 -> 0 | F21: =F20*$D$21 -> 0 | G21: =G20*$D$21 -> 0 | H21: =H20*$D$21 -> 1610.15
A22: TOTAL | C22: Físico % | D22: =ROUND(SUM(D16+D14+D18+D20+D12),2) -> 1 | E22: =E23/$D$23 -> 0.26230643 | F22: =F23/$D$23 -> 0.27282551 | G22: =G23/$D$23 -> 0.32302409 | H22: =H23/$D$23 -> 0.14184397
C23: Financeiro | D23: =ROUND(SUM(D15+D17+D19+D21+D13),4) -> 263575.52 | E23: =ROUND(SUM(E15+E17+E19+E13+E21),4) -> 69137.553 | F23: =ROUND(SUM(F15+F17+F19+F13+F21),4) -> 71910.125 | G23: =ROUND(SUM(G15+G17+G19+G13+G21),4) -> 85141.243 | H23: =ROUND(SUM(H15+H17+H19+H13+H21),4) -> 37386.599
B27: ='[1]MEMÓRIA DE CÁLCULO '!C175 -> KÁREN MARIANA SOARES VIEIRA | E27: RODRIGO VEIRA DE MATOS
B28: ='[1]PLANILHA ORÇAMENTÁRIA '!C49 -> ENGENHEIRA CIVIL 332.425/D-MG | E28: PREFEITO MUNICIPAL DE OLHOS D' ÁGUA -MG
