Workbook

Sheet PLANILHA ORÇAMENTÁRIA 
A1: PLANILHA ORÇAMENTÁRIA DE CUSTO
A2: OBRA: EXECUÇÃO DE PONTE MISTA EM CONCRETO ARMADO E VIGAS METÁLICAS SOBRE O CÓRREGO DO RIBEIRÃO, LOCALIZADA NA COMUNIDADE DE BARROCÃO, NO MUNICÍPIO DE OLHOS D'ÁGUA/MG. | G2: DATA: | I2: =TODAY() -> 46204
A3: LOCAL: CÓRREGO DO RIBEIRÃO, LOCALIZADA NA COMUNIDADE DE BARROCÃO, NO MUNICÍPIO DE OLHOS D'ÁGUA/MG. | G3: ART.:
A4: RESPONSÁVEL TECNICO: KÁREN MARIANA SOARES VIEIRA | G4: FORMA DE EXECUÇÃO:
A5: REGIÃO/MÊS DE REFERÊNCIA: SICOR 01/2026 DESONERADA, SINAPI 01/2026 DESONERADA, SICRO 01/2026 DESONERADA | G5: ( ) | H5: DIRETA | I5: ( X ) | J5: INDIRETA
A6: COMPOSIÇÃO/DEMONSTRATIVO DE BDI - EM ANEXO | G6: % ISS MUNICIPAL: | H6: 0.03 | I6: BDI: | J6: 0.2935
A8: ITEM | B8: CÓDIGO | C8: DESCRIÇÃO | D8: FONTE | E8: UNID | F8: QUANTIDADE | G8: PREÇO UNITÁRIO R$ | I8: PREÇO TOTAL R$
G9: SEM BDI | H9: COM BDI | I9: SEM BDI | J9: COM BDI
A10: 1.0 | B10: PONTE MISTA EM CONCRETO ARMADO E VIGAS METÁLICAS - EXTENSÃO 24 METROS | I10: =ROUND(SUM(I11,I20,I22,I24,I27,I40,I48,I55,I65),2) -> 337370.96 | J10: =ROUND(SUM(J11,J20,J22,J24,J27,J40,J48,J55,J65),2) -> 436417.62
A11: 1.1 | B11: SERVIÇOS PRELIMINARES | I11: =ROUND(SUM(I12:I19),2) -> 21714.94 | J11: =ROUND(SUM(J12:J19),2) -> 28087.06
A12: 1.1.1 | B12: 103689 | C12: FORNECIMENTO E INSTALAÇÃO DE PLACA DE OBRA COM CHAPA GALVANIZADA E ESTRUTURA DE MADEIRA. AF_03/2022_PS | D12: SINAPI | E12: M2 | F12: ='MEMORIA DE CALCULO'!I12 -> 4.5 | G12: 375.26 | H12: =ROUND(SUM(G12*(1+$J$6)),2) -> 485.4 | I12: =ROUND(SUM(F12*G12),2) -> 1688.67 | J12: =ROUND(SUM(F12*H12),2) -> 2184.3 | L12: =I11+I22+I24+I27+I40+I48+I55+I65 -> 334030.65
A13: 1.1.2 | B13: ED-50135 | C13: BARRACÃO DE OBRA, EM CHAPA DE COMPENSADO RESINADO, INCLUSIVE INSTALAÇÕES SANITÁRIAS E MOBILIÁRIO - PADRÃO DER-MG | D13: SICOR | E13: M2 | F13: ='MEMORIA DE CALCULO'!I18 -> 8 | G13: 683.95 | H13: =ROUND(SUM(G13*(1+$J$6)),2) -> 884.69 | I13: =ROUND(SUM(F13*G13),2) -> 5471.6 | J13: =ROUND(SUM(F13*H13),2) -> 7077.52 | L13: =L12*1% -> 3340.3065
A14: 1.1.3 | B14: 93414 | C14: GERADOR PORTÁTIL MONOFÁSICO, POTÊNCIA 5500 VA, MOTOR A GASOLINA, POTÊNCIA DO MOTOR 13 CV - MATERIAIS NA OPERAÇÃO. AF_03/2016 | D14: SINAPI | E14: H | F14: ='MEMORIA DE CALCULO'!I24 -> 384 | G14: 11.22 | H14: =ROUND(SUM(G14*(1+$J$6)),2) -> 14.51 | I14: =ROUND(SUM(F14*G14),2) -> 4308.48 | J14: =ROUND(SUM(F14*H14),2) -> 5571.84
A15: 1.1.4 | B15: CO-29037 | C15: SONDAGEM A PERCUSSÃO COM ENSAIO DE PENETRAÇÃO PADRÃO (SPT), DIÂMETRO 2.1/2", COM REVESTIMENTO, EXCLUSIVE DIÁRIA, MOBILIZAÇÃO E DESMOBILIZAÇÃO | D15: SICOR | E15: m | F15: ='MEMORIA DE CALCULO'!I30 -> 32 | G15: 155.55 | H15: =ROUND(SUM(G15*(1+$J$6)),2) -> 201.2 | I15: =ROUND(SUM(F15*G15),2) -> 4977.6 | J15: =ROUND(SUM(F15*H15),2) -> 6438.4
A16: 1.1.5 | B16: CO-29070 | C16: MOBILIZAÇÃO E DESMOBILIZAÇÃO DE EQUIPAMENTO DE SONDAGEM A PERCUSSÃO COM ENSAIO DE PENETRAÇÃO PADRÃO (SPT) - (CUSTO FIXO) | D16: SICOR | E16: un | F16: ='MEMORIA DE CALCULO'!I36 -> 1 | G16: 3172.09 | H16: =ROUND(SUM(G16*(1+$J$6)),2) -> 4103.1 | I16: =ROUND(SUM(F16*G16),2) -> 3172.09 | J16: =ROUND(SUM(F16*H16),2) -> 4103.1
A17: 1.1.6 | B17: ED-50702 | C17: DESMATAMENTO, DESTOCAMENTO E LIMPEZA, INCLUSIVE TRANSPORTE ATÉ CINQUENTA (50) METROS | D17: SICOR | E17: m2 | F17: ='MEMORIA DE CALCULO'!I42 -> 80 | G17: 0.61 | H17: =ROUND(SUM(G17*(1+$J$6)),2) -> 0.79 | I17: =ROUND(SUM(F17*G17),2) -> 48.8 | J17: =ROUND(SUM(F17*H17),2) -> 63.2
A18: 1.1.7 | B18: 92123 | C18: ENSACAMENTO DE AREIA. AF_01/2026 | D18: SINAPI | E18: m3 | F18: ='MEMORIA DE CALCULO'!I48 -> 10 | G18: 71.09 | H18: =ROUND(SUM(G18*(1+$J$6)),2) -> 91.95 | I18: =ROUND(SUM(F18*G18),2) -> 710.9 | J18: =ROUND(SUM(F18*H18),2) -> 919.5
A19: 1.1.8 | B19: 104482 | C19: ESGOTAMENTO DE VALA COM BOMBA SUBMERSÍVEL. AF_12/2022 | D19: SINAPI | E19: H | F19: ='MEMORIA DE CALCULO'!I54 -> 40 | G19: 33.42 | H19: =ROUND(SUM(G19*(1+$J$6)),2) -> 43.23 | I19: =ROUND(SUM(F19*G19),2) -> 1336.8 | J19: =ROUND(SUM(F19*H19),2) -> 1729.2
A20: 1.2 | B20: MOBILIZAÇÃO E DESMOBILIZAÇÃO DE OBRA | I20: =ROUND(SUM(I21),2) -> 3340.31 | J20: =ROUND(SUM(J21),2) -> 4320.69
A21: 1.2.1 | B21: ED-50389 | C21: MOBILIZAÇÃO E DESMOBILIZAÇÃO OBRA DISTANTE DE CENTRO URBANO COM VALOR ATÉ O VALOR DE 1.000.000,00 | D21: SICOR | E21: % | F21: 1 | G21: =L13 -> 3340.3065 | H21: =ROUND(SUM(G21*(1+$J$6)),2) -> 4320.69 | I21: =ROUND(SUM(F21*G21),2) -> 3340.31 | J21: =ROUND(SUM(F21*H21),2) -> 4320.69
A22: 1.3 | B22: ADMINISTRAÇÃO LOCAL | I22: =ROUND(SUM(I23),2) -> 12102.66 | J22: =ROUND(SUM(J23),2) -> 15654.78
A23: 1.3.1 | B23: COMP-ADM | C23: AMINISTRAÇÃO LOCAL | D23: PROPRIA | E23: Mês | F23: ='MEMORIA DE CALCULO'!I68 -> 3 | G23: 4034.22 | H23: =ROUND(SUM(G23*(1+$J$6)),2) -> 5218.26 | I23: =ROUND(SUM(F23*G23),2) -> 12102.66 | J23: =ROUND(SUM(F23*H23),2) -> 15654.78
A24: 1.4 | B24: MOVIMENTO DE TERRA | I24: =ROUND(SUM(I25:I26),2) -> 12256.96 | J24: =ROUND(SUM(J25:J26),2) -> 15852.96
A25: 1.4.1 | B25: 90082 | C25: ESCAVAÇÃO MECANIZADA DE VALA COM PROF. ATÉ 1,5 M (MÉDIA MONTANTE E JUSANTE/UMA COMPOSIÇÃO POR TRECHO), ESCAVADEIRA (0,8 M3), LARG. DE 1,5 M A 2,5 M, EM SOLO DE 1A CATEGORIA, EM LOCAIS COM ALTO NÍVEL DE INTERFERÊNCIA. AF_09/2024 | D25: SINAPI | E25: M3 | F25: ='MEMORIA DE CALCULO'!I76 -> 363.6 | G25: 10.1 | H25: =ROUND(SUM(G25*(1+$J$6)),2) -> 13.06 | I25: =ROUND(SUM(F25*G25),2) -> 3672.36 | J25: =ROUND(SUM(F25*H25),2) -> 4748.62
A26: 1.4.2 | B26: 104737 | C26: REATERRO MANUAL DE VALAS, COM PLACA VIBRATÓRIA. AF_08/2023 | D26: SINAPI | E26: M3 | F26: ='MEMORIA DE CALCULO'!I82 -> 363.6 | G26: 23.61 | H26: =ROUND(SUM(G26*(1+$J$6)),2) -> 30.54 | I26: =ROUND(SUM(F26*G26),2) -> 8584.6 | J26: =ROUND(SUM(F26*H26),2) -> 11104.34
A27: 1.5 | B27: INFRAESTRUTURA | I27: =ROUND(SUM(I28:I39),2) -> 99441.04 | J27: =ROUND(SUM(J28:J39),2) -> 128632.29
A28: 1.5.1 | B28: 105009 | C28: LOCAÇÃO CONVENCIONAL DE OBRA, UTILIZANDO GABARITO DE TÁBUAS CORRIDAS PONTALETADAS A CADA 1,50M - 2 UTILIZAÇÕES. AF_03/2024 | D28: SINAPI | E28: M | F28: ='MEMORIA DE CALCULO'!I91 -> 103.36 | G28: 93.34 | H28: =ROUND(SUM(G28*(1+$J$6)),2) -> 120.74 | I28: =ROUND(SUM(F28*G28),2) -> 9647.62 | J28: =ROUND(SUM(F28*H28),2) -> 12479.69
A29: 1.5.2 | B29: 93358 | C29: ESCAVAÇÃO MANUAL DE VALA. AF_09/2024 | D29: SINAPI | E29: M3 | F29: ='MEMORIA DE CALCULO'!I105 -> 186 | G29: 93.27 | H29: =ROUND(SUM(G29*(1+$J$6)),2) -> 120.64 | I29: =ROUND(SUM(F29*G29),2) -> 17348.22 | J29: =ROUND(SUM(F29*H29),2) -> 22439.04
A30: 1.5.3 | B30: 101176 | C30: ESTACA BROCA DE CONCRETO, DIÂMETRO DE 30CM, ESCAVAÇÃO MANUAL COM TRADO CONCHA, INTEIRAMENTE ARMADA. AF_05/2020 | D30: SINAPI | E30: M | F30: ='MEMORIA DE CALCULO'!I105 -> 186 | G30: 153.25 | H30: =ROUND(SUM(G30*(1+$J$6)),2) -> 198.23 | I30: =ROUND(SUM(F30*G30),2) -> 28504.5 | J30: =ROUND(SUM(F30*H30),2) -> 36870.78
A31: 1.5.4 | B31: 106672 | C31: PREPARO DE FUNDO DE VALA COM LARGURA MENOR QUE 1,5 M (ACERTO DO SOLO NATURAL), EM LOCAL COM NÍVEL ALTO DE INTERFERÊNCIA. AF_01/2026 | D31: SINAPI | E31: M2 | F31: ='MEMORIA DE CALCULO'!I113 -> 55.24 | G31: 11.09 | H31: =ROUND(SUM(G31*(1+$J$6)),2) -> 14.34 | I31: =ROUND(SUM(F31*G31),2) -> 612.61 | J31: =ROUND(SUM(F31*H31),2) -> 792.14
A32: 1.5.5 | B32: 96616 | C32: LASTRO DE CONCRETO MAGRO, APLICADO EM BLOCOS DE COROAMENTO OU SAPATAS. AF_01/2024 | D32: SINAPI | E32: M3 | F32: ='MEMORIA DE CALCULO'!I121 -> 2.76 | G32: 936.74 | H32: =ROUND(SUM(G32*(1+$J$6)),2) -> 1211.67 | I32: =ROUND(SUM(F32*G32),2) -> 2585.4 | J32: =ROUND(SUM(F32*H32),2) -> 3344.21
A33: 1.5.6 | B33: 92801 | C33: CORTE E DOBRA DE AÇO CA-50, DIÂMETRO DE 6,3 MM. AF_06/2022 | D33: SINAPI | E33: KG | F33: ='MEMORIA DE CALCULO'!I128 -> 115.7 | G33: 8.65 | H33: =ROUND(SUM(G33*(1+$J$6)),2) -> 11.19 | I33: =ROUND(SUM(F33*G33),2) -> 1000.81 | J33: =ROUND(SUM(F33*H33),2) -> 1294.68
A34: 1.5.7 | B34: 92803 | C34: CORTE E DOBRA DE AÇO CA-50, DIÂMETRO DE 10,0 MM. AF_06/2022 | D34: SINAPI | E34: KG | F34: ='MEMORIA DE CALCULO'!I134 -> 196.69 | G34: 7.72 | H34: =ROUND(SUM(G34*(1+$J$6)),2) -> 9.99 | I34: =ROUND(SUM(F34*G34),2) -> 1518.45 | J34: =ROUND(SUM(F34*H34),2) -> 1964.93
A35: 1.5.8 | B35: 92804 | C35: CORTE E DOBRA DE AÇO CA-50, DIÂMETRO DE 12,5 MM. AF_06/2022 | D35: SINAPI | E35: KG | F35: ='MEMORIA DE CALCULO'!I140 -> 1366.5 | G35: 6.6 | H35: =ROUND(SUM(G35*(1+$J$6)),2) -> 8.54 | I35: =ROUND(SUM(F35*G35),2) -> 9018.9 | J35: =ROUND(SUM(F35*H35),2) -> 11669.91
A36: 1.5.9 | B36: 92805 | C36: CORTE E DOBRA DE AÇO CA-50, DIÂMETRO DE 16,0 MM. AF_06/2022 | D36: SINAPI | E36: KG | F36: ='MEMORIA DE CALCULO'!I146 -> 441.03 | G36: 6.5 | H36: =ROUND(SUM(G36*(1+$J$6)),2) -> 8.41 | I36: =ROUND(SUM(F36*G36),2) -> 2866.7 | J36: =ROUND(SUM(F36*H36),2) -> 3709.06
A37: 1.5.10 | B37: 96534 | C37: FABRICAÇÃO, MONTAGEM E DESMONTAGEM DE FÔRMA PARA BLOCO DE COROAMENTO, EM MADEIRA SERRADA, E=25 MM, 4 UTILIZAÇÕES. AF_01/2024 | D37: SINAPI | E37: M2 | F37: ='MEMORIA DE CALCULO'!I154 -> 23.96 | G37: 82.01 | H37: =ROUND(SUM(G37*(1+$J$6)),2) -> 106.08 | I37: =ROUND(SUM(F37*G37),2) -> 1964.96 | J37: =ROUND(SUM(F37*H37),2) -> 2541.68
A38: 1.5.11 | B38: ED-49787 | C38: FORNECIMENTO DE CONCRETO ESTRUTURAL, PREPARADO EM OBRA COM BETONEIRA, COM FCK 25MPA, INCLUSIVE LANÇAMENTO, ADENSAMENTO E ACABAMENTO (FUNDAÇÃO) | D38: SINAPI | E38: M3 | F38: ='MEMORIA DE CALCULO'!I162 -> 29.67 | G38: 816.03 | H38: =ROUND(SUM(G38*(1+$J$6)),2) -> 1055.53 | I38: =ROUND(SUM(F38*G38),2) -> 24211.61 | J38: =ROUND(SUM(F38*H38),2) -> 31317.58
A39: 1.5.12 | B39: 104737 | C39: REATERRO MANUAL DE VALAS, COM PLACA VIBRATÓRIA. AF_08/2023 | D39: SINAPI | E39: M3 | F39: ='MEMORIA DE CALCULO'!I168 -> 6.83 | G39: 23.61 | H39: =ROUND(SUM(G39*(1+$J$6)),2) -> 30.54 | I39: =ROUND(SUM(F39*G39),2) -> 161.26 | J39: =ROUND(SUM(F39*H39),2) -> 208.59
A40: 1.6 | B40: MESOESTRUTURA(CORTINAS E PILARES) | I40: =ROUND(SUM(I41:I47),2) -> 107582.2 | J40: =ROUND(SUM(J41:J47),2) -> 139170.58
A41: 1.6.1 | B41: 92801 | C41: CORTE E DOBRA DE AÇO CA-50, DIÂMETRO DE 6,3 MM. AF_06/2022 | D41: SINAPI | E41: KG | F41: ='MEMORIA DE CALCULO'!I175 -> 578.67 | G41: 8.65 | H41: =ROUND(SUM(G41*(1+$J$6)),2) -> 11.19 | I41: =ROUND(SUM(F41*G41),2) -> 5005.5 | J41: =ROUND(SUM(F41*H41),2) -> 6475.32
...

Sheet MEMORIA DE CALCULO
A1: MEMORIA DE CÁLCULO
A3: OBJETO: | B3: EXECUÇÃO DE PONTE MISTA EM CONCRETO ARMADO E VIGAS METÁLICAS SOBRE O CÓRREGO DO RIBEIRÃO, LOCALIZADA NA COMUNIDADE DE BARROCÃO, NO MUNICÍPIO DE OLHOS D'ÁGUA/MG.
A4: LOCAL: | B4: CÓRREGO DO RIBEIRÃO, LOCALIZADA NA COMUNIDADE DE BARROCÃO, NO MUNICÍPIO DE OLHOS D'ÁGUA/MG.
A6: PONTE MISTA EM CONCRETO ARMADO E VIGAS METÁLICAS - EXTENSÃO 24 METROS
A7: 1.1 | B7: SERVIÇOS PRELIMINARES
A8: DESCRIÇÃO: | B8: 1.1.1 | D8: FORNECIMENTO E INSTALAÇÃO DE PLACA DE OBRA COM CHAPA GALVANIZADA E ESTRUTURA DE MADEIRA. AF_03/2022_PS
A9: CÓDIGO:
A10: DESCRIÇÃO | D10: Comp. (m) | E10: Larg. (m) | H10: Repet. | I10: Área Total (m²) | J10: OBSERVAÇÕES:
D11: 3 | E11: 1.5 | H11: 1 | I11: =ROUND(SUM(D11*E11*H11),2) -> 4.5
A12: TOTAL | I12: =I11 -> 4.5
A14: DESCRIÇÃO: | B14: 1.1.2 | D14: BARRACÃO DE OBRA PARA DEPÓSITO E FERRAMENTARIA TIPO-I, ÁREA INTERNA 14,52M2, EM CHAPA DE COMPENSADO RESINADO, INCLUSIVE MOBILIÁRIO (OBRA DE PEQUENO PORTE, EFETIVO ATÉ 30 HOMENS), PADRÃO DER-MG
A15: CÓDIGO:
A16: DESCRIÇÃO | C16: DESCRIÇÃO | D16: Comp. (m) | E16: Larg. (m) | H16: Repet. | I16: Área Total (m²) | J16: OBSERVAÇÕES:
D17: 4 | E17: 2 | H17: 1 | I17: =ROUND(SUM(D17*E17*H17),2) -> 8
A18: TOTAL | I18: =I17 -> 8
A20: DESCRIÇÃO: | B20: 1.1.3 | D20: ='PLANILHA ORÇAMENTÁRIA '!C14 -> GERADOR PORTÁTIL MONOFÁSICO, POTÊNCIA 5500 VA, MOTOR A GASOLINA, POTÊNCIA DO MOTOR 13 CV - MATERIAIS NA OPERAÇÃO. AF_03/2016
A21: CÓDIGO:
A22: DESCRIÇÃO | C22: DESCRIÇÃO | D22: Hora (h) | H22: Repet. | I22: Hora Total (H) | J22: OBSERVAÇÕES:
D23: =8*24*2 -> 384 | H23: 1 | I23: =ROUND(SUM(D23*H23),2) -> 384
A24: TOTAL | I24: =I23 -> 384
A26: DESCRIÇÃO: | B26: 1.1.4 | D26: SONDAGEM A PERCUSSÃO COM ENSAIO DE PENETRAÇÃO PADRÃO (SPT), DIÂMETRO 2.1/2", EXCLUSIVE MOBILIZAÇÃO E DESMOBILIZAÇÃO
A27: CÓDIGO:
A28: DESCRIÇÃO | C28: DESCRIÇÃO | D28: Comp. (m) | E28: Nº de Furos | H28: Repet. | I28: Comprimento Total (m) | J28: OBSERVAÇÕES:
D29: 8 | E29: 4 | H29: 1 | I29: =ROUND(SUM(D29*E29*H29),2) -> 32
A30: TOTAL | I30: =I29 -> 32
A32: DESCRIÇÃO: | B32: 1.1.5 | D32: MOBILIZAÇÃO E DESMOBILIZAÇÃO DE EQUIPAMENTO DE SONDAGEM A PERCUSSÃO COM ENSAIO DE PENETRAÇÃO PADRÃO (SPT), INCLUSIVE CUSTO FIXO E VARIÁVEL
A33: CÓDIGO:
A34: DESCRIÇÃO | C34: DESCRIÇÃO | D34: Unidade | H34: Repet. | I34: Quantidade (UNID.) | J34: OBSERVAÇÕES:
D35: 1 | H35: 1 | I35: =ROUND(SUM(D35*H35),2) -> 1
A36: TOTAL | I36: =I35 -> 1
A38: DESCRIÇÃO: | B38: 1.1.6 | D38: DESMATAMENTO, DESTOCAMENTO E LIMPEZA, INCLUSIVE TRANSPORTE ATÉ CINQUENTA (50) METROS
A39: CÓDIGO:
A40: DESCRIÇÃO | C40: DESCRIÇÃO | D40: Comp. (m) | E40: Larg. (m) | H40: Repet. | I40: Área Total (m²) | J40: OBSERVAÇÕES:
D41: 10 | E41: 4 | H41: 2 | I41: =ROUND(SUM(D41*E41*H41),2) -> 80
A42: TOTAL | I42: =I41 -> 80
A44: DESCRIÇÃO: | B44: 1.1.7 | D44: ='PLANILHA ORÇAMENTÁRIA '!C18 -> ENSACAMENTO DE AREIA. AF_01/2026
A45: CÓDIGO:
A46: DESCRIÇÃO | C46: DESCRIÇÃO | D46: Comp. (m) | E46: Larg. (m) | F46: Espessura (m) | H46: Repet. | I46: Volume (m³) | J46: OBSERVAÇÕES:
C47: 6+6+4+4 | D47: =6+6+4+4 -> 20 | E47: 1 | F47: 0.5 | H47: 1 | I47: =ROUND(SUM(D47*E47*H47*F47),2) -> 10
A48: TOTAL | I48: =I47 -> 10
...

Sheet CRONOGRAMA 
A1: CRONOGRAMA FÍSICO-FINANCEIRO
A3: OBRA: EXECUÇÃO DE PONTE MISTA EM CONCRETO ARMADO E VIGAS METÁLICAS SOBRE O CÓRREGO DO RIBEIRÃO, LOCALIZADA NA COMUNIDADE DE BARROCÃO, NO MUNICÍPIO DE OLHOS D'ÁGUA/MG. | G3: DATA: | I3: =TODAY() -> 46204
A4: LOCAL: CÓRREGO DO RIBEIRÃO, LOCALIZADA NA COMUNIDADE DE BARROCÃO, NO MUNICÍPIO DE OLHOS D'ÁGUA/MG. | G4: ART.:
A5: RESPONSÁVEL TECNICO: KÁREN MARIANA SOARES VIEIRA | G5: FORMA DE EXECUÇÃO:
A6: REGIÃO/MÊS DE REFERÊNCIA: SICOR 01/2026 DESONERADA, SINAPI 01/2026 DESONERADA, SICRO 01/2026 DESONERADA | G6: ( ) | H6: DIRETA | I6: ( X ) | J6: INDIRETA
A7: COMPOSIÇÃO/DEMONSTRATIVO DE BDI - EM ANEXO | G7: % ISS MUNICIPAL: | H7: 0.03 | I7: BDI: | J7: 0.2935
A9: 1 | B9: ETAPAS/DESCRIÇÃO | C9: FÍSICO/ FINANCEIRO | D9: TOTAL ETAPAS | E9: PREVISÃO DE EXECUÇÃO DAS OBRAS: 3 MÊS | G9: PREVISÃO DE EXECUÇÃO DAS OBRAS: 3 MÊS | I9: PREVISÃO DE EXECUÇÃO DAS OBRAS: 3 MÊS
E11: MÊS 1 | G11: MÊS 2 | I11: MÊS 3
A12: 1.1 | B12: ='[2]PLANILHA ORÇAMENTÁRIA '!B12:H12 -> SERVIÇOS PRELIMINARES | C12: Físico % | D12: =(D13/$D$31) -> 0.064358217 | E12: 0.35 | G12: 0.35 | I12: 0.3
C13: Financeiro | D13: ='PLANILHA ORÇAMENTÁRIA '!J11 -> 28087.06 | E13: =ROUND(SUM(E12*$D$13),2) -> 9830.47 | G13: =ROUND(SUM(G12*$D$13),2) -> 9830.47 | I13: =ROUND(SUM(I12*$D$13),2) -> 8426.12
A14: 1.2 | B14: MOBILIZAÇÃO E DESMOBILIZAÇÃO DE OBRA | C14: Físico % | D14: =(D15/$D$31) -> 0.0099003565 | E14: 0.3 | G14: 0.4 | I14: 0.3
C15: Financeiro | D15: ='PLANILHA ORÇAMENTÁRIA '!J20 -> 4320.69 | E15: =ROUND(SUM(E14*D15),2) -> 1296.21 | G15: =ROUND(SUM(G14*$D$15),2) -> 1728.28 | I15: =ROUND(SUM(I14*$D$15),2) -> 1296.21
A16: 1.3 | B16: ADIMINISTRAÇÃO LOCAL | C16: Físico % | D16: =(D17/$D$31) -> 0.0358711 | E16: 0.3 | G16: 0.4 | I16: 0.3
C17: Financeiro | D17: ='PLANILHA ORÇAMENTÁRIA '!J22 -> 15654.78 | E17: =ROUND(SUM(E16*$D$17),2) -> 4696.43 | G17: =ROUND(SUM(G16*$D$17),2) -> 6261.91 | I17: =ROUND(SUM(I16*$D$17),2) -> 4696.43
A18: 1.4 | B18: MOVIMENTO DE TERRA | C18: Físico % | D18: =(D19/$D$31) -> 0.036325206 | E18: 0.5 | I18: 0.5
C19: Financeiro | D19: ='PLANILHA ORÇAMENTÁRIA '!J24 -> 15852.96 | E19: =ROUND(SUM(E18*$D$19),2) -> 7926.48 | I19: =ROUND(SUM(I18*$D$19),2) -> 7926.48
A20: 1.5 | B20: INFRAESTRUTURA | C20: Físico % | D20: =(D21/$D$31) -> 0.29474587 | E20: 0.75 | G20: 0.25
C21: Financeiro | D21: ='PLANILHA ORÇAMENTÁRIA '!J27 -> 128632.29 | E21: =ROUND(SUM(E20*$D$21),2) -> 96474.22 | G21: =ROUND(SUM(G20*$D$21),2) -> 32158.07
A22: 1.6 | B22: MESOESTRUTURA(CORTINAS E PILARES) | C22: Físico % | D22: =(D23/$D$31) -> 0.31889313 | G22: 0.75 | I22: 0.25
C23: Financeiro | D23: ='PLANILHA ORÇAMENTÁRIA '!J40 -> 139170.58 | G23: =ROUND(SUM(G22*$D$23),2) -> 104377.94 | I23: =ROUND(SUM(I22*$D$23),2) -> 34792.65
A24: 1.7 | B24: PERFIL METÁLICO | C24: Físico % | D24: =(D25/$D$31) -> 0.048939454 | I24: 1
C25: Financeiro | D25: ='PLANILHA ORÇAMENTÁRIA '!J48 -> 21358.04 | I25: =ROUND(SUM(I24*D25),2) -> 21358.04
A26: 1.8 | B26: SUPERESTRUTURA (GUARDA-RODAS E LAJE) | C26: Físico % | D26: =(D27/$D$31) -> 0.18183372 | I26: 1
C27: Financeiro | D27: ='PLANILHA ORÇAMENTÁRIA '!J55 -> 79355.44 | I27: =ROUND(SUM(I26*D27),2) -> 79355.44
A28: 1.9 | B28: SERVIÇOS COMPLEMENTARES | C28: Físico % | D28: =(D29/$D$31) -> 0.0091329493 | I28: 1
C29: Financeiro | D29: ='PLANILHA ORÇAMENTÁRIA '!J65 -> 3985.78 | I29: =ROUND(SUM(I28*$D$29),2) -> 3985.78
A30: TOTAL | C30: Físico % | D30: =ROUND(SUM(D12+D14+D16+D18+D20+D22+D24+D26+D28),2) -> 1 | E30: =SUM(E31/$D$31) -> 0.27547882 | G30: =SUM(G31/$D$31) -> 0.35369028 | I30: =SUM(I31/$D$31) -> 0.37083093
C31: Financeiro | D31: =ROUND(D13+D15+D17+D19+D21+D23+D25+D27+D29,2) -> 436417.62 | E31: =ROUND(SUM(E13+E15+E17+E19+E21+E23+E25+E27+E29),2) -> 120223.81 | G31: =ROUND(SUM(G13+G15+G17+G19+G21+G23+G25+G27+G29),2) -> 154356.67 | I31: =ROUND(SUM(I13+I15+I17+I19+I21+I23+I25+I27+I29),2) -> 161837.15
B38: KÁREN MARIANA SOARES VIEIRA | F38: RODRIGO VIEIRA DE MATOS
B39: ENGENHEIRA CIVIL 332.425/D-MG | F39: PREFEITO MUNICIPAL DE OLHOS D'ÁGUA-MG

Sheet RESUMO DE AÇO 
B1: RESUMO DE AÇO
B2: RELAÇÃO DE AÇO BLOCOS DE COROAMENTO
B3: AÇO | C3: N | D3: DIAM (MM) | E3: QUANT | F3: C.UNIT (CM) | G3: C. TOTAL (CM)
B4: CA-50 | C4: 1 | D4: 6.3 | E4: =4*3 -> 12 | F4: 240 | G4: =ROUND(SUM(F4*E4),2) -> 2880
C5: 2 | D5: 6.3 | E5: =4*8 -> 32 | F5: 200 | G5: =ROUND(SUM(F5*E5),2) -> 6400
C6: 3 | D6: 10.0 | E6: =3*7 -> 21 | F6: 1380 | G6: =ROUND(SUM(F6*E6),2) -> 28980
C7: 4 | D7: 12.5 | E7: =3*40 -> 120 | F7: 580 | G7: =ROUND(SUM(F7*E7),2) -> 69600
C8: 5 | E8: =3*18 -> 54 | F8: 1100 | G8: =ROUND(SUM(F8*E8),2) -> 59400
B9: RESUMO DE AÇO BLOCOS DE COROAMENTO
B10: AÇO | C10: DIAM (MM) | D10: C. TOTAL (M) | E10: PESO (KG) | F10: QUANT. + 10% (Barras) | G10: PESO + 10% (KG)
B11: CA-50 | C11: =D4 -> 6.3 | D11: {=ROUND(SUM(G4:G5/100),2)} -> 92.8 | E11: 0.245 | F11: =ROUND(SUM((D11*1.1)/12),0) -> 9 | G11: =ROUND(SUM((D11*1.1)*E11),2) -> 25.01
C12: 10.0 | D12: =ROUND(SUM(G6/100),2) -> 289.8 | E12: 0.617 | F12: =ROUND(SUM((D12*1.1)/12),0) -> 27 | G12: =ROUND(SUM((D12*1.1)*E12),2) -> 196.69
C13: 12.5 | D13: {=ROUND(SUM((G7:G8)/100),2)} -> 1290 | E13: 0.963 | F13: =ROUND(SUM((D13*1.1)/12),0) -> 118 | G13: =ROUND(SUM((D13*1.1)*E13),2) -> 1366.5
B14: TOTAL | G14: =ROUND(SUM(G11:G13),2) -> 1588.2
B16: RELAÇÃO DE AÇO PILAR DE ARRANQUE
B17: AÇO | C17: N | D17: DIAM (MM) | E17: QUANT | F17: C.UNIT (CM) | G17: C. TOTAL (CM)
B18: CA-50 | C18: 1 | D18: 16 | E18: =(4*4)+(4*24)+(2*28) -> 168 | F18: =(4*4*125)+(4*24*154)+(2*28*154) -> 25408 | G18: =F18 -> 25408
C19: 2 | D19: 6.3 | E19: =(4*2)+(4*5)+(2*5) -> 38 | F19: =(4*2*160)+(4*5*396)+(2*5*485) -> 14050 | G19: =F19 -> 14050
C20: 3 | D20: 6.3 | E20: =(4*5*5)+(2*5*6) -> 160 | F20: =(4*5*5*115)+(2*5*6*135) -> 19600 | G20: =F20 -> 19600
B21: RESUMO DE AÇO PILAR DE ARRANQUE
B22: AÇO | C22: DIAM (MM) | D22: C. TOTAL (M) | E22: PESO (KG) | F22: QUANT. + 10% (Barras) | G22: PESO + 10% (KG)
B23: CA-50 | C23: =D18 -> 16 | D23: =ROUND(SUM(G18/100),2) -> 254.08 | E23: 1.578 | F23: =ROUND(SUM((D23*1.1)/12),0) -> 23 | G23: =ROUND(SUM((D23*1.1)*E23),2) -> 441.03
C24: 6.3 | D24: {=ROUND(SUM(G19:G20/100),2)} -> 336.5 | E24: 0.245 | F24: =ROUND(SUM((D24*1.1)/12),0) -> 31 | G24: =ROUND(SUM((D24*1.1)*E24),2) -> 90.69
B25: TOTAL | G25: =ROUND(SUM(G23:G24),2) -> 531.72
B27: RELAÇÃO DE AÇO PILAR SUPERIORES
B28: AÇO | C28: N | D28: DIAM (MM) | E28: QUANT | F28: C.UNIT (CM) | G28: C. TOTAL (CM)
B29: CA-50 | C29: 1 | D29: 16 | E29: =(4*4)+(4*24)+(2*28) -> 168 | F29: =(4*4*500)+(4*24*467)+(2*28*467) -> 78984 | G29: =F29 -> 78984
C30: 2 | D30: 6.3 | E30: =(4*35)+(4*31)+(2*31) -> 326 | F30: =(4*35*160)+(4*31*396)+(2*31*485) -> 101574 | G30: =F30 -> 101574
C31: 3 | D31: 6.3 | E31: =(4*5*31)+(2*5*31) -> 930 | F31: =(4*5*31*115)+(2*5*31*135) -> 113150 | G31: =F31 -> 113150
B32: RELAÇÃO DE AÇO PILAR SUPERIORES
B33: AÇO | C33: DIAM (MM) | D33: C. TOTAL (M) | E33: PESO (KG) | F33: QUANT. + 10% (Barras) | G33: PESO + 10% (KG)
B34: CA-50 | C34: =D29 -> 16 | D34: =ROUND(SUM(G29/100),2) -> 789.84 | E34: 1.578 | F34: =ROUND(SUM((D34*1.1)/12),0) -> 72 | G34: =ROUND(SUM((D34*1.1)*E34),2) -> 1371
C35: 6.3 | D35: {=ROUND(SUM(G30:G31/100),2)} -> 2147.24 | E35: 0.245 | F35: =ROUND(SUM((D35*1.1)/12),0) -> 197 | G35: =ROUND(SUM((D35*1.1)*E35),2) -> 578.68
B36: TOTAL | G36: =ROUND(SUM(G34:G35),2) -> 1949.68
B38: RELAÇÃO DE AÇO LAJE
B39: AÇO | C39: N | D39: DIAM (MM) | E39: QUANT | F39: C.UNIT (CM) | G39: C. TOTAL (CM)
B40: CA-50 | C40: 1 | D40: 8.0 | E40: =80*2 -> 160 | F40: 520 | G40: =F40*E40 -> 83200
C41: 2 | D41: 10.0 | E41: =80*2 -> 160 | F41: 520 | G41: =F41*E41 -> 83200
C42: 3 | D42: 10.0 | E42: =28*2 -> 56 | F42: =1015+280 -> 1295 | G42: =F42*E42 -> 72520
C43: 4 | D43: 10.0 | E43: =35*2 -> 70 | F43: 1295 | G43: =F43*E43 -> 90650
...

Sheet COMPOSIÇÃO
A1: COMPOSIÇÃO
A3: OBRA: EXECUÇÃO DE PONTE MISTA EM CONCRETO ARMADO E VIGAS METÁLICAS SOBRE O CÓRREGO DO RIBEIRÃO, LOCALIZADA NA COMUNIDADE DE BARROCÃO, NO MUNICÍPIO DE OLHOS D'ÁGUA/MG. | G3: DATA: | I3: =TODAY() -> 46204
A4: LOCAL: CÓRREGO DO RIBEIRÃO, LOCALIZADA NA COMUNIDADE DE BARROCÃO, NO MUNICÍPIO DE OLHOS D'ÁGUA/MG. | G4: ART.:
A5: RESPONSÁVEL TECNICO: KÁREN MARIANA SOARES VIEIRA | G5: FORMA DE EXECUÇÃO:
A6: REGIÃO/MÊS DE REFERÊNCIA: SICOR 01/2026 DESONERADA, SINAPI 01/2026 DESONERADA, SICRO 01/2026 DESONERADA | G6: ( ) | H6: DIRETA | I6: ( X ) | J6: INDIRETA
A7: COMPOSIÇÃO/DEMONSTRATIVO DE BDI - EM ANEXO | G7: % ISS MUNICIPAL: | H7: 0.03 | I7: BDI: | J7: 0.2935
A9: ​COMP-ADM​ AMINISTRAÇÃO LOCAL​ (MêS)
A10: Mão de Obra | F10: FONTE | G10: UNID | H10: COEFICIENTE | I10: PREÇO UNITÁRIO | J10: TOTAL
A11: 00040818 | B11: ENCARREGADO GERAL DE OBRAS (MENSALISTA) | F11: SINAPI | G11: MES | H11: 0.2 | I11: 8656.33 | J11: 1731.27
A12: TOTAL Mão de Obra: | G12: 1731.27 | H12: TOTAL Mão de Obra: | J12: 1731.27
A13: Mão de Obra com Encargos Complementares | F13: FONTE | G13: UNID | H13: COEFICIENTE | I13: PREÇO UNITÁRIO | J13: TOTAL
A14: 93565 | B14: ENGENHEIRO CIVIL DE OBRA JUNIOR COM ENCARGOS COMPLEMENTARES | F14: SINAPI | G14: MES | H14: 0.1 | I14: 23029.46 | J14: 2302.95
H15: TOTAL Mão de Obra com Encargos Complementares: | J15: 2302.95
J16: 4034.22
B21: KÁREN MARIANA SOARES VIEIRA | F21: RODRIGO VIEIRA DE MATOS
B22: ENGENHEIRA CIVIL 332.425/D-MG | F22: PREFEITO MUNICIPAL DE OLHOS D'ÁGUA-MG
