Workbook

Sheet PLANILHA ORÇAMENTÁRIA 
A1: PLANILHA ORÇAMENTÁRIA DE CUSTO
A2: OBRA: EXECUÇÃO DE PONTE MISTA EM CONCRETO ARMADO E VIGAS METÁLICAS SOBRE O CÓRREGO DO RIBEIRÃO, LOCALIZADA NA COMUNIDADE DE BARROCÃO, NO MUNICÍPIO DE OLHOS D'ÁGUA/MG. | G2: DATA: | I2: =TODAY() -> 46204
A3: LOCAL: CÓRREGO DO RIBEIRÃO, LOCALIZADA NA COMUNIDADE DE BARROCÃO, NO MUNICÍPIO DE OLHOS D'ÁGUA/MG. | G3: ART.:
A4: RESPONSÁVEL TECNICO: KÁREN MARIANA SOARES VIEIRA | G4: FORMA DE EXECUÇÃO:
A5: REGIÃO/MÊS DE REFERÊNCIA: SICOR 01/2026 DESONERADA, SINAPI 01/2026 DESONERADA, SICRO 01/2026 DESONERADA | G5: ( ) | H5: DIRETA | I5: ( X ) | J5: INDIRETA
A6: COMPOSIÇÃO/DEMONSTRATIVO DE BDI - EM ANEXO | G6: % ISS MUNICIPAL: | H6: 0.03 | I6: BDI: | J6: 0.2935
A8: ITEM | B8: CÓDIGO | C8: DESCRIÇÃO | D8: FONTE | E8: UNID | F8: QUANTIDADE | G8: PREÇO UNITÁRIO R$ | I8: PREÇO TOTAL R$
G9: SEM BDI | H9: COM BDI | I9: SEM BDI | J9: COM BDI
A10: 1.0 | B10: PONTE MISTA EM CONCRETO ARMADO E VIGAS METÁLICAS - EXTENSÃO 24 METROS | I10: =ROUND(SUM(I11,I20,I22,I24,I27,I40,I48,I55,I65),2) -> 337370.96 | J10: =ROUND(SUM(J11,J20,J22,J24,J27,J40,J48,J55,J65),2) -> 436417.62
A11: 1.1 | B11: SERVIÇOS PRELIMINARES | I11: =ROUND(SUM(I12:I19),2) -> 21714.94 | J11: =ROUND(SUM(J12:J19),2) -> 28087.06
A12: 1.1.1 | B12: 103689 | C12: FORNECIMENTO E INSTALAÇÃO DE PLACA DE OBRA COM CHAPA GALVANIZADA E ESTRUTURA DE MADEIRA. AF_03/2022_PS | D12: SINAPI | E12: M2 | F12: ='MEMORIA DE CALCULO'!I12 -> 4.5 | G12: 375.26 | H12: =ROUND(SUM(G12*(1+$J$6)),2) -> 485.4 | I12: =ROUND(SUM(F12*G12),2) -> 1688.67 | J12: =ROUND(SUM(F12*H12),2) -> 2184.3 | L12: =I11+I22+I24+I27+I40+I48+I55+I65 -> 334030.65
A13: 1.1.2 | B13: ED-50135 | C13: BARRACÃO DE OBRA, EM CHAPA DE COMPENSADO RESINADO, INCLUSIVE INSTALAÇÕES SANITÁRIAS E MOBILIÁRIO - PADRÃO DER-MG | D13: SICOR | E13: M2 | F13: ='MEMORIA DE CALCULO'!I18 -> 8 | G13: 683.95 | H13: =ROUND(SUM(G13*(1+$J$6)),2) -> 884.69 | I13: =ROUND(SUM(F13*G13),2) -> 5471.6 | J13: =ROUND(SUM(F13*H13),2) -> 7077.52 | L13: =L12*1% -> 3340.3065
A14: 1.1.3 | B14: 93414 | C14: GERADOR PORTÁTIL MONOFÁSICO, POTÊNCIA 5500 VA, MOTOR A GASOLINA, POTÊNCIA DO MOTOR 13 CV - MATERIAIS NA OPERAÇÃO. AF_03/2016 | D14: SINAPI | E14: H | F14: ='MEMORIA DE CALCULO'!I24 -> 384 | G14: 11.22 | H14: =ROUND(SUM(G14*(1+$J$6)),2) -> 14.51 | I14: =ROUND(SUM(F14*G14),2) -> 4308.48 | J14: =ROUND(SUM(F14*H14),2) -> 5571.84
A15: 1.1.4 | B15: CO-29037 | C15: SONDAGEM A PERCUSSÃO COM ENSAIO DE PENETRAÇÃO PADRÃO (SPT), DIÂMETRO 2.1/2", COM REVESTIMENTO, EXCLUSIVE DIÁRIA, MOBILIZAÇÃO E DESMOBILIZAÇÃO | D15: SICOR | E15: m | F15: ='MEMORIA DE CALCULO'!I30 -> 32 | G15: 155.55 | H15: =ROUND(SUM(G15*(1+$J$6)),2) -> 201.2 | I15: =ROUND(SUM(F15*G15),2) -> 4977.6 | J15: =ROUND(SUM(F15*H15),2) -> 6438.4
A16: 1.1.5 | B16: CO-29070 | C16: MOBILIZAÇÃO E DESMOBILIZAÇÃO DE EQUIPAMENTO DE SONDAGEM A PERCUSSÃO COM ENSAIO DE PENETRAÇÃO PADRÃO (SPT) - (CUSTO FIXO) | D16: SICOR | E16: un | F16: ='MEMORIA DE CALCULO'!I36 -> 1 | G16: 3172.09 | H16: =ROUND(SUM(G16*(1+$J$6)),2) -> 4103.1 | I16: =ROUND(SUM(F16*G16),2) -> 3172.09 | J16: =ROUND(SUM(F16*H16),2) -> 4103.1
A17: 1.1.6 | B17: ED-50702 | C17: DESMATAMENTO, DESTOCAMENTO E LIMPEZA, INCLUSIVE TRANSPORTE ATÉ CINQUENTA (50) METROS | D17: SICOR | E17: m2 | F17: ='MEMORIA DE CALCULO'!I42 -> 80 | G17: 0.61 | H17: =ROUND(SUM(G17*(1+$J$6)),2) -> 0.79 | I17: =ROUND(SUM(F17*G17),2) -> 48.8 | J17: =ROUND(SUM(F17*H17),2) -> 63.2
A18: 1.1.7 | B18: 92123 | C18: ENSACAMENTO DE AREIA. AF_01/2026 | D18: SINAPI | E18: m3 | F18: ='MEMORIA DE CALCULO'!I48 -> 10 | G18: 71.09 | H18: =ROUND(SUM(G18*(1+$J$6)),2) -> 91.95 | I18: =ROUND(SUM(F18*G18),2) -> 710.9 | J18: =ROUND(SUM(F18*H18),2) -> 919.5
A19: 1.1.8 | B19: 104482 | C19: ESGOTAMENTO DE VALA COM BOMBA SUBMERSÍVEL. AF_12/2022 | D19: SINAPI | E19: H | F19: ='MEMORIA DE CALCULO'!I54 -> 40 | G19: 33.42 | H19: =ROUND(SUM(G19*(1+$J$6)),2) -> 43.23 | I19: =ROUND(SUM(F19*G19),2) -> 1336.8 | J19: =ROUND(SUM(F19*H19),2) -> 1729.2
A20: 1.2 | B20: MOBILIZAÇÃO E DESMOBILIZAÇÃO DE OBRA | I20: =ROUND(SUM(I21),2) -> 3340.31 | J20: =ROUND(SUM(J21),2) -> 4320.69
A21: 1.2.1 | B21: ED-50389 | C21: MOBILIZAÇÃO E DESMOBILIZAÇÃO OBRA DISTANTE DE CENTRO URBANO COM VALOR ATÉ O VALOR DE 1.000.000,00 | D21: SICOR | E21: % | F21: 1 | G21: =L13 -> 3340.3065 | H21: =ROUND(SUM(G21*(1+$J$6)),2) -> 4320.69 | I21: =ROUND(SUM(F21*G21),2) -> 3340.31 | J21: =ROUND(SUM(F21*H21),2) -> 4320.69
A22: 1.3 | B22: ADMINISTRAÇÃO LOCAL | I22: =ROUND(SUM(I23),2) -> 12102.66 | J22: =ROUND(SUM(J23),2) -> 15654.78
A23: 1.3.1 | B23: COMP-ADM | C23: AMINISTRAÇÃO LOCAL | D23: PROPRIA | E23: Mês | F23: ='MEMORIA DE CALCULO'!I68 -> 3 | G23: 4034.22 | H23: =ROUND(SUM(G23*(1+$J$6)),2) -> 5218.26 | I23: =ROUND(SUM(F23*G23),2) -> 12102.66 | J23: =ROUND(SUM(F23*H23),2) -> 15654.78
A24: 1.4 | B24: MOVIMENTO DE TERRA | I24: =ROUND(SUM(I25:I26),2) -> 12256.96 | J24: =ROUND(SUM(J25:J26),2) -> 15852.96
A25: 1.4.1 | B25: 90082 | C25: ESCAVAÇÃO MECANIZADA DE VALA COM PROF. ATÉ 1,5 M (MÉDIA MONTANTE E JUSANTE/UMA COMPOSIÇÃO POR TRECHO), ESCAVADEIRA (0,8 M3), LARG. DE 1,5 M A 2,5 M, EM SOLO DE 1A CATEGORIA, EM LOCAIS COM ALTO NÍVEL DE INTERFERÊNCIA. AF_09/2024 | D25: SINAPI | E25: M3 | F25: ='MEMORIA DE CALCULO'!I76 -> 363.6 | G25: 10.1 | H25: =ROUND(SUM(G25*(1+$J$6)),2) -> 13.06 | I25: =ROUND(SUM(F25*G25),2) -> 3672.36 | J25: =ROUND(SUM(F25*H25),2) -> 4748.62
A26: 1.4.2 | B26: 104737 | C26: REATERRO MANUAL DE VALAS, COM PLACA VIBRATÓRIA. AF_08/2023 | D26: SINAPI | E26: M3 | F26: ='MEMORIA DE CALCULO'!I82 -> 363.6 | G26: 23.61 | H26: =ROUND(SUM(G26*(1+$J$6)),2) -> 30.54 | I26: =ROUND(SUM(F26*G26),2) -> 8584.6 | J26: =ROUND(SUM(F26*H26),2) -> 11104.34
A27: 1.5 | B27: INFRAESTRUTURA | I27: =ROUND(SUM(I28:I39),2) -> 99441.04 | J27: =ROUND(SUM(J28:J39),2) -> 128632.29
A28: 1.5.1 | B28: 105009 | C28: LOCAÇÃO CONVENCIONAL DE OBRA, UTILIZANDO GABARITO DE TÁBUAS CORRIDAS PONTALETADAS A CADA 1,50M - 2 UTILIZAÇÕES. AF_03/2024 | D28: SINAPI | E28: M | F28: ='MEMORIA DE CALCULO'!I91 -> 103.36 | G28: 93.34 | H28: =ROUND(SUM(G28*(1+$J$6)),2) -> 120.74 | I28: =ROUND(SUM(F28*G28),2) -> 9647.62 | J28: =ROUND(SUM(F28*H28),2) -> 12479.69
A29: 1.5.2 | B29: 93358 | C29: ESCAVAÇÃO MANUAL DE VALA. AF_09/2024 | D29: SINAPI | E29: M3 | F29: ='MEMORIA DE CALCULO'!I105 -> 186 | G29: 93.27 | H29: =ROUND(SUM(G29*(1+$J$6)),2) -> 120.64 | I29: =ROUND(SUM(F29*G29),2) -> 17348.22 | J29: =ROUND(SUM(F29*H29),2) -> 22439.04
A30: 1.5.3 | B30: 101176 | C30: ESTACA BROCA DE CONCRETO, DIÂMETRO DE 30CM, ESCAVAÇÃO MANUAL COM TRADO CONCHA, INTEIRAMENTE ARMADA. AF_05/2020 | D30: SINAPI | E30: M | F30: ='MEMORIA DE CALCULO'!I105 -> 186 | G30: 153.25 | H30: =ROUND(SUM(G30*(1+$J$6)),2) -> 198.23 | I30: =ROUND(SUM(F30*G30),2) -> 28504.5 | J30: =ROUND(SUM(F30*H30),2) -> 36870.78
A31: 1.5.4 | B31: 106672 | C31: PREPARO DE FUNDO DE VALA COM LARGURA MENOR QUE 1,5 M (ACERTO DO SOLO NATURAL), EM LOCAL COM NÍVEL ALTO DE INTERFERÊNCIA. AF_01/2026 | D31: SINAPI | E31: M2 | F31: ='MEMORIA DE CALCULO'!I113 -> 55.24 | G31: 11.09 | H31: =ROUND(SUM(G31*(1+$J$6)),2) -> 14.34 | I31: =ROUND(SUM(F31*G31),2) -> 612.61 | J31: =ROUND(SUM(F31*H31),2) -> 792.14
A32: 1.5.5 | B32: 96616 | C32: LASTRO DE CONCRETO MAGRO, APLICADO EM BLOCOS DE COROAMENTO OU SAPATAS. AF_01/2024 | D32: SINAPI | E32: M3 | F32: ='MEMORIA DE CALCULO'!I121 -> 2.76 | G32: 936.74 | H32: =ROUND(SUM(G32*(1+$J$6)),2) -> 1211.67 | I32: =ROUND(SUM(F32*G32),2) -> 2585.4 | J32: =ROUND(SUM(F32*H32),2) -> 3344.21
A33: 1.5.6 | B33: 92801 | C33: CORTE E DOBRA DE AÇO CA-50, DIÂMETRO DE 6,3 MM. AF_06/2022 | D33: SINAPI | E33: KG | F33: ='MEMORIA DE CALCULO'!I128 -> 115.7 | G33: 8.65 | H33: =ROUND(SUM(G33*(1+$J$6)),2) -> 11.19 | I33: =ROUND(SUM(F33*G33),2) -> 1000.81 | J33: =ROUND(SUM(F33*H33),2) -> 1294.68
A34: 1.5.7 | B34: 92803 | C34: CORTE E DOBRA DE AÇO CA-50, DIÂMETRO DE 10,0 MM. AF_06/2022 | D34: SINAPI | E34: KG | F34: ='MEMORIA DE CALCULO'!I134 -> 196.69 | G34: 7.72 | H34: =ROUND(SUM(G34*(1+$J$6)),2) -> 9.99 | I34: =ROUND(SUM(F34*G34),2) -> 1518.45 | J34: =ROUND(SUM(F34*H34),2) -> 1964.93
A35: 1.5.8 | B35: 92804 | C35: CORTE E DOBRA DE AÇO CA-50, DIÂMETRO DE 12,5 MM. AF_06/2022 | D35: SINAPI | E35: KG | F35: ='MEMORIA DE CALCULO'!I140 -> 1366.5 | G35: 6.6 | H35: =ROUND(SUM(G35*(1+$J$6)),2) -> 8.54 | I35: =ROUND(SUM(F35*G35),2) -> 9018.9 | J35: =ROUND(SUM(F35*H35),2) -> 11669.91
A36: 1.5.9 | B36: 92805 | C36: CORTE E DOBRA DE AÇO CA-50, DIÂMETRO DE 16,0 MM. AF_06/2022 | D36: SINAPI | E36: KG | F36: ='MEMORIA DE CALCULO'!I146 -> 441.03 | G36: 6.5 | H36: =ROUND(SUM(G36*(1+$J$6)),2) -> 8.41 | I36: =ROUND(SUM(F36*G36),2) -> 2866.7 | J36: =ROUND(SUM(F36*H36),2) -> 3709.06
A37: 1.5.10 | B37: 96534 | C37: FABRICAÇÃO, MONTAGEM E DESMONTAGEM DE FÔRMA PARA BLOCO DE COROAMENTO, EM MADEIRA SERRADA, E=25 MM, 4 UTILIZAÇÕES. AF_01/2024 | D37: SINAPI | E37: M2 | F37: ='MEMORIA DE CALCULO'!I154 -> 23.96 | G37: 82.01 | H37: =ROUND(SUM(G37*(1+$J$6)),2) -> 106.08 | I37: =ROUND(SUM(F37*G37),2) -> 1964.96 | J37: =ROUND(SUM(F37*H37),2) -> 2541.68
A38: 1.5.11 | B38: ED-49787 | C38: FORNECIMENTO DE CONCRETO ESTRUTURAL, PREPARADO EM OBRA COM BETONEIRA, COM FCK 25MPA, INCLUSIVE LANÇAMENTO, ADENSAMENTO E ACABAMENTO (FUNDAÇÃO) | D38: SINAPI | E38: M3 | F38: ='MEMORIA DE CALCULO'!I162 -> 29.67 | G38: 816.03 | H38: =ROUND(SUM(G38*(1+$J$6)),2) -> 1055.53 | I38: =ROUND(SUM(F38*G38),2) -> 24211.61 | J38: =ROUND(SUM(F38*H38),2) -> 31317.58
A39: 1.5.12 | B39: 104737 | C39: REATERRO MANUAL DE VALAS, COM PLACA VIBRATÓRIA. AF_08/2023 | D39: SINAPI | E39: M3 | F39: ='MEMORIA DE CALCULO'!I168 -> 6.83 | G39: 23.61 | H39: =ROUND(SUM(G39*(1+$J$6)),2) -> 30.54 | I39: =ROUND(SUM(F39*G39),2) -> 161.26 | J39: =ROUND(SUM(F39*H39),2) -> 208.59
A40: 1.6 | B40: MESOESTRUTURA(CORTINAS E PILARES) | I40: =ROUND(SUM(I41:I47),2) -> 107582.2 | J40: =ROUND(SUM(J41:J47),2) -> 139170.58
A41: 1.6.1 | B41: 92801 | C41: CORTE E DOBRA DE AÇO CA-50, DIÂMETRO DE 6,3 MM. AF_06/2022 | D41: SINAPI | E41: KG | F41: ='MEMORIA DE CALCULO'!I175 -> 578.67 | G41: 8.65 | H41: =ROUND(SUM(G41*(1+$J$6)),2) -> 11.19 | I41: =ROUND(SUM(F41*G41),2) -> 5005.5 | J41: =ROUND(SUM(F41*H41),2) -> 6475.32
A42: 1.6.2 | B42: 92802 | C42: CORTE E DOBRA DE AÇO CA-50, DIÂMETRO DE 8,0 MM. AF_06/2022 | D42: SINAPI | E42: KG | F42: ='MEMORIA DE CALCULO'!I181 -> 1709.84 | G42: 8.44 | H42: =ROUND(SUM(G42*(1+$J$6)),2) -> 10.92 | I42: =ROUND(SUM(F42*G42),2) -> 14431.05 | J42: =ROUND(SUM(F42*H42),2) -> 18671.45
A43: 1.6.3 | B43: 92803 | C43: CORTE E DOBRA DE AÇO CA-50, DIÂMETRO DE 10,0 MM. AF_06/2022 | D43: SINAPI | E43: KG | F43: ='MEMORIA DE CALCULO'!I187 -> 862.63 | G43: 7.72 | H43: =ROUND(SUM(G43*(1+$J$6)),2) -> 9.99 | I43: =ROUND(SUM(F43*G43),2) -> 6659.5 | J43: =ROUND(SUM(F43*H43),2) -> 8617.67
A44: 1.6.4 | B44: 92805 | C44: CORTE E DOBRA DE AÇO CA-50, DIÂMETRO DE 16,0 MM. AF_06/2022 | D44: SINAPI | E44: KG | F44: ='MEMORIA DE CALCULO'!I194 -> 1469.87 | G44: 6.5 | H44: =ROUND(SUM(G44*(1+$J$6)),2) -> 8.41 | I44: =ROUND(SUM(F44*G44),2) -> 9554.16 | J44: =ROUND(SUM(F44*H44),2) -> 12361.61
A45: 1.6.5 | B45: ED-31562 | C45: FÔRMA E DESFORMA PARA PILAR COM CHAPA DE COMPENSADO PLASTIFICADO, ESP. 12MM, REAPROVEITAMENTO (5X), EXCLUSIVE ESCORAMENTO | D45: SICOR | E45: m2 | F45: ='MEMORIA DE CALCULO'!I202 -> 59.34 | G45: 69.8 | H45: =ROUND(SUM(G45*(1+$J$6)),2) -> 90.29 | I45: =ROUND(SUM(F45*G45),2) -> 4141.93 | J45: =ROUND(SUM(F45*H45),2) -> 5357.81
A46: 1.6.6 | B46: 100341 | C46: FABRICAÇÃO, MONTAGEM E DESMONTAGEM DE FÔRMA PARA CORTINA DE CONTENÇÃO, EM CHAPA DE MADEIRA COMPENSADA PLASTIFICADA, E = 18 MM, 10 UTILIZAÇÕES. AF_11/2024 | D46: SINAPI | E46: M2 | F46: ='MEMORIA DE CALCULO'!I208 -> 102.45 | G46: 42.49 | H46: =ROUND(SUM(G46*(1+$J$6)),2) -> 54.96 | I46: =ROUND(SUM(F46*G46),2) -> 4353.1 | J46: =ROUND(SUM(F46*H46),2) -> 5630.65
A47: 1.6.7 | B47: ED-49619 | C47: FORNECIMENTO DE CONCRETO ESTRUTURAL, PREPARADO EM OBRA, COM FCK 25MPA, INCLUSIVE LANÇAMENTO, ADENSAMENTO E ACABAMENTO | D47: SICOR | E47: m3 | F47: ='MEMORIA DE CALCULO'!I216 -> 74.31 | G47: 853.68 | H47: =ROUND(SUM(G47*(1+$J$6)),2) -> 1104.24 | I47: =ROUND(SUM(F47*G47),2) -> 63436.96 | J47: =ROUND(SUM(F47*H47),2) -> 82056.07
A48: 1.7 | B48: PERFIL METÁLICO | I48: =ROUND(SUM(I49:I54),2) -> 16511.94 | J48: =ROUND(SUM(J49:J54),2) -> 21358.04
A49: 1.7.1 | B49: ED-27791 | C49: FORNECIMENTO DE ESTRUTURA METÁLICA EM PERFIL SOLDADO PARA PONTES, EM AÇO PATINÁVEL, INCLUSIVE FABRICAÇÃO, EXCLUSIVE TRANSPORTE E LANÇAMENTO | D49: SICOR | E49: Kg | F49: ='MEMORIA DE CALCULO'!I226 -> 305.62 | G49: 15.23 | H49: =ROUND(SUM(G49*(1+$J$6)),2) -> 19.7 | I49: =ROUND(SUM(F49*G49),2) -> 4654.59 | J49: =ROUND(SUM(F49*H49),2) -> 6020.71
A50: 1.7.2 | B50: ED-29091 | C50: TRANSPORTE DE VIGA OU TABULEIRO PARA PONTE (CUSTO FIXO), INCLUSIVE CARGA, EXCLUSIVE FORNECIMENTO , DESCARGA E TRANSPORTE EM QUILÔMETRO RODADO (CUSTO VARIÁVEL) | D50: SICOR | E50: un | F50: ='MEMORIA DE CALCULO'!I232 -> 1 | G50: 905.52 | H50: =ROUND(SUM(G50*(1+$J$6)),2) -> 1171.29 | I50: =ROUND(SUM(F50*G50),2) -> 905.52 | J50: =ROUND(SUM(F50*H50),2) -> 1171.29
A51: 1.7.3 | B51: ED-29092 | C51: TRANSPORTE DE VIGA OU TABULEIRO PARA PONTE (CUSTO VARIÁVEL), EXCLUSIVE FORNECIMENTO , DESCARGA E CUSTO FIXO DE TRANSPORTE | D51: SICOR | E51: TxKM | F51: ='MEMORIA DE CALCULO'!I241 -> 94.69 | G51: 0.7 | H51: =ROUND(SUM(G51*(1+$J$6)),2) -> 0.91 | I51: =ROUND(SUM(F51*G51),2) -> 66.28 | J51: =ROUND(SUM(F51*H51),2) -> 86.17
A52: 1.7.4 | B52: ED-29090 | C52: DESCARGA DE CAMINHÃO, PARA ELEMENTOS DE VIGA OU TABULEIRO PARA PONTE, INCLUSIVE DESCARGA DE PERFIS LONGARINAS, TRANSVERSINAS, CHAPAS E ACESSÓRIOS, EXCLUSIVE FORNECIMENTO E TRANSPORTE | D52: SICOR | E52: un | F52: ='MEMORIA DE CALCULO'!I247 -> 1 | G52: 1182.31 | H52: =ROUND(SUM(G52*(1+$J$6)),2) -> 1529.32 | I52: =ROUND(SUM(F52*G52),2) -> 1182.31 | J52: =ROUND(SUM(F52*H52),2) -> 1529.32
A53: 1.7.5 | B53: ED-50428 | C53: LANÇAMENTO DE VIGA PARA PONTE, EXCLUSIVE FORNECIMENTO, DESCARGA E TRANSPORTE - PROJETO PADRÃO SEINFRA-MG | D53: SICOR | E53: Kg | F53: ='MEMORIA DE CALCULO'!I253 -> 4013.5 | G53: 1.67 | H53: =ROUND(SUM(G53*(1+$J$6)),2) -> 2.16 | I53: =ROUND(SUM(F53*G53),2) -> 6702.55 | J53: =ROUND(SUM(F53*H53),2) -> 8669.16
A54: 1.7.6 | B54: 0307731 | C54: Aparelho de apoio de neoprene fretado para estruturas moldadas no local - fornecimento e instalação | D54: SICRO NOVO | E54: dm³ | F54: ='MEMORIA DE CALCULO'!I259 -> 19.8 | G54: 151.55 | H54: =ROUND(SUM(G54*(1+$J$6)),2) -> 196.03 | I54: =ROUND(SUM(F54*G54),2) -> 3000.69 | J54: =ROUND(SUM(F54*H54),2) -> 3881.39
A55: 1.8 | B55: SUPERESTRUTURA (GUARDA-RODAS E LAJE) | I55: =ROUND(SUM(I56:I64),2) -> 61339.6 | J55: =ROUND(SUM(J56:J64),2) -> 79355.44
A56: 1.8.1 | B56: 92538 | C56: MONTAGEM E DESMONTAGEM DE FÔRMA DE LAJE MACIÇA, PÉ-DIREITO SIMPLES, EM CHAPA DE MADEIRA COMPENSADA PLASTIFICADA, 18 UTILIZAÇÕES. AF_09/2020 | D56: SINAPI | E56: M2 | F56: ='MEMORIA DE CALCULO'!I268 -> 112.56 | G56: 34.74 | H56: =ROUND(SUM(G56*(1+$J$6)),2) -> 44.94 | I56: =ROUND(SUM(F56*G56),2) -> 3910.33 | J56: =ROUND(SUM(F56*H56),2) -> 5058.45
A57: 1.8.2 | B57: ED-49643 | C57: FÔRMA E DESFORMA DE TÁBUA E SARRAFO, REAPROVEITAMENTO (3X), EXCLUSIVE ESCORAMENTO | D57: SICOR | E57: m2 | F57: ='MEMORIA DE CALCULO'!I275 -> 87.08 | G57: 79.68 | H57: =ROUND(SUM(G57*(1+$J$6)),2) -> 103.07 | I57: =ROUND(SUM(F57*G57),2) -> 6938.53 | J57: =ROUND(SUM(F57*H57),2) -> 8975.34
A58: 1.8.3 | B58: ED-48668 | C58: FORNECIMENTO E ASSENTAMENTO DE TUBO PVC RÍGIDO, DRENAGEM/PLUVIAL, PBV - SÉRIE NORMAL, DN 75 MM (3"), INCLUSIVE CONEXÕES | D58: SICOR | E58: m | F58: ='MEMORIA DE CALCULO'!I281 -> 7 | G58: 38.78 | H58: =ROUND(SUM(G58*(1+$J$6)),2) -> 50.16 | I58: =ROUND(SUM(F58*G58),2) -> 271.46 | J58: =ROUND(SUM(F58*H58),2) -> 351.12
A59: 1.8.4 | B59: 101792 | C59: ESCORAMENTO DE FÔRMAS DE LAJE EM MADEIRA NÃO APARELHADA, PÉ-DIREITO SIMPLES, INCLUSO TRAVAMENTO, 4 UTILIZAÇÕES. AF_09/2020 | D59: SINAPI | E59: M3 | F59: ='MEMORIA DE CALCULO'!I287 -> 100.8 | G59: 18.78 | H59: =ROUND(SUM(G59*(1+$J$6)),2) -> 24.29 | I59: =ROUND(SUM(F59*G59),2) -> 1893.02 | J59: =ROUND(SUM(F59*H59),2) -> 2448.43
A60: 1.8.5 | B60: 92801 | C60: CORTE E DOBRA DE AÇO CA-50, DIÂMETRO DE 6,3 MM. AF_06/2022 | D60: SINAPI | E60: KG | F60: ='MEMORIA DE CALCULO'!I293 -> 155.23 | G60: 8.65 | H60: =ROUND(SUM(G60*(1+$J$6)),2) -> 11.19 | I60: =ROUND(SUM(F60*G60),2) -> 1342.74 | J60: =ROUND(SUM(F60*H60),2) -> 1737.02
A61: 1.8.6 | B61: 92802 | C61: CORTE E DOBRA DE AÇO CA-50, DIÂMETRO DE 8,0 MM. AF_06/2022 | D61: SINAPI | E61: KG | F61: ='MEMORIA DE CALCULO'!I299 -> 361.5 | G61: 8.44 | H61: =ROUND(SUM(G61*(1+$J$6)),2) -> 10.92 | I61: =ROUND(SUM(F61*G61),2) -> 3051.06 | J61: =ROUND(SUM(F61*H61),2) -> 3947.58
A62: 1.8.7 | B62: 92803 | C62: CORTE E DOBRA DE AÇO CA-50, DIÂMETRO DE 10,0 MM. AF_06/2022 | D62: SINAPI | E62: KG | F62: ='MEMORIA DE CALCULO'!I306 -> 2149.91 | G62: 7.72 | H62: =ROUND(SUM(G62*(1+$J$6)),2) -> 9.99 | I62: =ROUND(SUM(F62*G62),2) -> 16597.31 | J62: =ROUND(SUM(F62*H62),2) -> 21477.6
A63: 1.8.8 | B63: 92804 | C63: CORTE E DOBRA DE AÇO CA-50, DIÂMETRO DE 12,5 MM. AF_06/2022 | D63: SINAPI | E63: KG | F63: ='MEMORIA DE CALCULO'!I312 -> 677.95 | G63: 6.6 | H63: =ROUND(SUM(G63*(1+$J$6)),2) -> 8.54 | I63: =ROUND(SUM(F63*G63),2) -> 4474.47 | J63: =ROUND(SUM(F63*H63),2) -> 5789.69
A64: 1.8.9 | B64: ED-9054 | C64: FORNECIMENTO DE CONCRETO ESTRUTURAL, USINADO BOMBEADO, AUTO-ADENSÁVEL, COM FCK 30MPA, INCLUSIVE LANÇAMENTO E ACABAMENTO | D64: SICOR | E64: m3 | F64: ='MEMORIA DE CALCULO'!I319 -> 29.33 | G64: 779.43 | H64: =ROUND(SUM(G64*(1+$J$6)),2) -> 1008.19 | I64: =ROUND(SUM(F64*G64),2) -> 22860.68 | J64: =ROUND(SUM(F64*H64),2) -> 29570.21
A65: 1.9 | B65: SERVIÇOS COMPLEMENTARES | I65: =ROUND(SUM(I66:I68),2) -> 3081.31 | J65: =ROUND(SUM(J66:J68),2) -> 3985.78
A66: 1.9.1 | B66: ED-50459 | C66: PINTURA ACRÍLICA PARA PISO EM PASSEIO/SUPERFÍCIE CIMENTADA, DUAS (2) DEMÃOS, COM APLICAÇÃO MANUAL | D66: SICOR | E66: m2 | F66: ='MEMORIA DE CALCULO'!I326 -> 43.2 | G66: 13.62 | H66: =ROUND(SUM(G66*(1+$J$6)),2) -> 17.62 | I66: =ROUND(SUM(F66*G66),2) -> 588.38 | J66: =ROUND(SUM(F66*H66),2) -> 761.18
A67: 1.9.2 | B67: ED-50634 | C67: PLACA DE ALUMÍNIO FUNDIDO, DIMENSÃO (60X40)CM, PARA INAUGURAÇÃO, INCLUSIVE FIXAÇÃO | D67: SICOR | E67: un | F67: 1 | G67: 1272.95 | H67: =ROUND(SUM(G67*(1+$J$6)),2) -> 1646.56 | I67: =ROUND(SUM(F67*G67),2) -> 1272.95 | J67: =ROUND(SUM(F67*H67),2) -> 1646.56
A68: 1.9.3 | B68: 34723 | C68: PLACA DE SINALIZAÇÃO EM AÇO, COM ESTRUTURA DE FIXAÇÃO EM MADEIRA | D68: m2 | E68: m2 | F68: ='MEMORIA DE CALCULO'!I338 -> 1.69 | G68: 721.88 | H68: =ROUND(SUM(G68*(1+$J$6)),2) -> 933.75 | I68: =ROUND(SUM(F68*G68),2) -> 1219.98 | J68: =ROUND(SUM(F68*H68),2) -> 1578.04
H69: VALOR BDI TOTAL: | J69: =J71-J70 -> 99046.66
H70: VALOR ORÇAMENTO: | J70: =I10 -> 337370.96
H71: VALOR TOTAL: | J71: =J10 -> 436417.62 | L71: =J71-J48 -> 415059.58
L72: 357763.41
L75: =L71-L72 -> 57296.17
C77: KÁREN MARIANA SOARES VIEIRA | F77: RODRIGO VIEIRA DE MATOS
C78: ENGENHEIRA CIVIL 332.425/D-MG | F78: PREFEITO MUNICIPAL DE OLHOS D'ÁGUA-MG

Sheet MEMORIA DE CALCULO
A1: MEMORIA DE CÁLCULO
A3: OBJETO: | B3: EXECUÇÃO DE PONTE MISTA EM CONCRETO ARMADO E VIGAS METÁLICAS SOBRE O CÓRREGO DO RIBEIRÃO, LOCALIZADA NA COMUNIDADE DE BARROCÃO, NO MUNICÍPIO DE OLHOS D'ÁGUA/MG.
A4: LOCAL: | B4: CÓRREGO DO RIBEIRÃO, LOCALIZADA NA COMUNIDADE DE BARROCÃO, NO MUNICÍPIO DE OLHOS D'ÁGUA/MG.
A6: PONTE MISTA EM CONCRETO ARMADO E VIGAS METÁLICAS - EXTENSÃO 24 METROS
A7: 1.1 | B7: SERVIÇOS PRELIMINARES
A8: DESCRIÇÃO: | B8: 1.1.1 | D8: FORNECIMENTO E INSTALAÇÃO DE PLACA DE OBRA COM CHAPA GALVANIZADA E ESTRUTURA DE MADEIRA. AF_03/2022_PS
A9: CÓDIGO:
A10: DESCRIÇÃO | D10: Comp. (m) | E10: Larg. (m) | H10: Repet. | I10: Área Total (m²) | J10: OBSERVAÇÕES:
D11: 3 | E11: 1.5 | H11: 1 | I11: =ROUND(SUM(D11*E11*H11),2) -> 4.5
A12: TOTAL | I12: =I11 -> 4.5
A14: DESCRIÇÃO: | B14: 1.1.2 | D14: BARRACÃO DE OBRA PARA DEPÓSITO E FERRAMENTARIA TIPO-I, ÁREA INTERNA 14,52M2, EM CHAPA DE COMPENSADO RESINADO, INCLUSIVE MOBILIÁRIO (OBRA DE PEQUENO PORTE, EFETIVO ATÉ 30 HOMENS), PADRÃO DER-MG
A15: CÓDIGO:
A16: DESCRIÇÃO | C16: DESCRIÇÃO | D16: Comp. (m) | E16: Larg. (m) | H16: Repet. | I16: Área Total (m²) | J16: OBSERVAÇÕES:
D17: 4 | E17: 2 | H17: 1 | I17: =ROUND(SUM(D17*E17*H17),2) -> 8
A18: TOTAL | I18: =I17 -> 8
A20: DESCRIÇÃO: | B20: 1.1.3 | D20: ='PLANILHA ORÇAMENTÁRIA '!C14 -> GERADOR PORTÁTIL MONOFÁSICO, POTÊNCIA 5500 VA, MOTOR A GASOLINA, POTÊNCIA DO MOTOR 13 CV - MATERIAIS NA OPERAÇÃO. AF_03/2016
A21: CÓDIGO:
A22: DESCRIÇÃO | C22: DESCRIÇÃO | D22: Hora (h) | H22: Repet. | I22: Hora Total (H) | J22: OBSERVAÇÕES:
D23: =8*24*2 -> 384 | H23: 1 | I23: =ROUND(SUM(D23*H23),2) -> 384
A24: TOTAL | I24: =I23 -> 384
A26: DESCRIÇÃO: | B26: 1.1.4 | D26: SONDAGEM A PERCUSSÃO COM ENSAIO DE PENETRAÇÃO PADRÃO (SPT), DIÂMETRO 2.1/2", EXCLUSIVE MOBILIZAÇÃO E DESMOBILIZAÇÃO
A27: CÓDIGO:
A28: DESCRIÇÃO | C28: DESCRIÇÃO | D28: Comp. (m) | E28: Nº de Furos | H28: Repet. | I28: Comprimento Total (m) | J28: OBSERVAÇÕES:
D29: 8 | E29: 4 | H29: 1 | I29: =ROUND(SUM(D29*E29*H29),2) -> 32
A30: TOTAL | I30: =I29 -> 32
A32: DESCRIÇÃO: | B32: 1.1.5 | D32: MOBILIZAÇÃO E DESMOBILIZAÇÃO DE EQUIPAMENTO DE SONDAGEM A PERCUSSÃO COM ENSAIO DE PENETRAÇÃO PADRÃO (SPT), INCLUSIVE CUSTO FIXO E VARIÁVEL
A33: CÓDIGO:
A34: DESCRIÇÃO | C34: DESCRIÇÃO | D34: Unidade | H34: Repet. | I34: Quantidade (UNID.) | J34: OBSERVAÇÕES:
D35: 1 | H35: 1 | I35: =ROUND(SUM(D35*H35),2) -> 1
A36: TOTAL | I36: =I35 -> 1
A38: DESCRIÇÃO: | B38: 1.1.6 | D38: DESMATAMENTO, DESTOCAMENTO E LIMPEZA, INCLUSIVE TRANSPORTE ATÉ CINQUENTA (50) METROS
A39: CÓDIGO:
A40: DESCRIÇÃO | C40: DESCRIÇÃO | D40: Comp. (m) | E40: Larg. (m) | H40: Repet. | I40: Área Total (m²) | J40: OBSERVAÇÕES:
D41: 10 | E41: 4 | H41: 2 | I41: =ROUND(SUM(D41*E41*H41),2) -> 80
A42: TOTAL | I42: =I41 -> 80
A44: DESCRIÇÃO: | B44: 1.1.7 | D44: ='PLANILHA ORÇAMENTÁRIA '!C18 -> ENSACAMENTO DE AREIA. AF_01/2026
A45: CÓDIGO:
A46: DESCRIÇÃO | C46: DESCRIÇÃO | D46: Comp. (m) | E46: Larg. (m) | F46: Espessura (m) | H46: Repet. | I46: Volume (m³) | J46: OBSERVAÇÕES:
C47: 6+6+4+4 | D47: =6+6+4+4 -> 20 | E47: 1 | F47: 0.5 | H47: 1 | I47: =ROUND(SUM(D47*E47*H47*F47),2) -> 10
A48: TOTAL | I48: =I47 -> 10
A50: DESCRIÇÃO: | B50: 1.1.8 | D50: ='PLANILHA ORÇAMENTÁRIA '!C19 -> ESGOTAMENTO DE VALA COM BOMBA SUBMERSÍVEL. AF_12/2022
A51: CÓDIGO:
A52: DESCRIÇÃO | C52: DESCRIÇÃO | D52: Hora (h) | H52: Repet. | I52: Hora Total (H) | J52: OBSERVAÇÕES:
D53: =40 -> 40 | H53: 1 | I53: =ROUND(SUM(D53*H53),2) -> 40
A54: TOTAL | I54: =I53 -> 40
A56: 1.2 | B56: MOBILIZAÇÃO E DESMOLIZAÇÃO DE OBRA
A57: DESCRIÇÃO: | B57: 1.2.1 | D57: ='[1]Planilha Orcamentária'!C17 -> MOBILIZAÇÃO E DESMOBILIZAÇÃO OBRA DISTANTE DE CENTRO URBANO COM VALOR ATÉ O VALOR DE 1.000.000,00
A58: CÓDIGO:
A59: DESCRIÇÃO | C59: DESCRIÇÃO | D59: % | I59: Porcentagem (%) | J59: OBSERVAÇÕES:
D60: 2 | I60: =D60 -> 2
A61: TOTAL | I61: =I60 -> 2
A63: 1.3 | B63: ADMINISTRAÇÃO LOCAL
A64: DESCRIÇÃO: | B64: 1.3.1 | D64: ='[1]Planilha Orcamentária'!C19 -> ADMINISTRAÇÃO DE CANTEIRO DE OBRA
A65: CÓDIGO:
A66: DESCRIÇÃO | C66: DESCRIÇÃO | D66: VB | I66: Mensal (mês) | J66: OBSERVAÇÕES:
D67: 3 | I67: =D67 -> 3
A68: TOTAL | I68: =I67 -> 3
A70: 1.4 | B70: MOVIMENTO DE TERRA
A71: DESCRIÇÃO: | B71: 1.4.1 | D71: ESCAVAÇÃO MECANIZADA DE VALA COM PROF. ATÉ 1,5 M (MÉDIA MONTANTE E JUSANTE/UMA COMPOSIÇÃO POR TRECHO), ESCAVADEIRA (0,8 M3), LARG. DE 1,5 M A 2,5 M, EM SOLO DE 1A CATEGORIA, EM LOCAIS COM ALTO NÍVEL DE INTERFERÊNCIA. AF_09/2024
A72: CÓDIGO:
A73: DESCRIÇÃO | C73: DESCRIÇÃO | D73: Comp. | E73: Larg. | F73: Alt.(m) | G73: Repet. | H73: Volume(m³) | I73: Volume Total (m³) | J73: OBSERVAÇÕES:
A74: ESCAVAÇÃO CORTE LADO ESQUERDO | D74: 10.1 | E74: 4.5 | F74: 4 | G74: 1 | I74: =ROUND(SUM(G74*D74*E74*F74),2) -> 181.8
A75: ESCAVAÇÃO ATERRO LADO DIREITO | D75: 10.1 | E75: 4.5 | F75: 4 | G75: 1 | I75: =ROUND(SUM(G75*D75*E75*F75),2) -> 181.8
A76: TOTAL | I76: =ROUND(SUM(I74:I75),2) -> 363.6
A78: DESCRIÇÃO: | B78: 1.4.2 | D78: REATERRO MECANIZADO DE VALA COM MINICARREGADEIRA, COM COMPACTADOR DE SOLOS DE PERCUSSÃO. AF_08/2023
A79: CÓDIGO:
A80: DESCRIÇÃO | C80: DESCRIÇÃO | D80: Comp. | E80: Larg. | F80: Alt.(m) | G80: Repet. | H80: Volume(m³) | I80: Volume Total (m³) | J80: OBSERVAÇÕES:
A81: VOLUME ESCAVADO | G81: =G74 -> 1 | H81: =I76 -> 363.6 | I81: =ROUND(SUM(G81*H81),2) -> 363.6
A82: TOTAL | I82: =ROUND(SUM(I81:I81),2) -> 363.6
A84: 1.5 | B84: INFRAESTRUTURA ( BLOCOS E ESTACAS)
A85: DESCRIÇÃO: | B85: 1.5.1 | D85: LOCAÇÃO CONVENCIONAL DE OBRA, UTILIZANDO GABARITO DE TÁBUAS CORRIDAS PONTALETADAS A CADA 1,50M - 2 UTILIZAÇÕES. AF_03/2024
A86: CÓDIGO:
A87: DESCRIÇÃO | C87: DESCRIÇÃO | D87: Comp. (m) | E87: Nº de Lados | H87: Repet. | I87: Comprimento Total (m) | J87: OBSERVAÇÕES:
A88: LOCAÇÃO DOS BLOCOS | C88: 60x60 | D88: =0.6*4 -> 2.4 | E88: 1 | H88: 3 | I88: =ROUND(SUM(D88*E88*H88),2) -> 7.2
A89: LOCAÇÃO DOS BLOCOS | C89: 480x220 | D89: =4.8*2+2.2*2 -> 14 | E89: 1 | H89: 3 | I89: =ROUND(SUM(D89*E89*H89),2) -> 42
A90: LOCACÃO SAPATA CORRIDA ALA DE CONTENÇÃO | C90: 4,17*4+4,8*2+0,4*2 | D90: =4.17*4+4.8*2+0.4*2 -> 27.08 | E90: 1 | H90: 2 | I90: =ROUND(SUM(D90*E90*H90),2) -> 54.16
A91: TOTAL | I91: =ROUND(SUM(I88:I90),2) -> 103.36
A93: DESCRIÇÃO: | B93: 1.5.2 | D93: ESCAVAÇÃO MANUAL DE VALA. AF_09/2024
A94: CÓDIGO:
A95: DESCRIÇÃO | C95: DESCRIÇÃO | D95: Comp. (m) +0,10 para cada lado | E95: Larg. (m) +0,10 para cada lado | F95: Alt.(m)+ 0,05 do lastro | G95: Repet. | I95: Volume Total (m) | J95: OBSERVAÇÕES:
A96: BLOCO 60X60CM | D96: =0.6+0.1+0.1 -> 0.8 | E96: =0.6+0.1+0.1 -> 0.8 | F96: 0.45 | G96: 4 | I96: =ROUND(SUM(D96*E96*F96*G96),2) -> 1.15
A97: BLOCO 480X220CM | D97: =4.8+0.1+0.1 -> 5 | E97: =2.2+0.1+0.1 -> 2.4 | F97: 0.85 | G97: 3 | I97: =ROUND(SUM(D97*E97*F97*G97),2) -> 30.6
A98: SAPATA DE APOIO (ALA DE CONTENÇÃO) | C98: 4,17+4,17 | D98: =4.17*2 -> 8.34 | E98: =0.8+0.1+0.1 -> 1 | F98: 0.45 | G98: 2 | I98: =ROUND(SUM(D98*E98*F98*G98),2) -> 7.51
A99: TOTAL | I99: =ROUND(SUM(I96:I98),2) -> 39.26
A101: DESCRIÇÃO: | B101: 1.5.3 | D101: ESTACA BROCA DE CONCRETO, DIÂMETRO DE 30CM, ESCAVAÇÃO MANUAL COM TRADO CONCHA, INTEIRAMENTE ARMADA. AF_05/2020
A102: CÓDIGO:
A103: DESCRIÇÃO | C103: DESCRIÇÃO | D103: Comp. (m) | E103: Repet. | I103: =I87 -> Comprimento Total (m) | J103: OBSERVAÇÕES:
D104: 6 | E104: 31 | I104: =ROUND(D104*E104,2) -> 186
A105: TOTAL | I105: =ROUND(SUM(I104:I104),2) -> 186
A107: DESCRIÇÃO: | B107: 1.5.4 | D107: PREPARO DE FUNDO DE VALA COM LARGURA MENOR QUE 1,5 M (ACERTO DO SOLO NATURAL). AF_08/2020
A108: CÓDIGO:
A109: DESCRIÇÃO | C109: DESCRIÇÃO | D109: Comp. (m) +0,10 para cada lado | E109: Larg. (m) +0,10 para cada lado | G109: Repet. | I109: Área Total (m²) | J109: OBSERVAÇÕES:
A110: =A96 -> BLOCO 60X60CM | D110: =D96 -> 0.8 | E110: =E96 -> 0.8 | G110: =G96 -> 4 | I110: =ROUND(SUM(D110*E110*G110),2) -> 2.56
A111: =A97 -> BLOCO 480X220CM | D111: =D97 -> 5 | E111: =E97 -> 2.4 | G111: =G97 -> 3 | I111: =ROUND(SUM(D111*E111*G111),2) -> 36
A112: =A98 -> SAPATA DE APOIO (ALA DE CONTENÇÃO) | D112: =D98 -> 8.34 | E112: =E98 -> 1 | G112: =G98 -> 2 | I112: =ROUND(SUM(D112*E112*G112),2) -> 16.68
A113: TOTAL | I113: =ROUND(SUM(I110:I112),2) -> 55.24
A115: DESCRIÇÃO: | B115: 1.5.5 | D115: ='[1]Planilha Orcamentária'!C30 -> LASTRO DE CONCRETO MAGRO, APLICADO EM BLOCOS DE COROAMENTO OU SAPATAS. AF_08/2017
A116: CÓDIGO:
A117: DESCRIÇÃO | C117: DESCRIÇÃO | D117: Comp. (m) +0,10 para cada lado | E117: Larg. (m) +0,10 para cada lado | F117: Alt.(m)+ 0,05 do lastro | G117: Repet. | I117: Volume Total (m³) | J117: OBSERVAÇÕES:
A118: =A110 -> BLOCO 60X60CM | D118: =D110 -> 0.8 | E118: =E110 -> 0.8 | F118: 0.05 | G118: =G110 -> 4 | I118: =ROUND(SUM(D118*E118*F118*G118),2) -> 0.13
...

Sheet CRONOGRAMA 
A1: CRONOGRAMA FÍSICO-FINANCEIRO
A3: OBRA: EXECUÇÃO DE PONTE MISTA EM CONCRETO ARMADO E VIGAS METÁLICAS SOBRE O CÓRREGO DO RIBEIRÃO, LOCALIZADA NA COMUNIDADE DE BARROCÃO, NO MUNICÍPIO DE OLHOS D'ÁGUA/MG. | G3: DATA: | I3: =TODAY() -> 46204
A4: LOCAL: CÓRREGO DO RIBEIRÃO, LOCALIZADA NA COMUNIDADE DE BARROCÃO, NO MUNICÍPIO DE OLHOS D'ÁGUA/MG. | G4: ART.:
A5: RESPONSÁVEL TECNICO: KÁREN MARIANA SOARES VIEIRA | G5: FORMA DE EXECUÇÃO:
A6: REGIÃO/MÊS DE REFERÊNCIA: SICOR 01/2026 DESONERADA, SINAPI 01/2026 DESONERADA, SICRO 01/2026 DESONERADA | G6: ( ) | H6: DIRETA | I6: ( X ) | J6: INDIRETA
A7: COMPOSIÇÃO/DEMONSTRATIVO DE BDI - EM ANEXO | G7: % ISS MUNICIPAL: | H7: 0.03 | I7: BDI: | J7: 0.2935
A9: 1 | B9: ETAPAS/DESCRIÇÃO | C9: FÍSICO/ FINANCEIRO | D9: TOTAL ETAPAS | E9: PREVISÃO DE EXECUÇÃO DAS OBRAS: 3 MÊS | G9: PREVISÃO DE EXECUÇÃO DAS OBRAS: 3 MÊS | I9: PREVISÃO DE EXECUÇÃO DAS OBRAS: 3 MÊS
E11: MÊS 1 | G11: MÊS 2 | I11: MÊS 3
A12: 1.1 | B12: ='[2]PLANILHA ORÇAMENTÁRIA '!B12:H12 -> SERVIÇOS PRELIMINARES | C12: Físico % | D12: =(D13/$D$31) -> 0.064358217 | E12: 0.35 | G12: 0.35 | I12: 0.3
C13: Financeiro | D13: ='PLANILHA ORÇAMENTÁRIA '!J11 -> 28087.06 | E13: =ROUND(SUM(E12*$D$13),2) -> 9830.47 | G13: =ROUND(SUM(G12*$D$13),2) -> 9830.47 | I13: =ROUND(SUM(I12*$D$13),2) -> 8426.12
A14: 1.2 | B14: MOBILIZAÇÃO E DESMOBILIZAÇÃO DE OBRA | C14: Físico % | D14: =(D15/$D$31) -> 0.0099003565 | E14: 0.3 | G14: 0.4 | I14: 0.3
C15: Financeiro | D15: ='PLANILHA ORÇAMENTÁRIA '!J20 -> 4320.69 | E15: =ROUND(SUM(E14*D15),2) -> 1296.21 | G15: =ROUND(SUM(G14*$D$15),2) -> 1728.28 | I15: =ROUND(SUM(I14*$D$15),2) -> 1296.21
A16: 1.3 | B16: ADIMINISTRAÇÃO LOCAL | C16: Físico % | D16: =(D17/$D$31) -> 0.0358711 | E16: 0.3 | G16: 0.4 | I16: 0.3
C17: Financeiro | D17: ='PLANILHA ORÇAMENTÁRIA '!J22 -> 15654.78 | E17: =ROUND(SUM(E16*$D$17),2) -> 4696.43 | G17: =ROUND(SUM(G16*$D$17),2) -> 6261.91 | I17: =ROUND(SUM(I16*$D$17),2) -> 4696.43
A18: 1.4 | B18: MOVIMENTO DE TERRA | C18: Físico % | D18: =(D19/$D$31) -> 0.036325206 | E18: 0.5 | I18: 0.5
C19: Financeiro | D19: ='PLANILHA ORÇAMENTÁRIA '!J24 -> 15852.96 | E19: =ROUND(SUM(E18*$D$19),2) -> 7926.48 | I19: =ROUND(SUM(I18*$D$19),2) -> 7926.48
A20: 1.5 | B20: INFRAESTRUTURA | C20: Físico % | D20: =(D21/$D$31) -> 0.29474587 | E20: 0.75 | G20: 0.25
C21: Financeiro | D21: ='PLANILHA ORÇAMENTÁRIA '!J27 -> 128632.29 | E21: =ROUND(SUM(E20*$D$21),2) -> 96474.22 | G21: =ROUND(SUM(G20*$D$21),2) -> 32158.07
A22: 1.6 | B22: MESOESTRUTURA(CORTINAS E PILARES) | C22: Físico % | D22: =(D23/$D$31) -> 0.31889313 | G22: 0.75 | I22: 0.25
C23: Financeiro | D23: ='PLANILHA ORÇAMENTÁRIA '!J40 -> 139170.58 | G23: =ROUND(SUM(G22*$D$23),2) -> 104377.94 | I23: =ROUND(SUM(I22*$D$23),2) -> 34792.65
A24: 1.7 | B24: PERFIL METÁLICO | C24: Físico % | D24: =(D25/$D$31) -> 0.048939454 | I24: 1
C25: Financeiro | D25: ='PLANILHA ORÇAMENTÁRIA '!J48 -> 21358.04 | I25: =ROUND(SUM(I24*D25),2) -> 21358.04
A26: 1.8 | B26: SUPERESTRUTURA (GUARDA-RODAS E LAJE) | C26: Físico % | D26: =(D27/$D$31) -> 0.18183372 | I26: 1
C27: Financeiro | D27: ='PLANILHA ORÇAMENTÁRIA '!J55 -> 79355.44 | I27: =ROUND(SUM(I26*D27),2) -> 79355.44
A28: 1.9 | B28: SERVIÇOS COMPLEMENTARES | C28: Físico % | D28: =(D29/$D$31) -> 0.0091329493 | I28: 1
C29: Financeiro | D29: ='PLANILHA ORÇAMENTÁRIA '!J65 -> 3985.78 | I29: =ROUND(SUM(I28*$D$29),2) -> 3985.78
A30: TOTAL | C30: Físico % | D30: =ROUND(SUM(D12+D14+D16+D18+D20+D22+D24+D26+D28),2) -> 1 | E30: =SUM(E31/$D$31) -> 0.27547882 | G30: =SUM(G31/$D$31) -> 0.35369028 | I30: =SUM(I31/$D$31) -> 0.37083093
C31: Financeiro | D31: =ROUND(D13+D15+D17+D19+D21+D23+D25+D27+D29,2) -> 436417.62 | E31: =ROUND(SUM(E13+E15+E17+E19+E21+E23+E25+E27+E29),2) -> 120223.81 | G31: =ROUND(SUM(G13+G15+G17+G19+G21+G23+G25+G27+G29),2) -> 154356.67 | I31: =ROUND(SUM(I13+I15+I17+I19+I21+I23+I25+I27+I29),2) -> 161837.15
B38: KÁREN MARIANA SOARES VIEIRA | F38: RODRIGO VIEIRA DE MATOS
B39: ENGENHEIRA CIVIL 332.425/D-MG | F39: PREFEITO MUNICIPAL DE OLHOS D'ÁGUA-MG

Sheet RESUMO DE AÇO 
B1: RESUMO DE AÇO
B2: RELAÇÃO DE AÇO BLOCOS DE COROAMENTO
B3: AÇO | C3: N | D3: DIAM (MM) | E3: QUANT | F3: C.UNIT (CM) | G3: C. TOTAL (CM)
B4: CA-50 | C4: 1 | D4: 6.3 | E4: =4*3 -> 12 | F4: 240 | G4: =ROUND(SUM(F4*E4),2) -> 2880
C5: 2 | D5: 6.3 | E5: =4*8 -> 32 | F5: 200 | G5: =ROUND(SUM(F5*E5),2) -> 6400
C6: 3 | D6: 10.0 | E6: =3*7 -> 21 | F6: 1380 | G6: =ROUND(SUM(F6*E6),2) -> 28980
C7: 4 | D7: 12.5 | E7: =3*40 -> 120 | F7: 580 | G7: =ROUND(SUM(F7*E7),2) -> 69600
C8: 5 | E8: =3*18 -> 54 | F8: 1100 | G8: =ROUND(SUM(F8*E8),2) -> 59400
B9: RESUMO DE AÇO BLOCOS DE COROAMENTO
B10: AÇO | C10: DIAM (MM) | D10: C. TOTAL (M) | E10: PESO (KG) | F10: QUANT. + 10% (Barras) | G10: PESO + 10% (KG)
B11: CA-50 | C11: =D4 -> 6.3 | D11: {=ROUND(SUM(G4:G5/100),2)} -> 92.8 | E11: 0.245 | F11: =ROUND(SUM((D11*1.1)/12),0) -> 9 | G11: =ROUND(SUM((D11*1.1)*E11),2) -> 25.01
C12: 10.0 | D12: =ROUND(SUM(G6/100),2) -> 289.8 | E12: 0.617 | F12: =ROUND(SUM((D12*1.1)/12),0) -> 27 | G12: =ROUND(SUM((D12*1.1)*E12),2) -> 196.69
C13: 12.5 | D13: {=ROUND(SUM((G7:G8)/100),2)} -> 1290 | E13: 0.963 | F13: =ROUND(SUM((D13*1.1)/12),0) -> 118 | G13: =ROUND(SUM((D13*1.1)*E13),2) -> 1366.5
B14: TOTAL | G14: =ROUND(SUM(G11:G13),2) -> 1588.2
B16: RELAÇÃO DE AÇO PILAR DE ARRANQUE
B17: AÇO | C17: N | D17: DIAM (MM) | E17: QUANT | F17: C.UNIT (CM) | G17: C. TOTAL (CM)
B18: CA-50 | C18: 1 | D18: 16 | E18: =(4*4)+(4*24)+(2*28) -> 168 | F18: =(4*4*125)+(4*24*154)+(2*28*154) -> 25408 | G18: =F18 -> 25408
C19: 2 | D19: 6.3 | E19: =(4*2)+(4*5)+(2*5) -> 38 | F19: =(4*2*160)+(4*5*396)+(2*5*485) -> 14050 | G19: =F19 -> 14050
C20: 3 | D20: 6.3 | E20: =(4*5*5)+(2*5*6) -> 160 | F20: =(4*5*5*115)+(2*5*6*135) -> 19600 | G20: =F20 -> 19600
B21: RESUMO DE AÇO PILAR DE ARRANQUE
B22: AÇO | C22: DIAM (MM) | D22: C. TOTAL (M) | E22: PESO (KG) | F22: QUANT. + 10% (Barras) | G22: PESO + 10% (KG)
B23: CA-50 | C23: =D18 -> 16 | D23: =ROUND(SUM(G18/100),2) -> 254.08 | E23: 1.578 | F23: =ROUND(SUM((D23*1.1)/12),0) -> 23 | G23: =ROUND(SUM((D23*1.1)*E23),2) -> 441.03
C24: 6.3 | D24: {=ROUND(SUM(G19:G20/100),2)} -> 336.5 | E24: 0.245 | F24: =ROUND(SUM((D24*1.1)/12),0) -> 31 | G24: =ROUND(SUM((D24*1.1)*E24),2) -> 90.69
B25: TOTAL | G25: =ROUND(SUM(G23:G24),2) -> 531.72
B27: RELAÇÃO DE AÇO PILAR SUPERIORES
B28: AÇO | C28: N | D28: DIAM (MM) | E28: QUANT | F28: C.UNIT (CM) | G28: C. TOTAL (CM)
B29: CA-50 | C29: 1 | D29: 16 | E29: =(4*4)+(4*24)+(2*28) -> 168 | F29: =(4*4*500)+(4*24*467)+(2*28*467) -> 78984 | G29: =F29 -> 78984
C30: 2 | D30: 6.3 | E30: =(4*35)+(4*31)+(2*31) -> 326 | F30: =(4*35*160)+(4*31*396)+(2*31*485) -> 101574 | G30: =F30 -> 101574
C31: 3 | D31: 6.3 | E31: =(4*5*31)+(2*5*31) -> 930 | F31: =(4*5*31*115)+(2*5*31*135) -> 113150 | G31: =F31 -> 113150
B32: RELAÇÃO DE AÇO PILAR SUPERIORES
B33: AÇO | C33: DIAM (MM) | D33: C. TOTAL (M) | E33: PESO (KG) | F33: QUANT. + 10% (Barras) | G33: PESO + 10% (KG)
B34: CA-50 | C34: =D29 -> 16 | D34: =ROUND(SUM(G29/100),2) -> 789.84 | E34: 1.578 | F34: =ROUND(SUM((D34*1.1)/12),0) -> 72 | G34: =ROUND(SUM((D34*1.1)*E34),2) -> 1371
C35: 6.3 | D35: {=ROUND(SUM(G30:G31/100),2)} -> 2147.24 | E35: 0.245 | F35: =ROUND(SUM((D35*1.1)/12),0) -> 197 | G35: =ROUND(SUM((D35*1.1)*E35),2) -> 578.68
B36: TOTAL | G36: =ROUND(SUM(G34:G35),2) -> 1949.68
B38: RELAÇÃO DE AÇO LAJE
B39: AÇO | C39: N | D39: DIAM (MM) | E39: QUANT | F39: C.UNIT (CM) | G39: C. TOTAL (CM)
B40: CA-50 | C40: 1 | D40: 8.0 | E40: =80*2 -> 160 | F40: 520 | G40: =F40*E40 -> 83200
C41: 2 | D41: 10.0 | E41: =80*2 -> 160 | F41: 520 | G41: =F41*E41 -> 83200
C42: 3 | D42: 10.0 | E42: =28*2 -> 56 | F42: =1015+280 -> 1295 | G42: =F42*E42 -> 72520
C43: 4 | D43: 10.0 | E43: =35*2 -> 70 | F43: 1295 | G43: =F43*E43 -> 90650
B44: RELAÇÃO DE AÇO LAJE
B45: AÇO | C45: DIAM (MM) | D45: C. TOTAL (M) | E45: PESO (KG) | F45: QUANT. + 10% (Barras) | G45: PESO + 10% (KG)
B46: CA-50 | C46: =D40 -> 8.0 | D46: =ROUND(SUM(G40/100),2) -> 832 | E46: 0.395 | F46: =ROUND(SUM((D46*1.1)/12),0) -> 76 | G46: =ROUND(SUM((D46*1.1)*E46),2) -> 361.5
C47: 10.0 | D47: {=ROUND(SUM(G41:G43/100),2)} -> 2463.7 | E47: 0.617 | F47: =ROUND(SUM((D47*1.1)/12),0) -> 226 | G47: =ROUND(SUM((D47*1.1)*E47),2) -> 1672.11
B48: TOTAL | G48: =ROUND(SUM(G46:G47),2) -> 2033.61
B50: RELAÇÃO DE AÇO GUARDA-CORPO
B51: AÇO | C51: N | D51: DIAM (MM) | E51: QUANT | F51: C.UNIT (CM) | G51: C. TOTAL (CM)
B52: CA-50 | C52: 1 | D52: 6.3 | E52: =4*12 -> 48 | F52: 1200 | G52: =F52*E52 -> 57600
C53: 2 | D53: 10.0 | E53: =4*160 -> 640 | F53: 110 | G53: =F53*E53 -> 70400
C54: 3 | D54: 12.5 | E54: =4*80 -> 320 | F54: 200 | G54: =F54*E54 -> 64000
B55: RELAÇÃO DE AÇO GUARDA-CORPO
B56: AÇO | C56: DIAM (MM) | D56: C. TOTAL (M) | E56: PESO (KG) | F56: QUANT. + 10% (Barras) | G56: PESO + 10% (KG)
B57: CA-50 | C57: =D52 -> 6.3 | D57: =ROUND(SUM(G52/100),2) -> 576 | E57: 0.245 | F57: =ROUND(SUM((D57*1.1)/12),0) -> 53 | G57: =ROUND(SUM((D57*1.1)*E57),2) -> 155.23
C58: 10.0 | D58: =ROUND(SUM(G53/100),2) -> 704 | E58: 0.617 | F58: =ROUND(SUM((D58*1.1)/12),0) -> 65 | G58: =ROUND(SUM((D58*1.1)*E58),2) -> 477.8
C59: 12.5 | D59: =ROUND(SUM(G54/100),2) -> 640 | E59: 0.963 | F59: =ROUND(SUM((D59*1.1)/12),0) -> 59 | G59: =ROUND(SUM((D59*1.1)*E59),2) -> 677.95
B60: TOTAL | G60: =ROUND(SUM(G57:G59),2) -> 1310.98
B62: RELAÇÃO DE AÇO CORTINA
B63: AÇO | C63: N | D63: DIAM (MM) | E63: QUANT | F63: C.UNIT (CM) | G63: C. TOTAL (CM)
B64: CA-50 | C64: 1 | D64: 8.0 | E64: =2*4*2 -> 16 | F64: 255 | G64: =F64*E64 -> 4080
C65: 2 | D65: 8.0 | E65: =2*4*2*2 -> 32 | F65: 510 | G65: =F65*E65 -> 16320
C66: 3 | D66: 8.0 | E66: =2*2*34 -> 136 | F66: 1240 | G66: =F66*E66 -> 168640
C67: 4 | D67: 10.0 | E67: =2*2*27 -> 108 | F67: =MEDIAN(540+590)/2 -> 565 | G67: =F67*E67 -> 61020
C68: 5 | D68: 10.0 | E68: =2*2*28 -> 112 | F68: 590 | G68: =F68*E68 -> 66080
C69: 6 | D69: 8.0 | E69: =2*25 -> 50 | F69: 240 | G69: =F69*E69 -> 12000
C70: 7 | D70: 16.0 | E70: =4*2 -> 8 | F70: 712 | G70: =F70*E70 -> 5696
C71: 8 | D71: 8.0 | E71: =(2*27+2*27)*2 -> 216 | F71: 260 | G71: =F71*E71 -> 56160
B72: RELAÇÃO DE AÇO CORTINA
B73: AÇO | C73: DIAM (MM) | D73: C. TOTAL (M) | E73: PESO (KG) | F73: QUANT. + 10% (Barras) | G73: PESO + 10% (KG)
B74: CA-50 | C74: =D64 -> 8.0 | D74: {=ROUND(SUM(((G64:G66)+G69+G71)/100),2)} -> 3935.2 | E74: 0.395 | F74: =ROUND(SUM((D74*1.1)/12),0) -> 361 | G74: =ROUND(SUM((D74*1.1)*E74),2) -> 1709.84
C75: 10.0 | D75: {=ROUND(SUM(G67:G68/100),2)} -> 1271 | E75: 0.617 | F75: =ROUND(SUM((D75*1.1)/12),0) -> 117 | G75: =ROUND(SUM((D75*1.1)*E75),2) -> 862.63
C76: 16.0 | D76: =ROUND(SUM(G70/100),2) -> 56.96 | E76: 1.578 | F76: =ROUND(SUM((D76*1.1)/12),0) -> 5 | G76: =ROUND(SUM((D76*1.1)*E76),2) -> 98.87
B77: TOTAL | G77: =ROUND(SUM(G74:G75),2) -> 2572.47

Sheet COMPOSIÇÃO
A1: COMPOSIÇÃO
A3: OBRA: EXECUÇÃO DE PONTE MISTA EM CONCRETO ARMADO E VIGAS METÁLICAS SOBRE O CÓRREGO DO RIBEIRÃO, LOCALIZADA NA COMUNIDADE DE BARROCÃO, NO MUNICÍPIO DE OLHOS D'ÁGUA/MG. | G3: DATA: | I3: =TODAY() -> 46204
A4: LOCAL: CÓRREGO DO RIBEIRÃO, LOCALIZADA NA COMUNIDADE DE BARROCÃO, NO MUNICÍPIO DE OLHOS D'ÁGUA/MG. | G4: ART.:
A5: RESPONSÁVEL TECNICO: KÁREN MARIANA SOARES VIEIRA | G5: FORMA DE EXECUÇÃO:
A6: REGIÃO/MÊS DE REFERÊNCIA: SICOR 01/2026 DESONERADA, SINAPI 01/2026 DESONERADA, SICRO 01/2026 DESONERADA | G6: ( ) | H6: DIRETA | I6: ( X ) | J6: INDIRETA
A7: COMPOSIÇÃO/DEMONSTRATIVO DE BDI - EM ANEXO | G7: % ISS MUNICIPAL: | H7: 0.03 | I7: BDI: | J7: 0.2935
A9: ​COMP-ADM​ AMINISTRAÇÃO LOCAL​ (MêS)
A10: Mão de Obra | F10: FONTE | G10: UNID | H10: COEFICIENTE | I10: PREÇO UNITÁRIO | J10: TOTAL
A11: 00040818 | B11: ENCARREGADO GERAL DE OBRAS (MENSALISTA) | F11: SINAPI | G11: MES | H11: 0.2 | I11: 8656.33 | J11: 1731.27
A12: TOTAL Mão de Obra: | G12: 1731.27 | H12: TOTAL Mão de Obra: | J12: 1731.27
A13: Mão de Obra com Encargos Complementares | F13: FONTE | G13: UNID | H13: COEFICIENTE | I13: PREÇO UNITÁRIO | J13: TOTAL
A14: 93565 | B14: ENGENHEIRO CIVIL DE OBRA JUNIOR COM ENCARGOS COMPLEMENTARES | F14: SINAPI | G14: MES | H14: 0.1 | I14: 23029.46 | J14: 2302.95
H15: TOTAL Mão de Obra com Encargos Complementares: | J15: 2302.95
J16: 4034.22
B21: KÁREN MARIANA SOARES VIEIRA | F21: RODRIGO VIEIRA DE MATOS
B22: ENGENHEIRA CIVIL 332.425/D-MG | F22: PREFEITO MUNICIPAL DE OLHOS D'ÁGUA-MG
